BEGIN:VCALENDAR
VERSION:2.0
PRODID:-//Deercreek Country Club Owners Association - ECPv6.15.20//NONSGML v1.0//EN
CALSCALE:GREGORIAN
METHOD:PUBLISH
X-WR-CALNAME:Deercreek Country Club Owners Association
X-ORIGINAL-URL:https://www.deercreekcc.com
X-WR-CALDESC:Events for Deercreek Country Club Owners Association
REFRESH-INTERVAL;VALUE=DURATION:PT1H
X-Robots-Tag:noindex
X-PUBLISHED-TTL:PT1H
BEGIN:VTIMEZONE
TZID:America/New_York
BEGIN:DAYLIGHT
TZOFFSETFROM:-0500
TZOFFSETTO:-0400
TZNAME:EDT
DTSTART:20220313T070000
END:DAYLIGHT
BEGIN:STANDARD
TZOFFSETFROM:-0400
TZOFFSETTO:-0500
TZNAME:EST
DTSTART:20221106T060000
END:STANDARD
BEGIN:DAYLIGHT
TZOFFSETFROM:-0500
TZOFFSETTO:-0400
TZNAME:EDT
DTSTART:20230312T070000
END:DAYLIGHT
BEGIN:STANDARD
TZOFFSETFROM:-0400
TZOFFSETTO:-0500
TZNAME:EST
DTSTART:20231105T060000
END:STANDARD
BEGIN:DAYLIGHT
TZOFFSETFROM:-0500
TZOFFSETTO:-0400
TZNAME:EDT
DTSTART:20240310T070000
END:DAYLIGHT
BEGIN:STANDARD
TZOFFSETFROM:-0400
TZOFFSETTO:-0500
TZNAME:EST
DTSTART:20241103T060000
END:STANDARD
END:VTIMEZONE
BEGIN:VEVENT
DTSTART;TZID=America/New_York:20230801T180000
DTEND;TZID=America/New_York:20230801T180000
DTSTAMP:20260420T110328
CREATED:20221219T175751Z
LAST-MODIFIED:20230410T171130Z
UID:10002297-1690912800-1690912800@www.deercreekcc.com
SUMMARY:ARB
DESCRIPTION:Architectural Review Board\nMeets first Tuesday of each month @ 7:00 pm \nat the Clubhouse
URL:https://www.deercreekcc.com/events/arb-2023-05-02/2023-08-01/
LOCATION:Deercreek Clubhouse\, FL
CATEGORIES:ARB
END:VEVENT
BEGIN:VEVENT
DTSTART;TZID=America/New_York:20230802T180000
DTEND;TZID=America/New_York:20230802T190000
DTSTAMP:20260420T110328
CREATED:20230623T192859Z
LAST-MODIFIED:20230717T221058Z
UID:10002373-1690999200-1691002800@www.deercreekcc.com
SUMMARY:Change of Covenant Meeting
DESCRIPTION:Short meeting for the covenant updates encouraging discussion and feedback for the proposed changes\nTuesday July 18 6pmTuesday July 25 10am \nCovenant Update All Community Meeting:\nShort meeting to present the proposed changes\, the legal wording and answer any questions regarding the issues and process\nWednesday August 2 6pm\nTuesday August 8 11am\nWednesday August 16 6pm \nAll of the above meetings will be held in the Ballroom at Deercreek Country Club.\nAll meetings will last approx one hour.
URL:https://www.deercreekcc.com/events/change-of-covenant-meeting-3/
LOCATION:Deercreek Clubhouse Ballroom\, FL\, United States
CATEGORIES:DCCOA Board
END:VEVENT
BEGIN:VEVENT
DTSTART;TZID=America/New_York:20230808T110000
DTEND;TZID=America/New_York:20230808T120000
DTSTAMP:20260420T110328
CREATED:20230623T192950Z
LAST-MODIFIED:20230717T220951Z
UID:10002374-1691492400-1691496000@www.deercreekcc.com
SUMMARY:Change of Covenant Meeting
DESCRIPTION:Short meeting for the covenant updates encouraging discussion and feedback for the proposed changes\nTuesday July 18 6pmTuesday July 25 10am \nCovenant Update All Community Meeting:\nShort meeting to present the proposed changes\, the legal wording and answer any questions regarding the issues and process\nWednesday August 2 6pm\nTuesday August 8 11am\nWednesday August 16 6pm \nAll of the above meetings will be held in the Ballroom at Deercreek Country Club.\nAll meetings will last approx one hour.
URL:https://www.deercreekcc.com/events/change-of-covenant-meeting-4/
LOCATION:Deercreek Clubhouse Ballroom\, FL\, United States
END:VEVENT
BEGIN:VEVENT
DTSTART;TZID=America/New_York:20230813T103000
DTEND;TZID=America/New_York:20230813T103000
DTSTAMP:20260420T110328
CREATED:20200823T140624Z
LAST-MODIFIED:20200823T141426Z
UID:10001996-1691922600-1691922600@www.deercreekcc.com
SUMMARY:Alpha Omega Truck Pick Up
DESCRIPTION:
URL:https://www.deercreekcc.com/events/alpha-omega-truck-pick-up-2/2023-08-13/
LOCATION:FL\, United States
END:VEVENT
BEGIN:VEVENT
DTSTART;TZID=America/New_York:20230814T180000
DTEND;TZID=America/New_York:20230814T180000
DTSTAMP:20260420T110328
CREATED:20221220T174451Z
LAST-MODIFIED:20230410T214355Z
UID:10002090-1692036000-1692036000@www.deercreekcc.com
SUMMARY:Common Property
DESCRIPTION:Common Property\nMeets the second Monday of each month @ 6 pm \nJoin Zoom Meeting \nhttps://us02web.zoom.us/j/3915258425  \nMeeting ID: 391 525 8425 \nOne tap mobile\n+13052241968\,\,3915258425# US\n+13017158592\,\,3915258425# US (Washington DC) \nDial by your location \n+1 305 224 1968 US \nMeeting ID: 391 525 8425
URL:https://www.deercreekcc.com/events/common-property-5/2023-08-14/
LOCATION:Deercreek Clubhouse\, FL
CATEGORIES:Common Property
END:VEVENT
BEGIN:VEVENT
DTSTART;TZID=America/New_York:20230814T180000
DTEND;TZID=America/New_York:20230814T180000
DTSTAMP:20260420T110328
CREATED:20221220T184527Z
LAST-MODIFIED:20230511T140025Z
UID:10002335-1692036000-1692036000@www.deercreekcc.com
SUMMARY:Recreation
DESCRIPTION:The Recreation Committee
URL:https://www.deercreekcc.com/events/recreation-2023-08-07/
LOCATION:Deercreek Clubhouse\, FL
CATEGORIES:Recreation
END:VEVENT
BEGIN:VEVENT
DTSTART;TZID=America/New_York:20230815T180000
DTEND;TZID=America/New_York:20230815T180000
DTSTAMP:20260420T110328
CREATED:20221220T180114Z
LAST-MODIFIED:20230727T231049Z
UID:10002312-1692122400-1692122400@www.deercreekcc.com
SUMMARY:Finance
DESCRIPTION:FINANCE\nMeets the third Tuesday of each month @ 6:00 pm
URL:https://www.deercreekcc.com/events/finance-5-2023-08-15/
LOCATION:Deercreek Clubhouse\, FL
CATEGORIES:Finance
END:VEVENT
BEGIN:VEVENT
DTSTART;TZID=America/New_York:20230816T180000
DTEND;TZID=America/New_York:20230816T190000
DTSTAMP:20260420T110328
CREATED:20230623T193035Z
LAST-MODIFIED:20230717T220941Z
UID:10002375-1692208800-1692212400@www.deercreekcc.com
SUMMARY:Change of Covenant Meeting
DESCRIPTION:Short meeting for the covenant updates encouraging discussion and feedback for the proposed changes\nTuesday July 18 6pmTuesday July 25 10am \nCovenant Update All Community Meeting:\nShort meeting to present the proposed changes\, the legal wording and answer any questions regarding the issues and process\nWednesday August 2 6pm\nTuesday August 8 11am\nWednesday August 16 6pm \nAll of the above meetings will be held in the Ballroom at Deercreek Country Club.\nAll meetings will last approx one hour.
URL:https://www.deercreekcc.com/events/change-of-covenant-meeting-5/
LOCATION:Deercreek Clubhouse Ballroom\, FL\, United States
END:VEVENT
BEGIN:VEVENT
DTSTART;TZID=America/New_York:20230821T100000
DTEND;TZID=America/New_York:20230821T113000
DTSTAMP:20260420T110328
CREATED:20230411T162052Z
LAST-MODIFIED:20230720T154055Z
UID:10002366-1692612000-1692617400@www.deercreekcc.com
SUMMARY:Book Club
DESCRIPTION:The Bean Trees (1988) Barbara Kingsolver\, Harper Perennial Reissue\, May 2013\, paperback 246 pp \nDISCUSSION LEADER: Patricia Sterling \nGeneral Fiction / A young woman with a strong spirit and a warm heart\, who wants a better life outside impoverished Kentucky\, arrives at new meanings for community\, friendship and survival in Arizona.
URL:https://www.deercreekcc.com/events/book-club-august-2023/
LOCATION:Meetings are held in the Ladies Card Room of the Clubhouse\, FL\, United States
CATEGORIES:Book Club
ATTACH;FMTTYPE=image/jpeg:https://www.deercreekcc.com/wp-content/uploads/August23-Book-3.jpg
ORGANIZER;CN="Patricia Sterling":MAILTO:patriciasterling@gmail.com
END:VEVENT
BEGIN:VEVENT
DTSTART;TZID=America/New_York:20230821T180000
DTEND;TZID=America/New_York:20230821T180000
DTSTAMP:20260420T110328
CREATED:20221220T180831Z
LAST-MODIFIED:20230713T211521Z
UID:10002320-1692640800-1692640800@www.deercreekcc.com
SUMMARY:Fine Appeals
DESCRIPTION:Fine Appeals Committee\nMeets the third Monday of each month @ 6:00 pm
URL:https://www.deercreekcc.com/events/covenant-enforcement-4/2023-08-21/
LOCATION:Deercreek Clubhouse\, FL
CATEGORIES:Fine Appeals
END:VEVENT
BEGIN:VEVENT
DTSTART;TZID=America/New_York:20230822T160000
DTEND;TZID=America/New_York:20230822T160000
DTSTAMP:20260420T110328
CREATED:20211229T191228Z
LAST-MODIFIED:20230811T162044Z
UID:10002241-1692720000-1692720000@www.deercreekcc.com
SUMMARY:DCCOA Board
DESCRIPTION:Check the newsletter for location and/or teleconferencing information.
URL:https://www.deercreekcc.com/events/dccoa-board-2-2022-11-29-2023-08-22/
LOCATION:Deercreek Clubhouse\, FL
CATEGORIES:DCCOA Board
END:VEVENT
END:VCALENDAR