BEGIN:VCALENDAR
VERSION:2.0
PRODID:-//Deercreek Country Club Owners Association - ECPv6.15.20//NONSGML v1.0//EN
CALSCALE:GREGORIAN
METHOD:PUBLISH
X-WR-CALNAME:Deercreek Country Club Owners Association
X-ORIGINAL-URL:https://www.deercreekcc.com
X-WR-CALDESC:Events for Deercreek Country Club Owners Association
REFRESH-INTERVAL;VALUE=DURATION:PT1H
X-Robots-Tag:noindex
X-PUBLISHED-TTL:PT1H
BEGIN:VTIMEZONE
TZID:America/New_York
BEGIN:DAYLIGHT
TZOFFSETFROM:-0500
TZOFFSETTO:-0400
TZNAME:EDT
DTSTART:20220313T070000
END:DAYLIGHT
BEGIN:STANDARD
TZOFFSETFROM:-0400
TZOFFSETTO:-0500
TZNAME:EST
DTSTART:20221106T060000
END:STANDARD
BEGIN:DAYLIGHT
TZOFFSETFROM:-0500
TZOFFSETTO:-0400
TZNAME:EDT
DTSTART:20230312T070000
END:DAYLIGHT
BEGIN:STANDARD
TZOFFSETFROM:-0400
TZOFFSETTO:-0500
TZNAME:EST
DTSTART:20231105T060000
END:STANDARD
BEGIN:DAYLIGHT
TZOFFSETFROM:-0500
TZOFFSETTO:-0400
TZNAME:EDT
DTSTART:20240310T070000
END:DAYLIGHT
BEGIN:STANDARD
TZOFFSETFROM:-0400
TZOFFSETTO:-0500
TZNAME:EST
DTSTART:20241103T060000
END:STANDARD
END:VTIMEZONE
BEGIN:VEVENT
DTSTART;TZID=America/New_York:20230710T180000
DTEND;TZID=America/New_York:20230710T180000
DTSTAMP:20260420T122618
CREATED:20221220T174451Z
LAST-MODIFIED:20230410T214355Z
UID:10002089-1689012000-1689012000@www.deercreekcc.com
SUMMARY:Common Property
DESCRIPTION:Common Property\nMeets the second Monday of each month @ 6 pm \nJoin Zoom Meeting \nhttps://us02web.zoom.us/j/3915258425  \nMeeting ID: 391 525 8425 \nOne tap mobile\n+13052241968\,\,3915258425# US\n+13017158592\,\,3915258425# US (Washington DC) \nDial by your location \n+1 305 224 1968 US \nMeeting ID: 391 525 8425
URL:https://www.deercreekcc.com/events/common-property-5/2023-07-10/
LOCATION:Deercreek Clubhouse\, FL
CATEGORIES:Common Property
END:VEVENT
BEGIN:VEVENT
DTSTART;TZID=America/New_York:20230711T170000
DTEND;TZID=America/New_York:20230711T170000
DTSTAMP:20260420T122618
CREATED:20230118T173518Z
LAST-MODIFIED:20230119T161522Z
UID:10002342-1689094800-1689094800@www.deercreekcc.com
SUMMARY:Communications Committee
DESCRIPTION:
URL:https://www.deercreekcc.com/events/communications-committee/2023-07-11/
LOCATION:FL
CATEGORIES:Communications
ORGANIZER;CN="Heather Cole":MAILTO:communications@deercreekcc.com
END:VEVENT
BEGIN:VEVENT
DTSTART;TZID=America/New_York:20230713T103000
DTEND;TZID=America/New_York:20230713T103000
DTSTAMP:20260420T122618
CREATED:20200823T140624Z
LAST-MODIFIED:20200823T141426Z
UID:10001995-1689244200-1689244200@www.deercreekcc.com
SUMMARY:Alpha Omega Truck Pick Up
DESCRIPTION:
URL:https://www.deercreekcc.com/events/alpha-omega-truck-pick-up-2/2023-07-13/
LOCATION:FL\, United States
END:VEVENT
BEGIN:VEVENT
DTSTART;TZID=America/New_York:20230717T100000
DTEND;TZID=America/New_York:20230717T113000
DTSTAMP:20260420T122618
CREATED:20230405T164041Z
LAST-MODIFIED:20230426T145451Z
UID:10002362-1689588000-1689593400@www.deercreekcc.com
SUMMARY:Book Club
DESCRIPTION:The Magnolia Palace (2022)\, Fiona Davis\, hardcover 352 pp \nDISCUSSION LEADER: Maryann Grauwiler \nHistorical Fiction\, Mystery / The lives of two women\, fifty years apart\, are changed at the Frick mansion in New York City\, where their lives intersect through secrets\, betrayal and murder.
URL:https://www.deercreekcc.com/events/book-club-july-2023/
LOCATION:Deercreek Clubhouse\, FL
CATEGORIES:Book Club
ATTACH;FMTTYPE=image/jpeg:https://www.deercreekcc.com/wp-content/uploads/Book-July-17.jpg
ORGANIZER;CN="Patricia Sterling":MAILTO:patriciasterling@gmail.com
END:VEVENT
BEGIN:VEVENT
DTSTART;TZID=America/New_York:20230717T180000
DTEND;TZID=America/New_York:20230717T180000
DTSTAMP:20260420T122618
CREATED:20221220T180831Z
LAST-MODIFIED:20230713T211521Z
UID:10002319-1689616800-1689616800@www.deercreekcc.com
SUMMARY:Fine Appeals
DESCRIPTION:Fine Appeals Committee\nMeets the third Monday of each month @ 6:00 pm
URL:https://www.deercreekcc.com/events/covenant-enforcement-4/2023-07-17/
LOCATION:Deercreek Clubhouse\, FL
CATEGORIES:Fine Appeals
END:VEVENT
BEGIN:VEVENT
DTSTART;TZID=America/New_York:20230718T180000
DTEND;TZID=America/New_York:20230718T180000
DTSTAMP:20260420T122618
CREATED:20221220T180114Z
LAST-MODIFIED:20221220T180114Z
UID:10002308-1689703200-1689703200@www.deercreekcc.com
SUMMARY:Finance
DESCRIPTION:FINANCE\nMeets the third Tuesday of each month @ 6:00 pm
URL:https://www.deercreekcc.com/events/finance-5/2023-07-18/
LOCATION:Deercreek Clubhouse\, FL
CATEGORIES:Finance
END:VEVENT
BEGIN:VEVENT
DTSTART;TZID=America/New_York:20230718T180000
DTEND;TZID=America/New_York:20230718T180000
DTSTAMP:20260420T122618
CREATED:20230623T190613Z
LAST-MODIFIED:20230717T211124Z
UID:10002371-1689703200-1689703200@www.deercreekcc.com
SUMMARY:Change of Covenant Meeting
DESCRIPTION:Short meeting for the covenant updates encouraging discussion and feedback for the proposed changes\nTuesday July 18 6pmTuesday July 25 10am \nCovenant Update All Community Meeting:\nShort meeting to present the proposed changes\, the legal wording and answer any questions regarding the issues and process\nWednesday August 2 6pm\nTuesday August 8 11am\nWednesday August 16 6pm \nAll of the above meetings will be held in the Ballroom at Deercreek Country Club.\nAll meetings will last approx one hour.
URL:https://www.deercreekcc.com/events/change-of-covenant-meeting/
LOCATION:Deercreek Clubhouse\, FL
CATEGORIES:DCCOA Board
END:VEVENT
BEGIN:VEVENT
DTSTART;TZID=America/New_York:20230725T100000
DTEND;TZID=America/New_York:20230725T110000
DTSTAMP:20260420T122618
CREATED:20230623T192729Z
LAST-MODIFIED:20230717T211143Z
UID:10002372-1690279200-1690282800@www.deercreekcc.com
SUMMARY:Change of Covenant Meeting
DESCRIPTION:Short meeting for the covenant updates encouraging discussion and feedback for the proposed changes\nTuesday July 18 6pmTuesday July 25 10am \nCovenant Update All Community Meeting:\nShort meeting to present the proposed changes\, the legal wording and answer any questions regarding the issues and process\nWednesday August 2 6pm\nTuesday August 8 11am\nWednesday August 16 6pm \nAll of the above meetings will be held in the Ballroom at Deercreek Country Club.\nAll meetings will last approx one hour.
URL:https://www.deercreekcc.com/events/change-of-covenant-meeting-2/
LOCATION:Deercreek Clubhouse Ballroom\, FL\, United States
CATEGORIES:DCCOA Board
END:VEVENT
BEGIN:VEVENT
DTSTART;TZID=America/New_York:20230725T180000
DTEND;TZID=America/New_York:20230725T180000
DTSTAMP:20260420T122618
CREATED:20211229T191228Z
LAST-MODIFIED:20221130T160850Z
UID:10002238-1690308000-1690308000@www.deercreekcc.com
SUMMARY:DCCOA Board
DESCRIPTION:Check the newsletter for location and/or teleconferencing information.
URL:https://www.deercreekcc.com/events/dccoa-board-2-2022-11-29/2023-07-25/
LOCATION:Deercreek Clubhouse\, FL
CATEGORIES:DCCOA Board
END:VEVENT
END:VCALENDAR