BEGIN:VCALENDAR
VERSION:2.0
PRODID:-//Deercreek Country Club Owners Association - ECPv6.15.20//NONSGML v1.0//EN
CALSCALE:GREGORIAN
METHOD:PUBLISH
X-ORIGINAL-URL:https://www.deercreekcc.com
X-WR-CALDESC:Events for Deercreek Country Club Owners Association
REFRESH-INTERVAL;VALUE=DURATION:PT1H
X-Robots-Tag:noindex
X-PUBLISHED-TTL:PT1H
BEGIN:VTIMEZONE
TZID:America/New_York
BEGIN:DAYLIGHT
TZOFFSETFROM:-0500
TZOFFSETTO:-0400
TZNAME:EDT
DTSTART:20220313T070000
END:DAYLIGHT
BEGIN:STANDARD
TZOFFSETFROM:-0400
TZOFFSETTO:-0500
TZNAME:EST
DTSTART:20221106T060000
END:STANDARD
BEGIN:DAYLIGHT
TZOFFSETFROM:-0500
TZOFFSETTO:-0400
TZNAME:EDT
DTSTART:20230312T070000
END:DAYLIGHT
BEGIN:STANDARD
TZOFFSETFROM:-0400
TZOFFSETTO:-0500
TZNAME:EST
DTSTART:20231105T060000
END:STANDARD
BEGIN:DAYLIGHT
TZOFFSETFROM:-0500
TZOFFSETTO:-0400
TZNAME:EDT
DTSTART:20240310T070000
END:DAYLIGHT
BEGIN:STANDARD
TZOFFSETFROM:-0400
TZOFFSETTO:-0500
TZNAME:EST
DTSTART:20241103T060000
END:STANDARD
END:VTIMEZONE
BEGIN:VEVENT
DTSTART;TZID=America/New_York:20230501T180000
DTEND;TZID=America/New_York:20230501T180000
DTSTAMP:20260420T153420
CREATED:20221220T184527Z
LAST-MODIFIED:20221226T204337Z
UID:10002330-1682964000-1682964000@www.deercreekcc.com
SUMMARY:Recreation
DESCRIPTION:The Recreation Committee\nMeets the First Monday of each month at 6 pm
URL:https://www.deercreekcc.com/events/recreation-2023-02-06/2023-05-01/
LOCATION:Deercreek Clubhouse\, FL
CATEGORIES:Recreation
END:VEVENT
BEGIN:VEVENT
DTSTART;TZID=America/New_York:20230502T180000
DTEND;TZID=America/New_York:20230502T180000
DTSTAMP:20260420T153420
CREATED:20221219T175751Z
LAST-MODIFIED:20230410T171130Z
UID:10002296-1683050400-1683050400@www.deercreekcc.com
SUMMARY:ARB
DESCRIPTION:Architectural Review Board\nMeets first Tuesday of each month @ 7:00 pm \nat the Clubhouse
URL:https://www.deercreekcc.com/events/arb-2023-05-02/2023-05-02/
LOCATION:Deercreek Clubhouse\, FL
CATEGORIES:ARB
END:VEVENT
BEGIN:VEVENT
DTSTART;TZID=America/New_York:20230502T190000
DTEND;TZID=America/New_York:20230502T190000
DTSTAMP:20260420T153420
CREATED:20221219T175751Z
LAST-MODIFIED:20230410T170014Z
UID:10002294-1683054000-1683054000@www.deercreekcc.com
SUMMARY:ARB
DESCRIPTION:Architectural Review Board\nMeets first Tuesday of each month @ 7:00 pm \nat the Clubhouse
URL:https://www.deercreekcc.com/events/arb/2023-05-02/
LOCATION:Deercreek Clubhouse\, FL
CATEGORIES:ARB
END:VEVENT
BEGIN:VEVENT
DTSTART;TZID=America/New_York:20230508T180000
DTEND;TZID=America/New_York:20230508T180000
DTSTAMP:20260420T153420
CREATED:20221220T174451Z
LAST-MODIFIED:20230410T214355Z
UID:10002087-1683568800-1683568800@www.deercreekcc.com
SUMMARY:Common Property
DESCRIPTION:Common Property\nMeets the second Monday of each month @ 6 pm \nJoin Zoom Meeting \nhttps://us02web.zoom.us/j/3915258425  \nMeeting ID: 391 525 8425 \nOne tap mobile\n+13052241968\,\,3915258425# US\n+13017158592\,\,3915258425# US (Washington DC) \nDial by your location \n+1 305 224 1968 US \nMeeting ID: 391 525 8425
URL:https://www.deercreekcc.com/events/common-property-5/2023-05-08/
LOCATION:Deercreek Clubhouse\, FL
CATEGORIES:Common Property
END:VEVENT
BEGIN:VEVENT
DTSTART;TZID=America/New_York:20230513T103000
DTEND;TZID=America/New_York:20230513T103000
DTSTAMP:20260420T153420
CREATED:20200823T140624Z
LAST-MODIFIED:20200823T141426Z
UID:10001993-1683973800-1683973800@www.deercreekcc.com
SUMMARY:Alpha Omega Truck Pick Up
DESCRIPTION:
URL:https://www.deercreekcc.com/events/alpha-omega-truck-pick-up-2/2023-05-13/
LOCATION:FL\, United States
END:VEVENT
BEGIN:VEVENT
DTSTART;TZID=America/New_York:20230515T100000
DTEND;TZID=America/New_York:20230515T233000
DTSTAMP:20260420T153420
CREATED:20220621T145730Z
LAST-MODIFIED:20230426T145321Z
UID:10002281-1684144800-1684193400@www.deercreekcc.com
SUMMARY:Book Club
DESCRIPTION:Ten Beach Road (2011) \nWendy Wax  \nFICTION/three women take charge of their lives after losing their life savings / from a series about Ten Beach Road \n  \nInterested in Joining?\nThe Deercreek Book Club was started in 1996. We welcome new members. To learn more or join\, please contact Patricia Sterling at patriciasterling@gmail.com.
URL:https://www.deercreekcc.com/events/book-club-3-2023-05-15/
LOCATION:Meetings are held in the Ladies Card Room of the Clubhouse\, FL\, United States
CATEGORIES:Book Club
ATTACH;FMTTYPE=image/jpeg:https://www.deercreekcc.com/wp-content/uploads/Book-May-5.jpg
ORGANIZER;CN="Patricia Sterling":MAILTO:patriciasterling@gmail.com
END:VEVENT
BEGIN:VEVENT
DTSTART;TZID=America/New_York:20230515T180000
DTEND;TZID=America/New_York:20230515T180000
DTSTAMP:20260420T153420
CREATED:20221220T180831Z
LAST-MODIFIED:20230713T211521Z
UID:10002317-1684173600-1684173600@www.deercreekcc.com
SUMMARY:Fine Appeals
DESCRIPTION:Fine Appeals Committee\nMeets the third Monday of each month @ 6:00 pm
URL:https://www.deercreekcc.com/events/covenant-enforcement-4/2023-05-15/
LOCATION:Deercreek Clubhouse\, FL
CATEGORIES:Fine Appeals
END:VEVENT
BEGIN:VEVENT
DTSTART;TZID=America/New_York:20230516T180000
DTEND;TZID=America/New_York:20230516T180000
DTSTAMP:20260420T153420
CREATED:20221220T180114Z
LAST-MODIFIED:20221220T180114Z
UID:10002306-1684260000-1684260000@www.deercreekcc.com
SUMMARY:Finance
DESCRIPTION:FINANCE\nMeets the third Tuesday of each month @ 6:00 pm
URL:https://www.deercreekcc.com/events/finance-5/2023-05-16/
LOCATION:Deercreek Clubhouse\, FL
CATEGORIES:Finance
END:VEVENT
BEGIN:VEVENT
DTSTART;TZID=America/New_York:20230523T180000
DTEND;TZID=America/New_York:20230523T180000
DTSTAMP:20260420T153420
CREATED:20211229T191228Z
LAST-MODIFIED:20221130T160850Z
UID:10002236-1684864800-1684864800@www.deercreekcc.com
SUMMARY:DCCOA Board
DESCRIPTION:Check the newsletter for location and/or teleconferencing information.
URL:https://www.deercreekcc.com/events/dccoa-board-2-2022-11-29/2023-05-23/
LOCATION:Deercreek Clubhouse\, FL
CATEGORIES:DCCOA Board
END:VEVENT
END:VCALENDAR