BEGIN:VCALENDAR
VERSION:2.0
PRODID:-//Deercreek Country Club Owners Association - ECPv6.15.20//NONSGML v1.0//EN
CALSCALE:GREGORIAN
METHOD:PUBLISH
X-WR-CALNAME:Deercreek Country Club Owners Association
X-ORIGINAL-URL:https://www.deercreekcc.com
X-WR-CALDESC:Events for Deercreek Country Club Owners Association
REFRESH-INTERVAL;VALUE=DURATION:PT1H
X-Robots-Tag:noindex
X-PUBLISHED-TTL:PT1H
BEGIN:VTIMEZONE
TZID:America/New_York
BEGIN:DAYLIGHT
TZOFFSETFROM:-0500
TZOFFSETTO:-0400
TZNAME:EDT
DTSTART:20220313T070000
END:DAYLIGHT
BEGIN:STANDARD
TZOFFSETFROM:-0400
TZOFFSETTO:-0500
TZNAME:EST
DTSTART:20221106T060000
END:STANDARD
BEGIN:DAYLIGHT
TZOFFSETFROM:-0500
TZOFFSETTO:-0400
TZNAME:EDT
DTSTART:20230312T070000
END:DAYLIGHT
BEGIN:STANDARD
TZOFFSETFROM:-0400
TZOFFSETTO:-0500
TZNAME:EST
DTSTART:20231105T060000
END:STANDARD
BEGIN:DAYLIGHT
TZOFFSETFROM:-0500
TZOFFSETTO:-0400
TZNAME:EDT
DTSTART:20240310T070000
END:DAYLIGHT
BEGIN:STANDARD
TZOFFSETFROM:-0400
TZOFFSETTO:-0500
TZNAME:EST
DTSTART:20241103T060000
END:STANDARD
END:VTIMEZONE
BEGIN:VEVENT
DTSTART;TZID=America/New_York:20230206T180000
DTEND;TZID=America/New_York:20230206T180000
DTSTAMP:20260420T202116
CREATED:20221220T184527Z
LAST-MODIFIED:20221226T204337Z
UID:10002327-1675706400-1675706400@www.deercreekcc.com
SUMMARY:Recreation
DESCRIPTION:The Recreation Committee\nMeets the First Monday of each month at 6 pm
URL:https://www.deercreekcc.com/events/recreation-2023-02-06/2023-02-06/
LOCATION:Deercreek Clubhouse\, FL
CATEGORIES:Recreation
END:VEVENT
BEGIN:VEVENT
DTSTART;TZID=America/New_York:20230207T170000
DTEND;TZID=America/New_York:20230207T170000
DTSTAMP:20260420T202116
CREATED:20230118T173518Z
LAST-MODIFIED:20230119T161522Z
UID:10002340-1675789200-1675789200@www.deercreekcc.com
SUMMARY:Communications Committee
DESCRIPTION:
URL:https://www.deercreekcc.com/events/communications-committee/2023-02-07/
LOCATION:FL
CATEGORIES:Communications
ORGANIZER;CN="Heather Cole":MAILTO:communications@deercreekcc.com
END:VEVENT
BEGIN:VEVENT
DTSTART;TZID=America/New_York:20230207T190000
DTEND;TZID=America/New_York:20230207T190000
DTSTAMP:20260420T202116
CREATED:20221219T175751Z
LAST-MODIFIED:20230410T170014Z
UID:10002292-1675796400-1675796400@www.deercreekcc.com
SUMMARY:ARB
DESCRIPTION:Architectural Review Board\nMeets first Tuesday of each month @ 7:00 pm \nat the Clubhouse
URL:https://www.deercreekcc.com/events/arb/2023-02-07/
LOCATION:Deercreek Clubhouse\, FL
CATEGORIES:ARB
END:VEVENT
BEGIN:VEVENT
DTSTART;TZID=America/New_York:20230213T103000
DTEND;TZID=America/New_York:20230213T103000
DTSTAMP:20260420T202116
CREATED:20200823T140624Z
LAST-MODIFIED:20200823T141426Z
UID:10001990-1676284200-1676284200@www.deercreekcc.com
SUMMARY:Alpha Omega Truck Pick Up
DESCRIPTION:
URL:https://www.deercreekcc.com/events/alpha-omega-truck-pick-up-2/2023-02-13/
LOCATION:FL\, United States
END:VEVENT
BEGIN:VEVENT
DTSTART;TZID=America/New_York:20230213T180000
DTEND;TZID=America/New_York:20230213T180000
DTSTAMP:20260420T202116
CREATED:20221220T174451Z
LAST-MODIFIED:20230410T214355Z
UID:10002084-1676311200-1676311200@www.deercreekcc.com
SUMMARY:Common Property
DESCRIPTION:Common Property\nMeets the second Monday of each month @ 6 pm \nJoin Zoom Meeting \nhttps://us02web.zoom.us/j/3915258425  \nMeeting ID: 391 525 8425 \nOne tap mobile\n+13052241968\,\,3915258425# US\n+13017158592\,\,3915258425# US (Washington DC) \nDial by your location \n+1 305 224 1968 US \nMeeting ID: 391 525 8425
URL:https://www.deercreekcc.com/events/common-property-5/2023-02-13/
LOCATION:Deercreek Clubhouse\, FL
CATEGORIES:Common Property
END:VEVENT
BEGIN:VEVENT
DTSTART;TZID=America/New_York:20230218T180000
DTEND;TZID=America/New_York:20230218T180000
DTSTAMP:20260420T202116
CREATED:20230123T152230Z
LAST-MODIFIED:20230123T152353Z
UID:10002361-1676743200-1676743200@www.deercreekcc.com
SUMMARY:Bourbon & Boots
DESCRIPTION:Please join us in a fun evening whilst raising money for a fabulous charity \nThis event is open to everyone\, no need to be a member of DWA or the club.
URL:https://www.deercreekcc.com/events/bourbon-boots/
LOCATION:FL
CATEGORIES:DWA
ATTACH;FMTTYPE=image/jpeg:https://www.deercreekcc.com/wp-content/uploads/TinyTake23-01-2023-10-21-22.jpg
END:VEVENT
BEGIN:VEVENT
DTSTART;TZID=America/New_York:20230220T100000
DTEND;TZID=America/New_York:20230220T233000
DTSTAMP:20260420T202116
CREATED:20220621T145730Z
LAST-MODIFIED:20220621T150737Z
UID:10002278-1676887200-1676935800@www.deercreekcc.com
SUMMARY:Book Club
DESCRIPTION:The Magnificent Lives of Marjorie Post: A Novel (2022) \nAllison Pataki  \nHISTORICAL FICTION/a reimagining of the life of Marjorie Merriweather Post\, heiress-philanthropist-socialite \n  \nInterested in Joining?\nThe Deercreek Book Club was started in 1996. We welcome new members. To learn more or join\, please contact Patricia Sterling at patriciasterling@gmail.com.
URL:https://www.deercreekcc.com/events/book-club-3-2023-02-20/
LOCATION:Meetings are held in the Ladies Card Room of the Clubhouse\, FL\, United States
CATEGORIES:Book Club
ATTACH;FMTTYPE=image/jpeg:https://www.deercreekcc.com/wp-content/uploads/feb23-book.jpg
ORGANIZER;CN="Patricia Sterling":MAILTO:patriciasterling@gmail.com
END:VEVENT
BEGIN:VEVENT
DTSTART;TZID=America/New_York:20230220T180000
DTEND;TZID=America/New_York:20230220T180000
DTSTAMP:20260420T202116
CREATED:20221220T180831Z
LAST-MODIFIED:20230713T211521Z
UID:10002314-1676916000-1676916000@www.deercreekcc.com
SUMMARY:Fine Appeals
DESCRIPTION:Fine Appeals Committee\nMeets the third Monday of each month @ 6:00 pm
URL:https://www.deercreekcc.com/events/covenant-enforcement-4/2023-02-20/
LOCATION:Deercreek Clubhouse\, FL
CATEGORIES:Fine Appeals
END:VEVENT
BEGIN:VEVENT
DTSTART;TZID=America/New_York:20230221T100000
DTEND;TZID=America/New_York:20230221T233000
DTSTAMP:20260420T202116
CREATED:20230118T171824Z
LAST-MODIFIED:20230123T155340Z
UID:10002339-1676973600-1677022200@www.deercreekcc.com
SUMMARY:200 Years of History - Jacksonville Bicentennial
DESCRIPTION:Date: Tuesday\, February 21\nTime: 10:00 am\nLocation: Deercreek Clubhouse \nRSVP by Monday\, Feb 20\, 2023 to deercreekhgc@gmail.com or call/text to Jill Cole at 904-252-2893 \nDid you know that Jacksonville celebrated its Bicentennial in 2022? Once known as Cowford\, Jacksonville was founded in June 1822 as a port of entry for the US Territory of Florida. \nWe are pleased to have Alan Bliss\, PhD and Executive Director of the Jacksonville Historical Society\, as the presenter for our February program. Dr. Bliss will tell us about Jacksonville’s colorful history and the Jacksonville Bicentennial. \nDr. Bliss holds a Ph.D. from the University of Florida and is a professor at the University of North Florida. His popular US history courses include urban and maritime history\, the Roaring Twenties\, the Great Depression and the New Deal. He offers an annual seminar on public history\, emphasizing Jacksonville and consults on historic resources. \nBefore returning to higher education\, Dr. Bliss had a successful career in real estate. He has worked as a commercial mariner\, is an experienced offshore sailor\, and enjoys boating on the St. Johns River and surrounding waters.
URL:https://www.deercreekcc.com/events/200-years-of-history-jacksonville-bicentennial/
LOCATION:Deercreek Clubhouse\, FL
CATEGORIES:Home and Garden Club
ATTACH;FMTTYPE=image/jpeg:https://www.deercreekcc.com/wp-content/uploads/Dr-Bliss-UF.jpg
ORGANIZER;CN="Cynthia Bollini":MAILTO:cynthiabollini@gmail.com
END:VEVENT
BEGIN:VEVENT
DTSTART;TZID=America/New_York:20230221T180000
DTEND;TZID=America/New_York:20230221T180000
DTSTAMP:20260420T202116
CREATED:20221220T180114Z
LAST-MODIFIED:20221220T180114Z
UID:10002303-1677002400-1677002400@www.deercreekcc.com
SUMMARY:Finance
DESCRIPTION:FINANCE\nMeets the third Tuesday of each month @ 6:00 pm
URL:https://www.deercreekcc.com/events/finance-5/2023-02-21/
LOCATION:Deercreek Clubhouse\, FL
CATEGORIES:Finance
END:VEVENT
BEGIN:VEVENT
DTSTART;TZID=America/New_York:20230223T173000
DTEND;TZID=America/New_York:20230223T200000
DTSTAMP:20260420T202116
CREATED:20230127T164314Z
LAST-MODIFIED:20230127T165204Z
UID:10002363-1677173400-1677182400@www.deercreekcc.com
SUMMARY:DWA Porch Night
DESCRIPTION:One of our favorite DWA evenings is here! Please join the DWA Board to celebrate our birthday\, with a fun night of fun and fellowship\, light bites\, drinks and cake! \nIt’s also a night to renew your DWA membership\, so please bring your check payable to DWA for $25\, \nIf you cannot make it that evening\, then you can return the membership form\, together with your dues\, to Mary Stelbrink\, who’s details are on the form available on the website \nIf you are planning to attend\, then please RSVP to jjjacole@icloud.net
URL:https://www.deercreekcc.com/events/dwa-porch-night-2023/
LOCATION:Deercreek Clubhouse\, FL
CATEGORIES:DWA
ATTACH;FMTTYPE=image/jpeg:https://www.deercreekcc.com/wp-content/uploads/wine-night.jpg
ORGANIZER;CN="Julia Watkins":MAILTO:juleswatkins64@gmail.com
END:VEVENT
BEGIN:VEVENT
DTSTART;TZID=America/New_York:20230228T180000
DTEND;TZID=America/New_York:20230228T180000
DTSTAMP:20260420T202116
CREATED:20211229T191228Z
LAST-MODIFIED:20221130T160850Z
UID:10002233-1677607200-1677607200@www.deercreekcc.com
SUMMARY:DCCOA Board
DESCRIPTION:Check the newsletter for location and/or teleconferencing information.
URL:https://www.deercreekcc.com/events/dccoa-board-2-2022-11-29/2023-02-28/
LOCATION:Deercreek Clubhouse\, FL
CATEGORIES:DCCOA Board
END:VEVENT
END:VCALENDAR