BEGIN:VCALENDAR
VERSION:2.0
PRODID:-//Deercreek Country Club Owners Association - ECPv6.15.20//NONSGML v1.0//EN
CALSCALE:GREGORIAN
METHOD:PUBLISH
X-ORIGINAL-URL:https://www.deercreekcc.com
X-WR-CALDESC:Events for Deercreek Country Club Owners Association
REFRESH-INTERVAL;VALUE=DURATION:PT1H
X-Robots-Tag:noindex
X-PUBLISHED-TTL:PT1H
BEGIN:VTIMEZONE
TZID:America/New_York
BEGIN:DAYLIGHT
TZOFFSETFROM:-0500
TZOFFSETTO:-0400
TZNAME:EDT
DTSTART:20210314T070000
END:DAYLIGHT
BEGIN:STANDARD
TZOFFSETFROM:-0400
TZOFFSETTO:-0500
TZNAME:EST
DTSTART:20211107T060000
END:STANDARD
BEGIN:DAYLIGHT
TZOFFSETFROM:-0500
TZOFFSETTO:-0400
TZNAME:EDT
DTSTART:20220313T070000
END:DAYLIGHT
BEGIN:STANDARD
TZOFFSETFROM:-0400
TZOFFSETTO:-0500
TZNAME:EST
DTSTART:20221106T060000
END:STANDARD
BEGIN:DAYLIGHT
TZOFFSETFROM:-0500
TZOFFSETTO:-0400
TZNAME:EDT
DTSTART:20230312T070000
END:DAYLIGHT
BEGIN:STANDARD
TZOFFSETFROM:-0400
TZOFFSETTO:-0500
TZNAME:EST
DTSTART:20231105T060000
END:STANDARD
END:VTIMEZONE
BEGIN:VEVENT
DTSTART;TZID=America/New_York:20221003T180000
DTEND;TZID=America/New_York:20221003T180000
DTSTAMP:20260421T032002
CREATED:20220427T183151Z
LAST-MODIFIED:20220427T183431Z
UID:10002266-1664820000-1664820000@www.deercreekcc.com
SUMMARY:Recreation Committee
DESCRIPTION:Recreation Committee \nMeets 1st Monday at 6:00 pm every month \n 
URL:https://www.deercreekcc.com/events/recreation-committee/2022-10-03/
LOCATION:FL
CATEGORIES:Recreation
END:VEVENT
BEGIN:VEVENT
DTSTART;TZID=America/New_York:20221004T170000
DTEND;TZID=America/New_York:20221004T170000
DTSTAMP:20260421T032002
CREATED:20211229T191034Z
LAST-MODIFIED:20221221T221518Z
UID:10002227-1664902800-1664902800@www.deercreekcc.com
SUMMARY:Communications Committee
DESCRIPTION:
URL:https://www.deercreekcc.com/events/communications-4-2022-10-04/2022-10-04/
LOCATION:FL
CATEGORIES:Communications
END:VEVENT
BEGIN:VEVENT
DTSTART;TZID=America/New_York:20221004T180000
DTEND;TZID=America/New_York:20221004T180000
DTSTAMP:20260421T032002
CREATED:20211229T191034Z
LAST-MODIFIED:20220103T214326Z
UID:10002226-1664906400-1664906400@www.deercreekcc.com
SUMMARY:Communications Committee
DESCRIPTION:
URL:https://www.deercreekcc.com/events/communications-4-2022-02-01/2022-10-04/
LOCATION:FL
CATEGORIES:Communications
END:VEVENT
BEGIN:VEVENT
DTSTART;TZID=America/New_York:20221004T190000
DTEND;TZID=America/New_York:20221004T190000
DTSTAMP:20260421T032003
CREATED:20211229T185629Z
LAST-MODIFIED:20221130T154211Z
UID:10002146-1664910000-1664910000@www.deercreekcc.com
SUMMARY:ARB Committee
DESCRIPTION:Check the newsletter for location and/or teleconferencing information.
URL:https://www.deercreekcc.com/events/arb-committee-3/2022-10-04/
LOCATION:Deercreek Clubhouse\, FL
CATEGORIES:ARB
END:VEVENT
BEGIN:VEVENT
DTSTART;TZID=America/New_York:20221010T180000
DTEND;TZID=America/New_York:20221010T180000
DTSTAMP:20260421T032003
CREATED:20211229T190429Z
LAST-MODIFIED:20221130T160002Z
UID:10002175-1665424800-1665424800@www.deercreekcc.com
SUMMARY:Common Property
DESCRIPTION:Common Property meets on the second Monday of each month at 6 p.m.
URL:https://www.deercreekcc.com/events/common-property-4/2022-10-10/
LOCATION:Deercreek Clubhouse\, FL
CATEGORIES:Common Property
END:VEVENT
BEGIN:VEVENT
DTSTART;TZID=America/New_York:20221013T103000
DTEND;TZID=America/New_York:20221013T103000
DTSTAMP:20260421T032003
CREATED:20200823T140624Z
LAST-MODIFIED:20200823T141426Z
UID:10001986-1665657000-1665657000@www.deercreekcc.com
SUMMARY:Alpha Omega Truck Pick Up
DESCRIPTION:
URL:https://www.deercreekcc.com/events/alpha-omega-truck-pick-up-2/2022-10-13/
LOCATION:FL\, United States
END:VEVENT
BEGIN:VEVENT
DTSTART;TZID=America/New_York:20221017T100000
DTEND;TZID=America/New_York:20221017T233000
DTSTAMP:20260421T032003
CREATED:20220621T145730Z
LAST-MODIFIED:20220621T151646Z
UID:10002274-1666000800-1666049400@www.deercreekcc.com
SUMMARY:Book Club
DESCRIPTION:The Four Winds (2021) \nKristin Hannah  \nHISTORICAL FICTION/tribulations of the Great Depression and the Dust Bowl shape the destiny of a Texas family \n  \nInterested in Joining?\nThe Deercreek Book Club was started in 1996. We welcome new members. To learn more or join\, please contact Patricia Sterling at patriciasterling@gmail.com.
URL:https://www.deercreekcc.com/events/book-club-3-2022-10-17/2022-10-17/
LOCATION:Meetings are held in the Ladies Card Room of the Clubhouse\, FL\, United States
CATEGORIES:Book Club
ATTACH;FMTTYPE=image/jpeg:https://www.deercreekcc.com/wp-content/uploads/oct22-book.jpg
ORGANIZER;CN="Patricia Sterling":MAILTO:patriciasterling@gmail.com
END:VEVENT
BEGIN:VEVENT
DTSTART;TZID=America/New_York:20221017T180000
DTEND;TZID=America/New_York:20221017T180000
DTSTAMP:20260421T032003
CREATED:20211229T190903Z
LAST-MODIFIED:20221130T144857Z
UID:10002214-1666029600-1666029600@www.deercreekcc.com
SUMMARY:Covenant Enforcement
DESCRIPTION:
URL:https://www.deercreekcc.com/events/covenant-enforcement-3/2022-10-17/
LOCATION:FL
CATEGORIES:Fine Appeals
END:VEVENT
BEGIN:VEVENT
DTSTART;TZID=America/New_York:20221018T100000
DTEND;TZID=America/New_York:20221018T113000
DTSTAMP:20260421T032003
CREATED:20220920T182657Z
LAST-MODIFIED:20220928T174706Z
UID:10002287-1666087200-1666092600@www.deercreekcc.com
SUMMARY:Feng Shui Gardening
DESCRIPTION:With all of the craziness going on in the world today\, do you need some ZEN in your life? \nPlease join the Deercreek Home & Garden Club for a presentation on Feng Shui Gardening. Evie Pankok\, from the UF Duval County Extension Office\, will show us how to incorporate Feng Shui principles to create a calming flow in our gardens. \nCoffee and muffins will be provided. \nQuilt Sale at the meeting!\nComfort n’ Quilters will hold their annual quilt sale at our meeting. The quilting group\, including three Home and Garden Club members (Mary Lou Roberts\, Maryann Grauwiler and Jan Walter) sews quilts to give to young cancer patients at Wolfson Children’s Hospital\, Nemours Children’s Health and Seamark Ranch. Buying a quilt helps Comfort n’ Quilters to purchase their quilting supplies. This is a great opportunity to buy some Christmas gifts and support their charity at the same time!
URL:https://www.deercreekcc.com/events/feng-shui-gardening/
LOCATION:Deercreek Country Club
CATEGORIES:Home and Garden Club
ATTACH;FMTTYPE=image/jpeg:https://www.deercreekcc.com/wp-content/uploads/woman-taking-care-of-her-plant-baby-2022-09-16-08-47-27-utc.jpg
ORGANIZER;CN="Cynthia Bollini":MAILTO:cynthiabollini@gmail.com
END:VEVENT
BEGIN:VEVENT
DTSTART;TZID=America/New_York:20221018T180000
DTEND;TZID=America/New_York:20221018T180000
DTSTAMP:20260421T032003
CREATED:20211229T190618Z
LAST-MODIFIED:20221130T145151Z
UID:10002200-1666116000-1666116000@www.deercreekcc.com
SUMMARY:Finance
DESCRIPTION:Check the website at www.deercreekcc.com/finance for location and/or teleconferencing information.
URL:https://www.deercreekcc.com/events/finance-4/2022-10-18/
LOCATION:FL
CATEGORIES:Finance
END:VEVENT
BEGIN:VEVENT
DTSTART;TZID=America/New_York:20221019T183000
DTEND;TZID=America/New_York:20221019T183000
DTSTAMP:20260421T032003
CREATED:20220106T172850Z
LAST-MODIFIED:20220106T173602Z
UID:10002261-1666204200-1666204200@www.deercreekcc.com
SUMMARY:Edgewater HOA
DESCRIPTION:MEETINGS \nLocation of All Regular\, Budget and Annual Meetings:\n10020 Watermark Lane\nJacksonville\, FL 32256 \nEdgewater residents are welcome at all Board meetings and will be notified by either Association or the DCCC signboard in advance of each meeting. \nMinutes to each Board meeting are available upon request. \nBOARD OF DIRECTORS \n\nPresident:  Raymond Saliba   [Expires 2023]\nVice President: Doug Harlan   [Expires 2023]\nTreasurer: Christine Sakr   [Expires 2023]\nSecretary: Martin Koziek   [Expires 2023]\nDirector: Craig Smythe   [Expires 2023]
URL:https://www.deercreekcc.com/events/edgewater-hoa-march-2022/2022-10-19/
LOCATION:FL
CATEGORIES:Edgewater
END:VEVENT
BEGIN:VEVENT
DTSTART;TZID=America/New_York:20221025T180000
DTEND;TZID=America/New_York:20221025T180000
DTSTAMP:20260421T032003
CREATED:20211225T222728Z
LAST-MODIFIED:20221130T160759Z
UID:10002136-1666720800-1666720800@www.deercreekcc.com
SUMMARY:DCCOA Board
DESCRIPTION:FOR ACCESS:\nCALL 904 705 – 1849 or 904 – 631-4188\nand a board member will open the door
URL:https://www.deercreekcc.com/events/dccoa-board-22/2022-10-25/
LOCATION:FL
CATEGORIES:DCCOA Board
END:VEVENT
END:VCALENDAR