BEGIN:VCALENDAR
VERSION:2.0
PRODID:-//Deercreek Country Club Owners Association - ECPv6.15.20//NONSGML v1.0//EN
CALSCALE:GREGORIAN
METHOD:PUBLISH
X-WR-CALNAME:Deercreek Country Club Owners Association
X-ORIGINAL-URL:https://www.deercreekcc.com
X-WR-CALDESC:Events for Deercreek Country Club Owners Association
REFRESH-INTERVAL;VALUE=DURATION:PT1H
X-Robots-Tag:noindex
X-PUBLISHED-TTL:PT1H
BEGIN:VTIMEZONE
TZID:America/New_York
BEGIN:DAYLIGHT
TZOFFSETFROM:-0500
TZOFFSETTO:-0400
TZNAME:EDT
DTSTART:20210314T070000
END:DAYLIGHT
BEGIN:STANDARD
TZOFFSETFROM:-0400
TZOFFSETTO:-0500
TZNAME:EST
DTSTART:20211107T060000
END:STANDARD
BEGIN:DAYLIGHT
TZOFFSETFROM:-0500
TZOFFSETTO:-0400
TZNAME:EDT
DTSTART:20220313T070000
END:DAYLIGHT
BEGIN:STANDARD
TZOFFSETFROM:-0400
TZOFFSETTO:-0500
TZNAME:EST
DTSTART:20221106T060000
END:STANDARD
BEGIN:DAYLIGHT
TZOFFSETFROM:-0500
TZOFFSETTO:-0400
TZNAME:EDT
DTSTART:20230312T070000
END:DAYLIGHT
BEGIN:STANDARD
TZOFFSETFROM:-0400
TZOFFSETTO:-0500
TZNAME:EST
DTSTART:20231105T060000
END:STANDARD
END:VTIMEZONE
BEGIN:VEVENT
DTSTART;TZID=America/New_York:20220801T180000
DTEND;TZID=America/New_York:20220801T180000
DTSTAMP:20260421T062248
CREATED:20220427T183151Z
LAST-MODIFIED:20220427T183431Z
UID:10002265-1659376800-1659376800@www.deercreekcc.com
SUMMARY:Recreation Committee
DESCRIPTION:Recreation Committee \nMeets 1st Monday at 6:00 pm every month \n 
URL:https://www.deercreekcc.com/events/recreation-committee/2022-08-01/
LOCATION:FL
CATEGORIES:Recreation
END:VEVENT
BEGIN:VEVENT
DTSTART;TZID=America/New_York:20220802T180000
DTEND;TZID=America/New_York:20220802T180000
DTSTAMP:20260421T062248
CREATED:20211229T191034Z
LAST-MODIFIED:20220103T214326Z
UID:10002224-1659463200-1659463200@www.deercreekcc.com
SUMMARY:Communications Committee
DESCRIPTION:
URL:https://www.deercreekcc.com/events/communications-4-2022-02-01/2022-08-02/
LOCATION:FL
CATEGORIES:Communications
END:VEVENT
BEGIN:VEVENT
DTSTART;TZID=America/New_York:20220803T173000
DTEND;TZID=America/New_York:20220803T193000
DTSTAMP:20260421T062248
CREATED:20220718T211944Z
LAST-MODIFIED:20220718T212156Z
UID:10002283-1659547800-1659555000@www.deercreekcc.com
SUMMARY:Home and Garden Club Invites Residents to Kickoff Social
DESCRIPTION:Interested in learning more about the Home and Garden Club and its activities? RSVP now to enjoy a fun night at the Deercreek Clubhouse and join or renew your membership.
URL:https://www.deercreekcc.com/events/home-and-garden-club-invites-residents-to-kickoff-social/
LOCATION:Deercreek Country Club
CATEGORIES:Home and Garden Club
ATTACH;FMTTYPE=image/jpeg:https://www.deercreekcc.com/wp-content/uploads/entry-345-garden_club_kick_off_flyer.jpg
ORGANIZER;CN="Cynthia Bollini":MAILTO:cynthiabollini@gmail.com
END:VEVENT
BEGIN:VEVENT
DTSTART;TZID=America/New_York:20220808T180000
DTEND;TZID=America/New_York:20220808T180000
DTSTAMP:20260421T062248
CREATED:20211229T190429Z
LAST-MODIFIED:20221130T160002Z
UID:10002174-1659981600-1659981600@www.deercreekcc.com
SUMMARY:Common Property
DESCRIPTION:Common Property meets on the second Monday of each month at 6 p.m.
URL:https://www.deercreekcc.com/events/common-property-4/2022-08-08/
LOCATION:Deercreek Clubhouse\, FL
CATEGORIES:Common Property
END:VEVENT
BEGIN:VEVENT
DTSTART;TZID=America/New_York:20220813T103000
DTEND;TZID=America/New_York:20220813T103000
DTSTAMP:20260421T062248
CREATED:20200823T140624Z
LAST-MODIFIED:20200823T141426Z
UID:10001984-1660386600-1660386600@www.deercreekcc.com
SUMMARY:Alpha Omega Truck Pick Up
DESCRIPTION:
URL:https://www.deercreekcc.com/events/alpha-omega-truck-pick-up-2/2022-08-13/
LOCATION:FL\, United States
END:VEVENT
BEGIN:VEVENT
DTSTART;TZID=America/New_York:20220815T100000
DTEND;TZID=America/New_York:20220815T233000
DTSTAMP:20260421T062248
CREATED:20220621T145730Z
LAST-MODIFIED:20220726T181258Z
UID:10002272-1660557600-1660606200@www.deercreekcc.com
SUMMARY:Book Club
DESCRIPTION:Anxious People (2019) \nFredrik Backman \nThis dramedy about a bank robbery-gone-awry unfolds into an astute\, beautifully rendered character study of a random group of people. Their collective really bad day resolves in the most unexpected and poignant ways. \n  \nInterested in Joining?\nThe Deercreek Book Club was started in 1996. We welcome new members. To learn more or join\, please contact Patricia Sterling at patriciasterling@gmail.com.
URL:https://www.deercreekcc.com/events/book-club-3/
LOCATION:Meetings are held in the Ladies Card Room of the Clubhouse\, FL\, United States
CATEGORIES:Book Club
ATTACH;FMTTYPE=image/jpeg:https://www.deercreekcc.com/wp-content/uploads/aug22-book.jpg
ORGANIZER;CN="Patricia Sterling":MAILTO:patriciasterling@gmail.com
END:VEVENT
BEGIN:VEVENT
DTSTART;TZID=America/New_York:20220815T180000
DTEND;TZID=America/New_York:20220815T180000
DTSTAMP:20260421T062248
CREATED:20211229T190903Z
LAST-MODIFIED:20221130T144857Z
UID:10002212-1660586400-1660586400@www.deercreekcc.com
SUMMARY:Covenant Enforcement
DESCRIPTION:
URL:https://www.deercreekcc.com/events/covenant-enforcement-3/2022-08-15/
LOCATION:FL
CATEGORIES:Fine Appeals
END:VEVENT
BEGIN:VEVENT
DTSTART;TZID=America/New_York:20220816T180000
DTEND;TZID=America/New_York:20220816T180000
DTSTAMP:20260421T062248
CREATED:20211229T190618Z
LAST-MODIFIED:20221130T145151Z
UID:10002198-1660672800-1660672800@www.deercreekcc.com
SUMMARY:Finance
DESCRIPTION:Check the website at www.deercreekcc.com/finance for location and/or teleconferencing information.
URL:https://www.deercreekcc.com/events/finance-4/2022-08-16/
LOCATION:FL
CATEGORIES:Finance
END:VEVENT
BEGIN:VEVENT
DTSTART;TZID=America/New_York:20220823T180000
DTEND;TZID=America/New_York:20220823T180000
DTSTAMP:20260421T062248
CREATED:20211225T222728Z
LAST-MODIFIED:20221130T160759Z
UID:10002134-1661277600-1661277600@www.deercreekcc.com
SUMMARY:DCCOA Board
DESCRIPTION:FOR ACCESS:\nCALL 904 705 – 1849 or 904 – 631-4188\nand a board member will open the door
URL:https://www.deercreekcc.com/events/dccoa-board-22/2022-08-23/
LOCATION:FL
CATEGORIES:DCCOA Board
END:VEVENT
BEGIN:VEVENT
DTSTART;TZID=America/New_York:20220831T183000
DTEND;TZID=America/New_York:20220831T200000
DTSTAMP:20260421T062248
CREATED:20220727T204250Z
LAST-MODIFIED:20220827T185613Z
UID:10002284-1661970600-1661976000@www.deercreekcc.com
SUMMARY:Chat About Charities
DESCRIPTION:Deercreek Women’s Alliance (DWA) has been an active volunteer group in the Deercreek community since 1999. The DWA’s mission is threefold: 1. to promote awareness of the needs of local nonprofits\, 2. to raise funds for and support them through a variety of activities and events\, 3. to have a great time while doing this. \nThe DWA is hosting an event called Chat About Charities\, on August 31st at 6.30pm in the clubhouse. Our goal that evening is for you to meet other members\, make new friends\, and learn more about the wonderful outcomes we have achieved for the thirteen charities we support. Refreshments will be available\, and a good time will be had by all. Please mark your calendar and stand by for more details coming soon. \nThe purpose of this event is to inform those who are new to the Deercreek community\, and those who may not be familiar with the DWA\, about the nonprofits it supports\, results accomplished\, and ways to get involved: \nThe charities the DWA currently supports are:\nBooks-A-Go Go\nCity Rescue Mission Thrift Store\nFamilies of Slain Children\, Inc. (FOSCI)\nGabriel House of Care\nJacksonville Humane Society\nMandarin Food Bank\nMission House\nMrs. Mary’s Boutique at Pace Center for Girls\nPine Castle\nSulzbacher Village\nThe Bag Ladies of Lakewood Presbyterian Church\nThe Rita Foundation\nVision is Priceless
URL:https://www.deercreekcc.com/events/chat-about-charities-2/
LOCATION:FL
CATEGORIES:DWA
ATTACH;FMTTYPE=image/png:https://www.deercreekcc.com/wp-content/uploads/dwa-logo.png
ORGANIZER;CN="Julia Watkins":MAILTO:juleswatkins64@gmail.com
END:VEVENT
END:VCALENDAR