BEGIN:VCALENDAR
VERSION:2.0
PRODID:-//Deercreek Country Club Owners Association - ECPv6.15.20//NONSGML v1.0//EN
CALSCALE:GREGORIAN
METHOD:PUBLISH
X-ORIGINAL-URL:https://www.deercreekcc.com
X-WR-CALDESC:Events for Deercreek Country Club Owners Association
REFRESH-INTERVAL;VALUE=DURATION:PT1H
X-Robots-Tag:noindex
X-PUBLISHED-TTL:PT1H
BEGIN:VTIMEZONE
TZID:America/New_York
BEGIN:DAYLIGHT
TZOFFSETFROM:-0500
TZOFFSETTO:-0400
TZNAME:EDT
DTSTART:20210314T070000
END:DAYLIGHT
BEGIN:STANDARD
TZOFFSETFROM:-0400
TZOFFSETTO:-0500
TZNAME:EST
DTSTART:20211107T060000
END:STANDARD
BEGIN:DAYLIGHT
TZOFFSETFROM:-0500
TZOFFSETTO:-0400
TZNAME:EDT
DTSTART:20220313T070000
END:DAYLIGHT
BEGIN:STANDARD
TZOFFSETFROM:-0400
TZOFFSETTO:-0500
TZNAME:EST
DTSTART:20221106T060000
END:STANDARD
BEGIN:DAYLIGHT
TZOFFSETFROM:-0500
TZOFFSETTO:-0400
TZNAME:EDT
DTSTART:20230312T070000
END:DAYLIGHT
BEGIN:STANDARD
TZOFFSETFROM:-0400
TZOFFSETTO:-0500
TZNAME:EST
DTSTART:20231105T060000
END:STANDARD
END:VTIMEZONE
BEGIN:VEVENT
DTSTART;TZID=America/New_York:20220705T180000
DTEND;TZID=America/New_York:20220705T180000
DTSTAMP:20260421T075505
CREATED:20211229T191034Z
LAST-MODIFIED:20220103T214326Z
UID:10002223-1657044000-1657044000@www.deercreekcc.com
SUMMARY:Communications Committee
DESCRIPTION:
URL:https://www.deercreekcc.com/events/communications-4-2022-02-01/2022-07-05/
LOCATION:FL
CATEGORIES:Communications
END:VEVENT
BEGIN:VEVENT
DTSTART;TZID=America/New_York:20220705T180000
DTEND;TZID=America/New_York:20220705T180000
DTSTAMP:20260421T075505
CREATED:20220427T183151Z
LAST-MODIFIED:20220519T223330Z
UID:10002269-1657044000-1657044000@www.deercreekcc.com
SUMMARY:Recreation Committee
DESCRIPTION:Recreation Committee \nMeets 1st Monday at 6:00 pm every month \n 
URL:https://www.deercreekcc.com/events/recreation-committee-2022-07-04/
LOCATION:FL
CATEGORIES:Recreation
END:VEVENT
BEGIN:VEVENT
DTSTART;TZID=America/New_York:20220705T190000
DTEND;TZID=America/New_York:20220705T190000
DTSTAMP:20260421T075505
CREATED:20211229T185629Z
LAST-MODIFIED:20221130T154211Z
UID:10002144-1657047600-1657047600@www.deercreekcc.com
SUMMARY:ARB Committee
DESCRIPTION:Check the newsletter for location and/or teleconferencing information.
URL:https://www.deercreekcc.com/events/arb-committee-3/2022-07-05/
LOCATION:Deercreek Clubhouse\, FL
CATEGORIES:ARB
END:VEVENT
BEGIN:VEVENT
DTSTART;TZID=America/New_York:20220711T180000
DTEND;TZID=America/New_York:20220711T180000
DTSTAMP:20260421T075505
CREATED:20211229T190429Z
LAST-MODIFIED:20221130T160002Z
UID:10002173-1657562400-1657562400@www.deercreekcc.com
SUMMARY:Common Property
DESCRIPTION:Common Property meets on the second Monday of each month at 6 p.m.
URL:https://www.deercreekcc.com/events/common-property-4/2022-07-11/
LOCATION:Deercreek Clubhouse\, FL
CATEGORIES:Common Property
END:VEVENT
BEGIN:VEVENT
DTSTART;TZID=America/New_York:20220713T103000
DTEND;TZID=America/New_York:20220713T103000
DTSTAMP:20260421T075505
CREATED:20200823T140624Z
LAST-MODIFIED:20200823T141426Z
UID:10001983-1657708200-1657708200@www.deercreekcc.com
SUMMARY:Alpha Omega Truck Pick Up
DESCRIPTION:
URL:https://www.deercreekcc.com/events/alpha-omega-truck-pick-up-2/2022-07-13/
LOCATION:FL\, United States
END:VEVENT
BEGIN:VEVENT
DTSTART;TZID=America/New_York:20220718T100000
DTEND;TZID=America/New_York:20220718T103000
DTSTAMP:20260421T075505
CREATED:20210517T215321Z
LAST-MODIFIED:20220621T130909Z
UID:10002104-1658138400-1658140200@www.deercreekcc.com
SUMMARY:Book Club July 2022
DESCRIPTION:The Giver of Stars\n by JoJo Moyes\, 2019. Historical fiction. \nDuring The Great Depression\, five women from very different backgrounds overcome obstacles as they deliver books on horseback in remote regions of the Appalachian Mountains. Based on the real-life Pack Horse Library Project\, a program of the Works Progress Administration program (1935-1943)\, the novel is a love letter to friendship\, resilience\, and learning. \nDiscussion Leader: Patricia Sterling
URL:https://www.deercreekcc.com/events/book-club-2022-july/
LOCATION:Meetings are held in the Ladies Card Room of the Clubhouse\, FL\, United States
CATEGORIES:Book Club
ATTACH;FMTTYPE=image/jpeg:https://www.deercreekcc.com/wp-content/uploads/book-jun-2022-web.jpg
END:VEVENT
BEGIN:VEVENT
DTSTART;TZID=America/New_York:20220718T180000
DTEND;TZID=America/New_York:20220718T180000
DTSTAMP:20260421T075505
CREATED:20211229T190903Z
LAST-MODIFIED:20221130T144857Z
UID:10002211-1658167200-1658167200@www.deercreekcc.com
SUMMARY:Covenant Enforcement
DESCRIPTION:
URL:https://www.deercreekcc.com/events/covenant-enforcement-3/2022-07-18/
LOCATION:FL
CATEGORIES:Fine Appeals
END:VEVENT
BEGIN:VEVENT
DTSTART;TZID=America/New_York:20220719T180000
DTEND;TZID=America/New_York:20220719T180000
DTSTAMP:20260421T075505
CREATED:20211229T190618Z
LAST-MODIFIED:20221130T145151Z
UID:10002197-1658253600-1658253600@www.deercreekcc.com
SUMMARY:Finance
DESCRIPTION:Check the website at www.deercreekcc.com/finance for location and/or teleconferencing information.
URL:https://www.deercreekcc.com/events/finance-4/2022-07-19/
LOCATION:FL
CATEGORIES:Finance
END:VEVENT
BEGIN:VEVENT
DTSTART;TZID=America/New_York:20220726T180000
DTEND;TZID=America/New_York:20220726T180000
DTSTAMP:20260421T075505
CREATED:20211225T222728Z
LAST-MODIFIED:20221130T160759Z
UID:10002133-1658858400-1658858400@www.deercreekcc.com
SUMMARY:DCCOA Board
DESCRIPTION:FOR ACCESS:\nCALL 904 705 – 1849 or 904 – 631-4188\nand a board member will open the door
URL:https://www.deercreekcc.com/events/dccoa-board-22/2022-07-26/
LOCATION:FL
CATEGORIES:DCCOA Board
END:VEVENT
BEGIN:VEVENT
DTSTART;TZID=America/New_York:20220727T190000
DTEND;TZID=America/New_York:20220727T190000
DTSTAMP:20260421T075505
CREATED:20211229T185629Z
LAST-MODIFIED:20220610T001335Z
UID:10002150-1658948400-1658948400@www.deercreekcc.com
SUMMARY:ARB Committee
DESCRIPTION:Check the newsletter for location and/or teleconferencing information.
URL:https://www.deercreekcc.com/events/arb-committee-3-2022-08-02/
LOCATION:FL
CATEGORIES:ARB
END:VEVENT
END:VCALENDAR