BEGIN:VCALENDAR
VERSION:2.0
PRODID:-//Deercreek Country Club Owners Association - ECPv6.15.20//NONSGML v1.0//EN
CALSCALE:GREGORIAN
METHOD:PUBLISH
X-ORIGINAL-URL:https://www.deercreekcc.com
X-WR-CALDESC:Events for Deercreek Country Club Owners Association
REFRESH-INTERVAL;VALUE=DURATION:PT1H
X-Robots-Tag:noindex
X-PUBLISHED-TTL:PT1H
BEGIN:VTIMEZONE
TZID:America/New_York
BEGIN:DAYLIGHT
TZOFFSETFROM:-0500
TZOFFSETTO:-0400
TZNAME:EDT
DTSTART:20210314T070000
END:DAYLIGHT
BEGIN:STANDARD
TZOFFSETFROM:-0400
TZOFFSETTO:-0500
TZNAME:EST
DTSTART:20211107T060000
END:STANDARD
BEGIN:DAYLIGHT
TZOFFSETFROM:-0500
TZOFFSETTO:-0400
TZNAME:EDT
DTSTART:20220313T070000
END:DAYLIGHT
BEGIN:STANDARD
TZOFFSETFROM:-0400
TZOFFSETTO:-0500
TZNAME:EST
DTSTART:20221106T060000
END:STANDARD
BEGIN:DAYLIGHT
TZOFFSETFROM:-0500
TZOFFSETTO:-0400
TZNAME:EDT
DTSTART:20230312T070000
END:DAYLIGHT
BEGIN:STANDARD
TZOFFSETFROM:-0400
TZOFFSETTO:-0500
TZNAME:EST
DTSTART:20231105T060000
END:STANDARD
END:VTIMEZONE
BEGIN:VEVENT
DTSTART;TZID=America/New_York:20220606T180000
DTEND;TZID=America/New_York:20220606T180000
DTSTAMP:20260421T092500
CREATED:20220427T183151Z
LAST-MODIFIED:20220427T183431Z
UID:10002264-1654538400-1654538400@www.deercreekcc.com
SUMMARY:Recreation Committee
DESCRIPTION:Recreation Committee \nMeets 1st Monday at 6:00 pm every month \n 
URL:https://www.deercreekcc.com/events/recreation-committee/2022-06-06/
LOCATION:FL
CATEGORIES:Recreation
END:VEVENT
BEGIN:VEVENT
DTSTART;TZID=America/New_York:20220607T180000
DTEND;TZID=America/New_York:20220607T180000
DTSTAMP:20260421T092500
CREATED:20211229T191034Z
LAST-MODIFIED:20220103T214326Z
UID:10002222-1654624800-1654624800@www.deercreekcc.com
SUMMARY:Communications Committee
DESCRIPTION:
URL:https://www.deercreekcc.com/events/communications-4-2022-02-01/2022-06-07/
LOCATION:FL
CATEGORIES:Communications
END:VEVENT
BEGIN:VEVENT
DTSTART;TZID=America/New_York:20220607T190000
DTEND;TZID=America/New_York:20220607T190000
DTSTAMP:20260421T092500
CREATED:20211229T185629Z
LAST-MODIFIED:20221130T154211Z
UID:10002143-1654628400-1654628400@www.deercreekcc.com
SUMMARY:ARB Committee
DESCRIPTION:Check the newsletter for location and/or teleconferencing information.
URL:https://www.deercreekcc.com/events/arb-committee-3/2022-06-07/
LOCATION:Deercreek Clubhouse\, FL
CATEGORIES:ARB
END:VEVENT
BEGIN:VEVENT
DTSTART;TZID=America/New_York:20220613T103000
DTEND;TZID=America/New_York:20220613T103000
DTSTAMP:20260421T092500
CREATED:20200823T140624Z
LAST-MODIFIED:20200823T141426Z
UID:10001982-1655116200-1655116200@www.deercreekcc.com
SUMMARY:Alpha Omega Truck Pick Up
DESCRIPTION:
URL:https://www.deercreekcc.com/events/alpha-omega-truck-pick-up-2/2022-06-13/
LOCATION:FL\, United States
END:VEVENT
BEGIN:VEVENT
DTSTART;TZID=America/New_York:20220613T180000
DTEND;TZID=America/New_York:20220613T180000
DTSTAMP:20260421T092500
CREATED:20211229T190429Z
LAST-MODIFIED:20221130T160002Z
UID:10002172-1655143200-1655143200@www.deercreekcc.com
SUMMARY:Common Property
DESCRIPTION:Common Property meets on the second Monday of each month at 6 p.m.
URL:https://www.deercreekcc.com/events/common-property-4/2022-06-13/
LOCATION:Deercreek Clubhouse\, FL
CATEGORIES:Common Property
END:VEVENT
BEGIN:VEVENT
DTSTART;TZID=America/New_York:20220615T183000
DTEND;TZID=America/New_York:20220615T183000
DTSTAMP:20260421T092500
CREATED:20220106T172850Z
LAST-MODIFIED:20220106T173602Z
UID:10002259-1655317800-1655317800@www.deercreekcc.com
SUMMARY:Edgewater HOA
DESCRIPTION:MEETINGS \nLocation of All Regular\, Budget and Annual Meetings:\n10020 Watermark Lane\nJacksonville\, FL 32256 \nEdgewater residents are welcome at all Board meetings and will be notified by either Association or the DCCC signboard in advance of each meeting. \nMinutes to each Board meeting are available upon request. \nBOARD OF DIRECTORS \n\nPresident:  Raymond Saliba   [Expires 2023]\nVice President: Doug Harlan   [Expires 2023]\nTreasurer: Christine Sakr   [Expires 2023]\nSecretary: Martin Koziek   [Expires 2023]\nDirector: Craig Smythe   [Expires 2023]
URL:https://www.deercreekcc.com/events/edgewater-hoa-march-2022/2022-06-15/
LOCATION:FL
CATEGORIES:Edgewater
END:VEVENT
BEGIN:VEVENT
DTSTART;TZID=America/New_York:20220620T100000
DTEND;TZID=America/New_York:20220620T233000
DTSTAMP:20260421T092500
CREATED:20220519T223730Z
LAST-MODIFIED:20220523T165625Z
UID:10002271-1655719200-1655767800@www.deercreekcc.com
SUMMARY:Book Club June 2022
DESCRIPTION:The Egg and I by Betty MacDonald \nFirst published in 1945\, this humorous memoir is about the author’s adventures and travels as a young wife on a chicken farm in the US state of Washington.
URL:https://www.deercreekcc.com/events/book-club-june-2022/
LOCATION:Meetings are held in the Ladies Card Room of the Clubhouse\, FL\, United States
CATEGORIES:Book Club
ATTACH;FMTTYPE=image/jpeg:https://www.deercreekcc.com/wp-content/uploads/book-may-2022-web.jpg
ORGANIZER;CN="Patricia Sterling":MAILTO:patriciasterling@gmail.com
END:VEVENT
BEGIN:VEVENT
DTSTART;TZID=America/New_York:20220620T180000
DTEND;TZID=America/New_York:20220620T180000
DTSTAMP:20260421T092500
CREATED:20211229T190903Z
LAST-MODIFIED:20221130T144857Z
UID:10002210-1655748000-1655748000@www.deercreekcc.com
SUMMARY:Covenant Enforcement
DESCRIPTION:
URL:https://www.deercreekcc.com/events/covenant-enforcement-3/2022-06-20/
LOCATION:FL
CATEGORIES:Fine Appeals
END:VEVENT
BEGIN:VEVENT
DTSTART;TZID=America/New_York:20220621T180000
DTEND;TZID=America/New_York:20220621T180000
DTSTAMP:20260421T092500
CREATED:20211229T190618Z
LAST-MODIFIED:20221130T145151Z
UID:10002196-1655834400-1655834400@www.deercreekcc.com
SUMMARY:Finance
DESCRIPTION:Check the website at www.deercreekcc.com/finance for location and/or teleconferencing information.
URL:https://www.deercreekcc.com/events/finance-4/2022-06-21/
LOCATION:FL
CATEGORIES:Finance
END:VEVENT
BEGIN:VEVENT
DTSTART;TZID=America/New_York:20220628T180000
DTEND;TZID=America/New_York:20220628T180000
DTSTAMP:20260421T092500
CREATED:20211225T222728Z
LAST-MODIFIED:20221130T160759Z
UID:10002132-1656439200-1656439200@www.deercreekcc.com
SUMMARY:DCCOA Board
DESCRIPTION:FOR ACCESS:\nCALL 904 705 – 1849 or 904 – 631-4188\nand a board member will open the door
URL:https://www.deercreekcc.com/events/dccoa-board-22/2022-06-28/
LOCATION:FL
CATEGORIES:DCCOA Board
END:VEVENT
END:VCALENDAR