BEGIN:VCALENDAR
VERSION:2.0
PRODID:-//Deercreek Country Club Owners Association - ECPv6.15.20//NONSGML v1.0//EN
CALSCALE:GREGORIAN
METHOD:PUBLISH
X-ORIGINAL-URL:https://www.deercreekcc.com
X-WR-CALDESC:Events for Deercreek Country Club Owners Association
REFRESH-INTERVAL;VALUE=DURATION:PT1H
X-Robots-Tag:noindex
X-PUBLISHED-TTL:PT1H
BEGIN:VTIMEZONE
TZID:America/New_York
BEGIN:DAYLIGHT
TZOFFSETFROM:-0500
TZOFFSETTO:-0400
TZNAME:EDT
DTSTART:20210314T070000
END:DAYLIGHT
BEGIN:STANDARD
TZOFFSETFROM:-0400
TZOFFSETTO:-0500
TZNAME:EST
DTSTART:20211107T060000
END:STANDARD
BEGIN:DAYLIGHT
TZOFFSETFROM:-0500
TZOFFSETTO:-0400
TZNAME:EDT
DTSTART:20220313T070000
END:DAYLIGHT
BEGIN:STANDARD
TZOFFSETFROM:-0400
TZOFFSETTO:-0500
TZNAME:EST
DTSTART:20221106T060000
END:STANDARD
BEGIN:DAYLIGHT
TZOFFSETFROM:-0500
TZOFFSETTO:-0400
TZNAME:EDT
DTSTART:20230312T070000
END:DAYLIGHT
BEGIN:STANDARD
TZOFFSETFROM:-0400
TZOFFSETTO:-0500
TZNAME:EST
DTSTART:20231105T060000
END:STANDARD
END:VTIMEZONE
BEGIN:VEVENT
DTSTART;TZID=America/New_York:20220405T180000
DTEND;TZID=America/New_York:20220405T180000
DTSTAMP:20260421T130115
CREATED:20211229T191034Z
LAST-MODIFIED:20220103T214326Z
UID:10002220-1649181600-1649181600@www.deercreekcc.com
SUMMARY:Communications Committee
DESCRIPTION:
URL:https://www.deercreekcc.com/events/communications-4-2022-02-01/2022-04-05/
LOCATION:FL
CATEGORIES:Communications
END:VEVENT
BEGIN:VEVENT
DTSTART;TZID=America/New_York:20220405T190000
DTEND;TZID=America/New_York:20220405T190000
DTSTAMP:20260421T130115
CREATED:20211229T185629Z
LAST-MODIFIED:20221130T154211Z
UID:10002141-1649185200-1649185200@www.deercreekcc.com
SUMMARY:ARB Committee
DESCRIPTION:Check the newsletter for location and/or teleconferencing information.
URL:https://www.deercreekcc.com/events/arb-committee-3/2022-04-05/
LOCATION:Deercreek Clubhouse\, FL
CATEGORIES:ARB
END:VEVENT
BEGIN:VEVENT
DTSTART;TZID=America/New_York:20220411T180000
DTEND;TZID=America/New_York:20220411T180000
DTSTAMP:20260421T130115
CREATED:20211229T190429Z
LAST-MODIFIED:20221130T160002Z
UID:10002170-1649700000-1649700000@www.deercreekcc.com
SUMMARY:Common Property
DESCRIPTION:Common Property meets on the second Monday of each month at 6 p.m.
URL:https://www.deercreekcc.com/events/common-property-4/2022-04-11/
LOCATION:Deercreek Clubhouse\, FL
CATEGORIES:Common Property
END:VEVENT
BEGIN:VEVENT
DTSTART;TZID=America/New_York:20220413T103000
DTEND;TZID=America/New_York:20220413T103000
DTSTAMP:20260421T130115
CREATED:20200823T140624Z
LAST-MODIFIED:20200823T141426Z
UID:10001980-1649845800-1649845800@www.deercreekcc.com
SUMMARY:Alpha Omega Truck Pick Up
DESCRIPTION:
URL:https://www.deercreekcc.com/events/alpha-omega-truck-pick-up-2/2022-04-13/
LOCATION:FL\, United States
END:VEVENT
BEGIN:VEVENT
DTSTART;TZID=America/New_York:20220418T100000
DTEND;TZID=America/New_York:20220418T113000
DTSTAMP:20260421T130115
CREATED:20220325T212733Z
LAST-MODIFIED:20220327T144804Z
UID:10002047-1650276000-1650281400@www.deercreekcc.com
SUMMARY:Book Club
DESCRIPTION:Hamnet\nby Maggie O’Farrell\, 2020. Biographical fiction/historical fiction. \nA fictional account of Shakespeare’s son\, Hamnet\, who died at age 11 in 1596. “A story of the bond between twins\, and of a marriage pushed to the brink by grief. It is also about a kestrel and its mistress; a flea that boards a ship in Alexandria; and a glovemaker’s son who flouts convention in pursuit of the woman he loves. Above all\, Hamnet is a reimagining of a boy whose life has been all but forgotten\, but whose name was given to one of the most celebrated plays ever written.”—Maggie O’Farrell \nDiscussion Leader: Connie Davis
URL:https://www.deercreekcc.com/events/book-club-4-2022/
LOCATION:Meetings are held in the Ladies Card Room of the Clubhouse\, FL\, United States
CATEGORIES:Book Club
ATTACH;FMTTYPE=image/jpeg:https://www.deercreekcc.com/wp-content/uploads/book-feb-2022.jpg
END:VEVENT
BEGIN:VEVENT
DTSTART;TZID=America/New_York:20220418T180000
DTEND;TZID=America/New_York:20220418T180000
DTSTAMP:20260421T130115
CREATED:20211229T190903Z
LAST-MODIFIED:20221130T144857Z
UID:10002208-1650304800-1650304800@www.deercreekcc.com
SUMMARY:Covenant Enforcement
DESCRIPTION:
URL:https://www.deercreekcc.com/events/covenant-enforcement-3/2022-04-18/
LOCATION:FL
CATEGORIES:Fine Appeals
END:VEVENT
BEGIN:VEVENT
DTSTART;TZID=America/New_York:20220419T100000
DTEND;TZID=America/New_York:20220419T113000
DTSTAMP:20260421T130115
CREATED:20220325T212739Z
LAST-MODIFIED:20220329T085819Z
UID:10002049-1650362400-1650367800@www.deercreekcc.com
SUMMARY:Home & Garden Club
DESCRIPTION:Tuesday\, April 19\, 10:00-11:30 amDeercreek Clubhouse \nRSVP by April 18 to deercreekhgc@gmail.com \nSee another great presentation from the Duval County Extension Service! A Master Gardener will share ideas and tips for your spring garden. \nAlso\, since our current Home and Garden Club year is drawing to a close\, our Board will present next year’s board members for approval in the meeting.
URL:https://www.deercreekcc.com/events/choose-new-books-2022-2/
LOCATION:Deercreek Country Club
CATEGORIES:Home and Garden Club
ATTACH;FMTTYPE=image/jpeg:https://www.deercreekcc.com/wp-content/uploads/entry-307-apr_2022_garden_butterfly_photo-scaled.jpg
END:VEVENT
BEGIN:VEVENT
DTSTART;TZID=America/New_York:20220419T180000
DTEND;TZID=America/New_York:20220419T180000
DTSTAMP:20260421T130115
CREATED:20211229T190618Z
LAST-MODIFIED:20221130T145151Z
UID:10002194-1650391200-1650391200@www.deercreekcc.com
SUMMARY:Finance
DESCRIPTION:Check the website at www.deercreekcc.com/finance for location and/or teleconferencing information.
URL:https://www.deercreekcc.com/events/finance-4/2022-04-19/
LOCATION:FL
CATEGORIES:Finance
END:VEVENT
BEGIN:VEVENT
DTSTART;TZID=America/New_York:20220426T180000
DTEND;TZID=America/New_York:20220426T180000
DTSTAMP:20260421T130115
CREATED:20211225T222728Z
LAST-MODIFIED:20221130T160759Z
UID:10002130-1650996000-1650996000@www.deercreekcc.com
SUMMARY:DCCOA Board
DESCRIPTION:FOR ACCESS:\nCALL 904 705 – 1849 or 904 – 631-4188\nand a board member will open the door
URL:https://www.deercreekcc.com/events/dccoa-board-22/2022-04-26/
LOCATION:FL
CATEGORIES:DCCOA Board
END:VEVENT
END:VCALENDAR