BEGIN:VCALENDAR
VERSION:2.0
PRODID:-//Deercreek Country Club Owners Association - ECPv6.15.20//NONSGML v1.0//EN
CALSCALE:GREGORIAN
METHOD:PUBLISH
X-WR-CALNAME:Deercreek Country Club Owners Association
X-ORIGINAL-URL:https://www.deercreekcc.com
X-WR-CALDESC:Events for Deercreek Country Club Owners Association
REFRESH-INTERVAL;VALUE=DURATION:PT1H
X-Robots-Tag:noindex
X-PUBLISHED-TTL:PT1H
BEGIN:VTIMEZONE
TZID:America/New_York
BEGIN:DAYLIGHT
TZOFFSETFROM:-0500
TZOFFSETTO:-0400
TZNAME:EDT
DTSTART:20210314T070000
END:DAYLIGHT
BEGIN:STANDARD
TZOFFSETFROM:-0400
TZOFFSETTO:-0500
TZNAME:EST
DTSTART:20211107T060000
END:STANDARD
BEGIN:DAYLIGHT
TZOFFSETFROM:-0500
TZOFFSETTO:-0400
TZNAME:EDT
DTSTART:20220313T070000
END:DAYLIGHT
BEGIN:STANDARD
TZOFFSETFROM:-0400
TZOFFSETTO:-0500
TZNAME:EST
DTSTART:20221106T060000
END:STANDARD
BEGIN:DAYLIGHT
TZOFFSETFROM:-0500
TZOFFSETTO:-0400
TZNAME:EDT
DTSTART:20230312T070000
END:DAYLIGHT
BEGIN:STANDARD
TZOFFSETFROM:-0400
TZOFFSETTO:-0500
TZNAME:EST
DTSTART:20231105T060000
END:STANDARD
END:VTIMEZONE
BEGIN:VEVENT
DTSTART;TZID=America/New_York:20220104T180000
DTEND;TZID=America/New_York:20220104T180000
DTSTAMP:20260421T173648
CREATED:20211229T191034Z
LAST-MODIFIED:20220103T214342Z
UID:10002217-1641319200-1641319200@www.deercreekcc.com
SUMMARY:Communications Committee - Canceled
DESCRIPTION:
URL:https://www.deercreekcc.com/events/communications-4/
LOCATION:FL
CATEGORIES:Communications
END:VEVENT
BEGIN:VEVENT
DTSTART;TZID=America/New_York:20220104T190000
DTEND;TZID=America/New_York:20220104T190000
DTSTAMP:20260421T173648
CREATED:20211229T185629Z
LAST-MODIFIED:20221130T154211Z
UID:10002138-1641322800-1641322800@www.deercreekcc.com
SUMMARY:ARB Committee
DESCRIPTION:Check the newsletter for location and/or teleconferencing information.
URL:https://www.deercreekcc.com/events/arb-committee-3/2022-01-04/
LOCATION:Deercreek Clubhouse\, FL
CATEGORIES:ARB
END:VEVENT
BEGIN:VEVENT
DTSTART;TZID=America/New_York:20220110T180000
DTEND;TZID=America/New_York:20220110T180000
DTSTAMP:20260421T173648
CREATED:20211229T190429Z
LAST-MODIFIED:20221130T160002Z
UID:10002169-1641837600-1641837600@www.deercreekcc.com
SUMMARY:Common Property
DESCRIPTION:Common Property meets on the second Monday of each month at 6 p.m.
URL:https://www.deercreekcc.com/events/common-property-4/2022-01-10/
LOCATION:Deercreek Clubhouse\, FL
CATEGORIES:Common Property
END:VEVENT
BEGIN:VEVENT
DTSTART;TZID=America/New_York:20220111T180000
DTEND;TZID=America/New_York:20220111T180000
DTSTAMP:20260421T173648
CREATED:20211229T232234Z
LAST-MODIFIED:20211229T232234Z
UID:10002256-1641924000-1641924000@www.deercreekcc.com
SUMMARY:Annual Meeting
DESCRIPTION:
URL:https://www.deercreekcc.com/events/annual-meeting-2/
LOCATION:FL
END:VEVENT
BEGIN:VEVENT
DTSTART;TZID=America/New_York:20220113T103000
DTEND;TZID=America/New_York:20220113T103000
DTSTAMP:20260421T173648
CREATED:20200823T140624Z
LAST-MODIFIED:20200823T141426Z
UID:10001977-1642069800-1642069800@www.deercreekcc.com
SUMMARY:Alpha Omega Truck Pick Up
DESCRIPTION:
URL:https://www.deercreekcc.com/events/alpha-omega-truck-pick-up-2/2022-01-13/
LOCATION:FL\, United States
END:VEVENT
BEGIN:VEVENT
DTSTART;TZID=America/New_York:20220117T100000
DTEND;TZID=America/New_York:20220117T100000
DTSTAMP:20260421T173648
CREATED:20210517T212841Z
LAST-MODIFIED:20211230T174810Z
UID:10002100-1642413600-1642413600@www.deercreekcc.com
SUMMARY:Book Club
DESCRIPTION:Daughter of a Daughter of a Queen by Sarah Bird\, 2018. Historical fiction/war story \nLoosely based on the true story of a freed female slave who posed as a man\, joined the army\, and served with the Buffalo Soldiers. The sweeping plot travels from the Civil War South to the Western frontier in a high-energy page-turner that combines vividly re-created historical figures and an embattled secret love. \nDiscussion Leader: Pat Boger
URL:https://www.deercreekcc.com/events/book-club-2022-jan/
LOCATION:Meetings are held in the Ladies Card Room of the Clubhouse\, FL\, United States
CATEGORIES:Book Club
ATTACH;FMTTYPE=image/jpeg:https://www.deercreekcc.com/wp-content/uploads/book-nov-2021-web.jpg
END:VEVENT
BEGIN:VEVENT
DTSTART;TZID=America/New_York:20220117T180000
DTEND;TZID=America/New_York:20220117T180000
DTSTAMP:20260421T173648
CREATED:20211229T190903Z
LAST-MODIFIED:20221130T144857Z
UID:10002205-1642442400-1642442400@www.deercreekcc.com
SUMMARY:Covenant Enforcement
DESCRIPTION:
URL:https://www.deercreekcc.com/events/covenant-enforcement-3/2022-01-17/
LOCATION:FL
CATEGORIES:Fine Appeals
END:VEVENT
BEGIN:VEVENT
DTSTART;TZID=America/New_York:20220118T100000
DTEND;TZID=America/New_York:20220118T113000
DTSTAMP:20260421T173648
CREATED:20211215T223217Z
LAST-MODIFIED:20211215T223439Z
UID:10002126-1642500000-1642505400@www.deercreekcc.com
SUMMARY:First Lady Florence Harding
DESCRIPTION:Back by popular demand! To kick off the new year\, Ruth Pangrace will return to the Deercreek Home and Garden Club for one of her Women in History performances! She will be recreating Florence Harding\, and you won’t want to miss it. \nThis special presentation\, for our members and invited guests only.  To attend\, RSVP to deercreekhgc@gmail.com by January 17\, 2022. \nIn case you’re not familiar with Florence Harding\, she served as First Lady from 1921-1923 as the wife of President Warren G. Harding. Energetic and strong-willed\, Florence paved the way for “modern” first ladies who would follow her. Unfortunately\, Warren Harding is remembered as one of the worst U.S. presidents\, and his one term was plagued with scandal and corruption. Come meet “The Duchess” and hear the shocking story of a woman you will not soon forget.
URL:https://www.deercreekcc.com/events/first-lady-florence-harding/
LOCATION:Deercreek Country Club
CATEGORIES:Home and Garden Club
ATTACH;FMTTYPE=image/jpeg:https://www.deercreekcc.com/wp-content/uploads/Hg-jan-2022.jpg
END:VEVENT
BEGIN:VEVENT
DTSTART;TZID=America/New_York:20220118T180000
DTEND;TZID=America/New_York:20220118T180000
DTSTAMP:20260421T173648
CREATED:20211229T190618Z
LAST-MODIFIED:20221130T145151Z
UID:10002193-1642528800-1642528800@www.deercreekcc.com
SUMMARY:Finance
DESCRIPTION:Check the website at www.deercreekcc.com/finance for location and/or teleconferencing information.
URL:https://www.deercreekcc.com/events/finance-4/2022-01-18/
LOCATION:FL
CATEGORIES:Finance
END:VEVENT
BEGIN:VEVENT
DTSTART;TZID=America/New_York:20220125T180000
DTEND;TZID=America/New_York:20220125T180000
DTSTAMP:20260421T173648
CREATED:20211225T222728Z
LAST-MODIFIED:20220404T133350Z
UID:10002127-1643133600-1643133600@www.deercreekcc.com
SUMMARY:DCCOA Board
DESCRIPTION:FOR ACCESS:\nCALL 904 705 – 1849 or 904 – 631-4188\nand a board member will open the door
URL:https://www.deercreekcc.com/events/dccoaboard2022/2022-01-25/
LOCATION:FL
CATEGORIES:DCCOA Board
END:VEVENT
END:VCALENDAR