BEGIN:VCALENDAR
VERSION:2.0
PRODID:-//Deercreek Country Club Owners Association - ECPv6.15.20//NONSGML v1.0//EN
CALSCALE:GREGORIAN
METHOD:PUBLISH
X-WR-CALNAME:Deercreek Country Club Owners Association
X-ORIGINAL-URL:https://www.deercreekcc.com
X-WR-CALDESC:Events for Deercreek Country Club Owners Association
REFRESH-INTERVAL;VALUE=DURATION:PT1H
X-Robots-Tag:noindex
X-PUBLISHED-TTL:PT1H
BEGIN:VTIMEZONE
TZID:America/New_York
BEGIN:DAYLIGHT
TZOFFSETFROM:-0500
TZOFFSETTO:-0400
TZNAME:EDT
DTSTART:20200308T070000
END:DAYLIGHT
BEGIN:STANDARD
TZOFFSETFROM:-0400
TZOFFSETTO:-0500
TZNAME:EST
DTSTART:20201101T060000
END:STANDARD
BEGIN:DAYLIGHT
TZOFFSETFROM:-0500
TZOFFSETTO:-0400
TZNAME:EDT
DTSTART:20210314T070000
END:DAYLIGHT
BEGIN:STANDARD
TZOFFSETFROM:-0400
TZOFFSETTO:-0500
TZNAME:EST
DTSTART:20211107T060000
END:STANDARD
BEGIN:DAYLIGHT
TZOFFSETFROM:-0500
TZOFFSETTO:-0400
TZNAME:EDT
DTSTART:20220313T070000
END:DAYLIGHT
BEGIN:STANDARD
TZOFFSETFROM:-0400
TZOFFSETTO:-0500
TZNAME:EST
DTSTART:20221106T060000
END:STANDARD
END:VTIMEZONE
BEGIN:VEVENT
DTSTART;TZID=America/New_York:20211207T180000
DTEND;TZID=America/New_York:20211207T190000
DTSTAMP:20260421T190916
CREATED:20210628T192739Z
LAST-MODIFIED:20210730T021444Z
UID:10001953-1638900000-1638903600@www.deercreekcc.com
SUMMARY:Communications
DESCRIPTION:Check the newsletter for location and/or teleconferencing information.
URL:https://www.deercreekcc.com/events/communications-3/2021-12-07/
LOCATION:FL
CATEGORIES:Communications
END:VEVENT
BEGIN:VEVENT
DTSTART;TZID=America/New_York:20211207T190000
DTEND;TZID=America/New_York:20211207T190000
DTSTAMP:20260421T190916
CREATED:20210628T185738Z
LAST-MODIFIED:20210629T004617Z
UID:10002110-1638903600-1638903600@www.deercreekcc.com
SUMMARY:ARB Committee
DESCRIPTION:Check the newsletter for location and/or teleconferencing information.
URL:https://www.deercreekcc.com/events/arb-committee-2-2021-08-03/2021-12-07/
LOCATION:FL
CATEGORIES:ARB
END:VEVENT
BEGIN:VEVENT
DTSTART;TZID=America/New_York:20211208T183000
DTEND;TZID=America/New_York:20211208T183000
DTSTAMP:20260421T190916
CREATED:20210820T144647Z
LAST-MODIFIED:20211201T150139Z
UID:10002118-1638988200-1638988200@www.deercreekcc.com
SUMMARY:Edgewater Annual Meeting
DESCRIPTION:
URL:https://www.deercreekcc.com/events/edgewater-annual-meeting/
LOCATION:FL
END:VEVENT
BEGIN:VEVENT
DTSTART;TZID=America/New_York:20211213T100000
DTEND;TZID=America/New_York:20211213T113000
DTSTAMP:20260421T190916
CREATED:20210517T213758Z
LAST-MODIFIED:20211117T170405Z
UID:10002102-1639389600-1639395000@www.deercreekcc.com
SUMMARY:Book Club December 2021
DESCRIPTION:No! I Don’t Want to Join a Book Club: Diary of a 60th Year by Virginia Ironside\, 2006. Fiction/humor. \nMarie Sharp is turning 60 and just wants to put her feet up and “start doing old things.” But as it turns out\, life still has some surprises in store and refuses to follow her plan. The book has been called\, “A screamingly funny coming-of-old-age story about embracing life.” \nDiscussion Leader: Kathy Kleppinger
URL:https://www.deercreekcc.com/events/book-club-december-2021/
LOCATION:FL
CATEGORIES:Book Club
ATTACH;FMTTYPE=image/jpeg:https://www.deercreekcc.com/wp-content/uploads/book-club-dec-2021-web.jpg
END:VEVENT
BEGIN:VEVENT
DTSTART;TZID=America/New_York:20211213T103000
DTEND;TZID=America/New_York:20211213T103000
DTSTAMP:20260421T190916
CREATED:20200823T140624Z
LAST-MODIFIED:20200823T141426Z
UID:10001976-1639391400-1639391400@www.deercreekcc.com
SUMMARY:Alpha Omega Truck Pick Up
DESCRIPTION:
URL:https://www.deercreekcc.com/events/alpha-omega-truck-pick-up-2/2021-12-13/
LOCATION:FL\, United States
END:VEVENT
BEGIN:VEVENT
DTSTART;TZID=America/New_York:20211213T180000
DTEND;TZID=America/New_York:20211213T180000
DTSTAMP:20260421T190916
CREATED:20210628T191732Z
LAST-MODIFIED:20210628T195542Z
UID:10001932-1639418400-1639418400@www.deercreekcc.com
SUMMARY:Common Property
DESCRIPTION:Check the newsletter for location and/or teleconferencing information.
URL:https://www.deercreekcc.com/events/common-property-2/2021-12-13/
LOCATION:FL
CATEGORIES:Common Property
END:VEVENT
BEGIN:VEVENT
DTSTART;TZID=America/New_York:20211220T180000
DTEND;TZID=America/New_York:20211220T180000
DTSTAMP:20260421T190916
CREATED:20210628T192430Z
LAST-MODIFIED:20210628T195847Z
UID:10001947-1640023200-1640023200@www.deercreekcc.com
SUMMARY:Covenant Enforcement
DESCRIPTION:Check the newsletter for location and/or teleconferencing information.
URL:https://www.deercreekcc.com/events/covenant-enforcement-2/2021-12-20/
LOCATION:FL
CATEGORIES:Fine Appeals
END:VEVENT
BEGIN:VEVENT
DTSTART;TZID=America/New_York:20211221T180000
DTEND;TZID=America/New_York:20211221T180000
DTSTAMP:20260421T190916
CREATED:20210628T192101Z
LAST-MODIFIED:20210628T195738Z
UID:10001938-1640109600-1640109600@www.deercreekcc.com
SUMMARY:Finance
DESCRIPTION:Check the website at www.deercreekcc.com/finance for location and/or teleconferencing information.
URL:https://www.deercreekcc.com/events/finance-3/2021-12-21/
LOCATION:FL
CATEGORIES:Finance
END:VEVENT
END:VCALENDAR