BEGIN:VCALENDAR
VERSION:2.0
PRODID:-//Deercreek Country Club Owners Association - ECPv6.15.20//NONSGML v1.0//EN
CALSCALE:GREGORIAN
METHOD:PUBLISH
X-WR-CALNAME:Deercreek Country Club Owners Association
X-ORIGINAL-URL:https://www.deercreekcc.com
X-WR-CALDESC:Events for Deercreek Country Club Owners Association
REFRESH-INTERVAL;VALUE=DURATION:PT1H
X-Robots-Tag:noindex
X-PUBLISHED-TTL:PT1H
BEGIN:VTIMEZONE
TZID:America/New_York
BEGIN:DAYLIGHT
TZOFFSETFROM:-0500
TZOFFSETTO:-0400
TZNAME:EDT
DTSTART:20200308T070000
END:DAYLIGHT
BEGIN:STANDARD
TZOFFSETFROM:-0400
TZOFFSETTO:-0500
TZNAME:EST
DTSTART:20201101T060000
END:STANDARD
BEGIN:DAYLIGHT
TZOFFSETFROM:-0500
TZOFFSETTO:-0400
TZNAME:EDT
DTSTART:20210314T070000
END:DAYLIGHT
BEGIN:STANDARD
TZOFFSETFROM:-0400
TZOFFSETTO:-0500
TZNAME:EST
DTSTART:20211107T060000
END:STANDARD
BEGIN:DAYLIGHT
TZOFFSETFROM:-0500
TZOFFSETTO:-0400
TZNAME:EDT
DTSTART:20220313T070000
END:DAYLIGHT
BEGIN:STANDARD
TZOFFSETFROM:-0400
TZOFFSETTO:-0500
TZNAME:EST
DTSTART:20221106T060000
END:STANDARD
END:VTIMEZONE
BEGIN:VEVENT
DTSTART;TZID=America/New_York:20211005T180000
DTEND;TZID=America/New_York:20211005T190000
DTSTAMP:20260421T223453
CREATED:20210628T192739Z
LAST-MODIFIED:20211001T134741Z
UID:10001956-1633456800-1633460400@www.deercreekcc.com
SUMMARY:Communications - Meeting Canceled
DESCRIPTION:Check the newsletter for location and/or teleconferencing information.
URL:https://www.deercreekcc.com/events/communications-3-2021-10-05/
LOCATION:FL
CATEGORIES:Communications
END:VEVENT
BEGIN:VEVENT
DTSTART;TZID=America/New_York:20211005T190000
DTEND;TZID=America/New_York:20211005T190000
DTSTAMP:20260421T223453
CREATED:20210628T185738Z
LAST-MODIFIED:20210629T004617Z
UID:10002108-1633460400-1633460400@www.deercreekcc.com
SUMMARY:ARB Committee
DESCRIPTION:Check the newsletter for location and/or teleconferencing information.
URL:https://www.deercreekcc.com/events/arb-committee-2-2021-08-03/2021-10-05/
LOCATION:FL
CATEGORIES:ARB
END:VEVENT
BEGIN:VEVENT
DTSTART;TZID=America/New_York:20211011T180000
DTEND;TZID=America/New_York:20211011T180000
DTSTAMP:20260421T223453
CREATED:20210628T191732Z
LAST-MODIFIED:20210628T195542Z
UID:10001930-1633975200-1633975200@www.deercreekcc.com
SUMMARY:Common Property
DESCRIPTION:Check the newsletter for location and/or teleconferencing information.
URL:https://www.deercreekcc.com/events/common-property-2/2021-10-11/
LOCATION:FL
CATEGORIES:Common Property
END:VEVENT
BEGIN:VEVENT
DTSTART;TZID=America/New_York:20211013T103000
DTEND;TZID=America/New_York:20211013T103000
DTSTAMP:20260421T223453
CREATED:20200823T140624Z
LAST-MODIFIED:20200823T141426Z
UID:10001974-1634121000-1634121000@www.deercreekcc.com
SUMMARY:Alpha Omega Truck Pick Up
DESCRIPTION:
URL:https://www.deercreekcc.com/events/alpha-omega-truck-pick-up-2/2021-10-13/
LOCATION:FL\, United States
END:VEVENT
BEGIN:VEVENT
DTSTART;TZID=America/New_York:20211018T100000
DTEND;TZID=America/New_York:20211018T233000
DTSTAMP:20260421T223453
CREATED:20210517T212511Z
LAST-MODIFIED:20211001T173531Z
UID:10002099-1634551200-1634599800@www.deercreekcc.com
SUMMARY:Book Club October 2021
DESCRIPTION:All the Ways We Said Goodbye: A Novel of the Ritz Paris\nby Beatriz Williams\, Lauren Willig & Karen White\, 2020. Historical fiction/romance/mystery.\n \nSept All the Ways We Said Goodbye: A Novel of the Ritz Paris by Beatriz Williams\, Lauren Willig & Karen White\, 2020. Historical fiction/romance/mystery. A multi-generational family mystery\, spanning World War I\, World War II\, and the late 1960s. Three women with bruised hearts find refuge at the iconic Ritz Hotel Paris amid some of the biggest events of the 20th century. Phyllis Basford. \nDiscussion Leader: Phyllis Basford
URL:https://www.deercreekcc.com/events/book-club-2021-sep/
LOCATION:Meetings are held in the Ladies Card Room of the Clubhouse\, FL
CATEGORIES:Book Club
ATTACH;FMTTYPE=image/jpeg:https://www.deercreekcc.com/wp-content/uploads/book-sep-2021-web.jpg
ORGANIZER;CN="Patricia Sterling":MAILTO:patriciasterling@gmail.com
END:VEVENT
BEGIN:VEVENT
DTSTART;TZID=America/New_York:20211018T180000
DTEND;TZID=America/New_York:20211018T180000
DTSTAMP:20260421T223453
CREATED:20210628T192430Z
LAST-MODIFIED:20210628T195847Z
UID:10001945-1634580000-1634580000@www.deercreekcc.com
SUMMARY:Covenant Enforcement
DESCRIPTION:Check the newsletter for location and/or teleconferencing information.
URL:https://www.deercreekcc.com/events/covenant-enforcement-2/2021-10-18/
LOCATION:FL
CATEGORIES:Fine Appeals
END:VEVENT
BEGIN:VEVENT
DTSTART;TZID=America/New_York:20211019T180000
DTEND;TZID=America/New_York:20211019T180000
DTSTAMP:20260421T223453
CREATED:20210628T192101Z
LAST-MODIFIED:20210628T195738Z
UID:10001937-1634666400-1634666400@www.deercreekcc.com
SUMMARY:Finance
DESCRIPTION:Check the website at www.deercreekcc.com/finance for location and/or teleconferencing information.
URL:https://www.deercreekcc.com/events/finance-3/2021-10-19/
LOCATION:FL
CATEGORIES:Finance
END:VEVENT
BEGIN:VEVENT
DTSTART;TZID=America/New_York:20211021T183000
DTEND;TZID=America/New_York:20211021T183000
DTSTAMP:20260421T223453
CREATED:20210820T145052Z
LAST-MODIFIED:20210820T145052Z
UID:10002120-1634841000-1634841000@www.deercreekcc.com
SUMMARY:Edgewater Budget Meeting
DESCRIPTION:
URL:https://www.deercreekcc.com/events/edgewater-budget-meeting/
LOCATION:FL
END:VEVENT
BEGIN:VEVENT
DTSTART;TZID=America/New_York:20211026T100000
DTEND;TZID=America/New_York:20211026T103000
DTSTAMP:20260421T223453
CREATED:20210921T193740Z
LAST-MODIFIED:20210921T193740Z
UID:10002122-1635242400-1635244200@www.deercreekcc.com
SUMMARY:Backyard Birds of Northeast Florida
DESCRIPTION:Presented by the Duval Audubon Society \nRSVP by Monday\, Oct 25\, 2021 to deercreekhgc@gmail.com \nLiving at Deercreek\, we have a plethora of birds! In the spring\, we see the more common species\, such as cardinals\, in our yards and trees. In the summer\, we may have the tiniest hummingbirds zipping among our trees\, and in the fall and winter\, we have great flocks of waterfowl – geese (honk\, honk)\, egrets\, and birds of prey. And every season\, we probably think/say at least once\, “What kind of bird is that?” \nAttend this month’s Home and Garden Club meeting to hear Carol Bailey White\, from the Duval Audubon Society\, present “Backyard Birds of Northeast Florida”. Learn how to identify the birds we frequently see in our backyards! \nThere is no charge for this program; however\, a donation jar will be available for anyone who wishes to make a voluntary donation. \nSpecial Event at the meeting! \nComfort n’ Quilters will display their hand-crafted quilts in our room\, giving us the opportunity to buy a quilt and support their charity at the same time! The quilting group\, including three Home and Garden Club members (Mary Lou Roberts\, Maryann Grauwiler\, and Jan Walter) sews over 150 quilts a year to give to young cancer patients at Wolfson Children’s Hospital\, Nemours Children’s Health\, and Seamark Ranch. Buying a quilt at this special event provides Comfort n’ Quilters cash to purchase quilting supplies.
URL:https://www.deercreekcc.com/events/backyard-birds-of-northeast-florida/
LOCATION:Deercreek Country Club
CATEGORIES:Home and Garden Club
ATTACH;FMTTYPE=image/jpeg:https://www.deercreekcc.com/wp-content/uploads/audubon-society.jpg
END:VEVENT
BEGIN:VEVENT
DTSTART;TZID=America/New_York:20211026T180000
DTEND;TZID=America/New_York:20211026T180000
DTSTAMP:20260421T223453
CREATED:20210628T193143Z
LAST-MODIFIED:20210628T195954Z
UID:10001961-1635271200-1635271200@www.deercreekcc.com
SUMMARY:DCCOA Board
DESCRIPTION:Check the newsletter for location and/or teleconferencing information.
URL:https://www.deercreekcc.com/events/dccoa-board/2021-10-26/
LOCATION:FL
CATEGORIES:DCCOA Board
END:VEVENT
BEGIN:VEVENT
DTSTART;TZID=America/New_York:20211027T180000
DTEND;TZID=America/New_York:20211027T203000
DTSTAMP:20260421T223453
CREATED:20210927T173151Z
LAST-MODIFIED:20210927T173151Z
UID:10002123-1635357600-1635366600@www.deercreekcc.com
SUMMARY:Witches of Deercreek Halloween Party 2021
DESCRIPTION:All the witches will be out to support the DWA at our Witches of Deercreek Halloween Party and Fundraiser. Mark your calendar and join us for this wonderful night of food\, drink\, and fun! Festivities begin at 6 pm including music and a DJ\, a 50/50 Raffle\, and Raffle Prizes. More details to follow …..
URL:https://www.deercreekcc.com/events/witches-of-deercreek-halloween-party-2021/
LOCATION:Deercreek Country Club
CATEGORIES:DWA
ATTACH;FMTTYPE=image/jpeg:https://www.deercreekcc.com/wp-content/uploads/Witches-of-Deercreek-2021.jpg
END:VEVENT
END:VCALENDAR