BEGIN:VCALENDAR
VERSION:2.0
PRODID:-//Deercreek Country Club Owners Association - ECPv6.15.20//NONSGML v1.0//EN
CALSCALE:GREGORIAN
METHOD:PUBLISH
X-WR-CALNAME:Deercreek Country Club Owners Association
X-ORIGINAL-URL:https://www.deercreekcc.com
X-WR-CALDESC:Events for Deercreek Country Club Owners Association
REFRESH-INTERVAL;VALUE=DURATION:PT1H
X-Robots-Tag:noindex
X-PUBLISHED-TTL:PT1H
BEGIN:VTIMEZONE
TZID:America/New_York
BEGIN:DAYLIGHT
TZOFFSETFROM:-0500
TZOFFSETTO:-0400
TZNAME:EDT
DTSTART:20200308T070000
END:DAYLIGHT
BEGIN:STANDARD
TZOFFSETFROM:-0400
TZOFFSETTO:-0500
TZNAME:EST
DTSTART:20201101T060000
END:STANDARD
BEGIN:DAYLIGHT
TZOFFSETFROM:-0500
TZOFFSETTO:-0400
TZNAME:EDT
DTSTART:20210314T070000
END:DAYLIGHT
BEGIN:STANDARD
TZOFFSETFROM:-0400
TZOFFSETTO:-0500
TZNAME:EST
DTSTART:20211107T060000
END:STANDARD
BEGIN:DAYLIGHT
TZOFFSETFROM:-0500
TZOFFSETTO:-0400
TZNAME:EDT
DTSTART:20220313T070000
END:DAYLIGHT
BEGIN:STANDARD
TZOFFSETFROM:-0400
TZOFFSETTO:-0500
TZNAME:EST
DTSTART:20221106T060000
END:STANDARD
END:VTIMEZONE
BEGIN:VEVENT
DTSTART;TZID=America/New_York:20210803T180000
DTEND;TZID=America/New_York:20210803T190000
DTSTAMP:20260422T020846
CREATED:20210628T192739Z
LAST-MODIFIED:20210730T021444Z
UID:10001950-1628013600-1628017200@www.deercreekcc.com
SUMMARY:Communications
DESCRIPTION:Check the newsletter for location and/or teleconferencing information.
URL:https://www.deercreekcc.com/events/communications-3/2021-08-03/
LOCATION:FL
CATEGORIES:Communications
END:VEVENT
BEGIN:VEVENT
DTSTART;TZID=America/New_York:20210803T190000
DTEND;TZID=America/New_York:20210803T190000
DTSTAMP:20260422T020846
CREATED:20210628T185738Z
LAST-MODIFIED:20210629T004617Z
UID:10002106-1628017200-1628017200@www.deercreekcc.com
SUMMARY:ARB Committee
DESCRIPTION:Check the newsletter for location and/or teleconferencing information.
URL:https://www.deercreekcc.com/events/arb-committee-2-2021-08-03/2021-08-03/
LOCATION:FL
CATEGORIES:ARB
END:VEVENT
BEGIN:VEVENT
DTSTART;TZID=America/New_York:20210804T173000
DTEND;TZID=America/New_York:20210804T193000
DTSTAMP:20260422T020846
CREATED:20210725T233331Z
LAST-MODIFIED:20210725T233331Z
UID:10002004-1628098200-1628105400@www.deercreekcc.com
SUMMARY:Ladies Night Out
DESCRIPTION:We will have a table at this fun evening so come along to see what amazing events we have planned for the year ahead\, renew your membership – or if you haven’t been a member before\, why don’t you take the opportunity to talk to existing members and join our wonderful group. \nThis evening is open for members & residents alike and takes place before the Scavenger Hunt
URL:https://www.deercreekcc.com/events/ladies-night-out/
LOCATION:Deercreek Country Club
CATEGORIES:Home and Garden Club
END:VEVENT
BEGIN:VEVENT
DTSTART;TZID=America/New_York:20210804T173000
DTEND;TZID=America/New_York:20210804T193000
DTSTAMP:20260422T020846
CREATED:20210725T233454Z
LAST-MODIFIED:20210726T150929Z
UID:10002116-1628098200-1628105400@www.deercreekcc.com
SUMMARY:Ladies Night Out  DWA
DESCRIPTION:Come and learn more about the charities the Deercreek Women’s Alliance supports\, have a drink and light bites with the Committee and other members\, and\, if you’re not already a member\, take the opportunity to join us – just by paying $25 dues\, you’re contributing to our fundraising. \nThis evening is open for members & residents alike\, and takes place before the Scavenger Hunt.
URL:https://www.deercreekcc.com/events/ladies-night-out-dwa/
LOCATION:Deercreek Country Club
CATEGORIES:DWA
ATTACH;FMTTYPE=image/jpeg:https://www.deercreekcc.com/wp-content/uploads/Empty-images-for-posts-without-featured-image.jpg
END:VEVENT
BEGIN:VEVENT
DTSTART;TZID=America/New_York:20210809T180000
DTEND;TZID=America/New_York:20210809T180000
DTSTAMP:20260422T020846
CREATED:20210628T191732Z
LAST-MODIFIED:20210628T195542Z
UID:10001928-1628532000-1628532000@www.deercreekcc.com
SUMMARY:Common Property
DESCRIPTION:Check the newsletter for location and/or teleconferencing information.
URL:https://www.deercreekcc.com/events/common-property-2/2021-08-09/
LOCATION:FL
CATEGORIES:Common Property
END:VEVENT
BEGIN:VEVENT
DTSTART;TZID=America/New_York:20210813T103000
DTEND;TZID=America/New_York:20210813T103000
DTSTAMP:20260422T020846
CREATED:20200823T140624Z
LAST-MODIFIED:20200823T141426Z
UID:10001972-1628850600-1628850600@www.deercreekcc.com
SUMMARY:Alpha Omega Truck Pick Up
DESCRIPTION:
URL:https://www.deercreekcc.com/events/alpha-omega-truck-pick-up-2/2021-08-13/
LOCATION:FL\, United States
END:VEVENT
BEGIN:VEVENT
DTSTART;TZID=America/New_York:20210816T100000
DTEND;TZID=America/New_York:20210816T233000
DTSTAMP:20260422T020846
CREATED:20210920T140043Z
LAST-MODIFIED:20210819T205750Z
UID:10002121-1629108000-1629156600@www.deercreekcc.com
SUMMARY:Book Club August 2021
DESCRIPTION:Due to a rise in COVID cases\, the August meeting was postponed so will now be held as detailed above. Patricia Sterling will contact all existing members with the location nearer the time – please contact her if you do not hear from her. \nAmerica’s First Daughter by Stephanie Dray & Laura Kamoie\, 2016. \nBiographical fiction/historical fiction. \nFictionalized biography\, based on actual events\, of Thomas Jefferson’s eldest daughter Martha “Patsy” Jefferson Randolph. Keeping a promise that she made to her dying mother at the age of 10\, Patsy devotedly served as her father’s constant companion\, helpmate and protector for 40+ years.
URL:https://www.deercreekcc.com/events/book-club-august-2021/
LOCATION:Meetings are held in the Ladies Card Room of the Clubhouse\, FL
CATEGORIES:Book Club
ATTACH;FMTTYPE=image/jpeg:https://www.deercreekcc.com/wp-content/uploads/book-aug-2021-web.jpg
END:VEVENT
BEGIN:VEVENT
DTSTART;TZID=America/New_York:20210816T180000
DTEND;TZID=America/New_York:20210816T180000
DTSTAMP:20260422T020846
CREATED:20210628T192430Z
LAST-MODIFIED:20210628T195847Z
UID:10001943-1629136800-1629136800@www.deercreekcc.com
SUMMARY:Covenant Enforcement
DESCRIPTION:Check the newsletter for location and/or teleconferencing information.
URL:https://www.deercreekcc.com/events/covenant-enforcement-2/2021-08-16/
LOCATION:FL
CATEGORIES:Fine Appeals
END:VEVENT
BEGIN:VEVENT
DTSTART;TZID=America/New_York:20210817T180000
DTEND;TZID=America/New_York:20210817T180000
DTSTAMP:20260422T020846
CREATED:20210628T192101Z
LAST-MODIFIED:20210628T195738Z
UID:10001935-1629223200-1629223200@www.deercreekcc.com
SUMMARY:Finance
DESCRIPTION:Check the website at www.deercreekcc.com/finance for location and/or teleconferencing information.
URL:https://www.deercreekcc.com/events/finance-3/2021-08-17/
LOCATION:FL
CATEGORIES:Finance
END:VEVENT
BEGIN:VEVENT
DTSTART;TZID=America/New_York:20210824T180000
DTEND;TZID=America/New_York:20210824T180000
DTSTAMP:20260422T020846
CREATED:20210628T193143Z
LAST-MODIFIED:20210628T195954Z
UID:10001959-1629828000-1629828000@www.deercreekcc.com
SUMMARY:DCCOA Board
DESCRIPTION:Check the newsletter for location and/or teleconferencing information.
URL:https://www.deercreekcc.com/events/dccoa-board/2021-08-24/
LOCATION:FL
CATEGORIES:DCCOA Board
END:VEVENT
END:VCALENDAR