BEGIN:VCALENDAR
VERSION:2.0
PRODID:-//Deercreek Country Club Owners Association - ECPv6.15.20//NONSGML v1.0//EN
CALSCALE:GREGORIAN
METHOD:PUBLISH
X-WR-CALNAME:Deercreek Country Club Owners Association
X-ORIGINAL-URL:https://www.deercreekcc.com
X-WR-CALDESC:Events for Deercreek Country Club Owners Association
REFRESH-INTERVAL;VALUE=DURATION:PT1H
X-Robots-Tag:noindex
X-PUBLISHED-TTL:PT1H
BEGIN:VTIMEZONE
TZID:America/New_York
BEGIN:DAYLIGHT
TZOFFSETFROM:-0500
TZOFFSETTO:-0400
TZNAME:EDT
DTSTART:20200308T070000
END:DAYLIGHT
BEGIN:STANDARD
TZOFFSETFROM:-0400
TZOFFSETTO:-0500
TZNAME:EST
DTSTART:20201101T060000
END:STANDARD
BEGIN:DAYLIGHT
TZOFFSETFROM:-0500
TZOFFSETTO:-0400
TZNAME:EDT
DTSTART:20210314T070000
END:DAYLIGHT
BEGIN:STANDARD
TZOFFSETFROM:-0400
TZOFFSETTO:-0500
TZNAME:EST
DTSTART:20211107T060000
END:STANDARD
BEGIN:DAYLIGHT
TZOFFSETFROM:-0500
TZOFFSETTO:-0400
TZNAME:EDT
DTSTART:20220313T070000
END:DAYLIGHT
BEGIN:STANDARD
TZOFFSETFROM:-0400
TZOFFSETTO:-0500
TZNAME:EST
DTSTART:20221106T060000
END:STANDARD
END:VTIMEZONE
BEGIN:VEVENT
DTSTART;TZID=America/New_York:20210602T190000
DTEND;TZID=America/New_York:20210602T190000
DTSTAMP:20260422T052740
CREATED:20201228T225437Z
LAST-MODIFIED:20210225T230319Z
UID:10001892-1622660400-1622660400@www.deercreekcc.com
SUMMARY:ARB Committee
DESCRIPTION:Check the newsletter for location and/or teleconferencing information.
URL:https://www.deercreekcc.com/events/arb-committee-2021-04-07/2021-06-02/
LOCATION:FL
CATEGORIES:ARB
END:VEVENT
BEGIN:VEVENT
DTSTART;TZID=America/New_York:20210610T180000
DTEND;TZID=America/New_York:20210610T180000
DTSTAMP:20260422T052740
CREATED:20201228T230909Z
LAST-MODIFIED:20210225T230454Z
UID:10002026-1623348000-1623348000@www.deercreekcc.com
SUMMARY:Common Property
DESCRIPTION:Check the newsletter for location and/or teleconferencing information.
URL:https://www.deercreekcc.com/events/common-property-2021-02-11-2021-04-08/2021-06-10/
LOCATION:FL
CATEGORIES:Common Property
END:VEVENT
BEGIN:VEVENT
DTSTART;TZID=America/New_York:20210613T103000
DTEND;TZID=America/New_York:20210613T103000
DTSTAMP:20260422T052740
CREATED:20200823T140624Z
LAST-MODIFIED:20200823T141426Z
UID:10001970-1623580200-1623580200@www.deercreekcc.com
SUMMARY:Alpha Omega Truck Pick Up
DESCRIPTION:
URL:https://www.deercreekcc.com/events/alpha-omega-truck-pick-up-2/2021-06-13/
LOCATION:FL\, United States
END:VEVENT
BEGIN:VEVENT
DTSTART;TZID=America/New_York:20210616T180000
DTEND;TZID=America/New_York:20210616T180000
DTSTAMP:20260422T052740
CREATED:20201228T231335Z
LAST-MODIFIED:20210412T133826Z
UID:10002054-1623866400-1623866400@www.deercreekcc.com
SUMMARY:Communications
DESCRIPTION:Check the newsletter for location and/or teleconferencing information.
URL:https://www.deercreekcc.com/events/communications-2-2021/2021-06-16/
LOCATION:FL
CATEGORIES:Communications
END:VEVENT
BEGIN:VEVENT
DTSTART;TZID=America/New_York:20210617T180000
DTEND;TZID=America/New_York:20210617T180000
DTSTAMP:20260422T052740
CREATED:20201228T231044Z
LAST-MODIFIED:20210315T005800Z
UID:10002032-1623952800-1623952800@www.deercreekcc.com
SUMMARY:Finance
DESCRIPTION:Check the website at www.deercreekcc.com/finance for location and/or teleconferencing information.
URL:https://www.deercreekcc.com/events/finance-2021-02-18/2021-06-17/
LOCATION:FL
CATEGORIES:Finance
END:VEVENT
BEGIN:VEVENT
DTSTART;TZID=America/New_York:20210617T180000
DTEND;TZID=America/New_York:20210617T180000
DTSTAMP:20260422T052740
CREATED:20201228T231220Z
LAST-MODIFIED:20210412T133402Z
UID:10002046-1623952800-1623952800@www.deercreekcc.com
SUMMARY:Covenant Enforcement
DESCRIPTION:Check the newsletter for location and/or teleconferencing information.
URL:https://www.deercreekcc.com/events/covenant-enforcement-2021-05-20/2021-06-17/
LOCATION:FL
CATEGORIES:Fine Appeals
END:VEVENT
BEGIN:VEVENT
DTSTART;TZID=America/New_York:20210621T100000
DTEND;TZID=America/New_York:20210621T233000
DTSTAMP:20260422T052740
CREATED:20210517T212053Z
LAST-MODIFIED:20210520T221633Z
UID:10002098-1624269600-1624318200@www.deercreekcc.com
SUMMARY:Book Club June 2021
DESCRIPTION:The Boy from the Woods by Harlan Coben \nA boy found living feral in the woods is now an adult recluse residing on the outskirts of town. Despite his enigmatic past\, Wilde is known to have unique investigative skills. He is called upon to find a missing teenage girl before her disappearance\, and another’s\, brings disastrous consequences.
URL:https://www.deercreekcc.com/events/book-club-june-2021/
LOCATION:FL
CATEGORIES:Book Club
ATTACH;FMTTYPE=image/jpeg:https://www.deercreekcc.com/wp-content/uploads/book-june-2021-web.jpg
END:VEVENT
BEGIN:VEVENT
DTSTART;TZID=America/New_York:20210624T180000
DTEND;TZID=America/New_York:20210624T180000
DTSTAMP:20260422T052740
CREATED:20201228T224722Z
LAST-MODIFIED:20210516T193741Z
UID:10001880-1624557600-1624557600@www.deercreekcc.com
SUMMARY:DCCOA Board
DESCRIPTION:  
URL:https://www.deercreekcc.com/events/dccoa-board-meeting-2021-06-24/
LOCATION:FL
CATEGORIES:DCCOA Board
ATTACH;FMTTYPE=image/jpeg:https://www.deercreekcc.com/wp-content/uploads/2020/02/Deercreek-350-w.jpg
END:VEVENT
END:VCALENDAR