BEGIN:VCALENDAR
VERSION:2.0
PRODID:-//Deercreek Country Club Owners Association - ECPv6.15.20//NONSGML v1.0//EN
CALSCALE:GREGORIAN
METHOD:PUBLISH
X-ORIGINAL-URL:https://www.deercreekcc.com
X-WR-CALDESC:Events for Deercreek Country Club Owners Association
REFRESH-INTERVAL;VALUE=DURATION:PT1H
X-Robots-Tag:noindex
X-PUBLISHED-TTL:PT1H
BEGIN:VTIMEZONE
TZID:America/New_York
BEGIN:DAYLIGHT
TZOFFSETFROM:-0500
TZOFFSETTO:-0400
TZNAME:EDT
DTSTART:20200308T070000
END:DAYLIGHT
BEGIN:STANDARD
TZOFFSETFROM:-0400
TZOFFSETTO:-0500
TZNAME:EST
DTSTART:20201101T060000
END:STANDARD
BEGIN:DAYLIGHT
TZOFFSETFROM:-0500
TZOFFSETTO:-0400
TZNAME:EDT
DTSTART:20210314T070000
END:DAYLIGHT
BEGIN:STANDARD
TZOFFSETFROM:-0400
TZOFFSETTO:-0500
TZNAME:EST
DTSTART:20211107T060000
END:STANDARD
BEGIN:DAYLIGHT
TZOFFSETFROM:-0500
TZOFFSETTO:-0400
TZNAME:EDT
DTSTART:20220313T070000
END:DAYLIGHT
BEGIN:STANDARD
TZOFFSETFROM:-0400
TZOFFSETTO:-0500
TZNAME:EST
DTSTART:20221106T060000
END:STANDARD
END:VTIMEZONE
BEGIN:VEVENT
DTSTART;TZID=America/New_York:20210303T190000
DTEND;TZID=America/New_York:20210303T190000
DTSTAMP:20260422T102956
CREATED:20201228T225437Z
LAST-MODIFIED:20210226T190208Z
UID:10001888-1614798000-1614798000@www.deercreekcc.com
SUMMARY:ARB Committee
DESCRIPTION:Check the website www.deercreekcc.com/architectural-review-board\nfor location and/or teleconferencing information.
URL:https://www.deercreekcc.com/events/arb-committee-2021-03-03/
LOCATION:FL
CATEGORIES:ARB
END:VEVENT
BEGIN:VEVENT
DTSTART;TZID=America/New_York:20210307T113000
DTEND;TZID=America/New_York:20210307T163000
DTSTAMP:20260422T102956
CREATED:20210126T230514Z
LAST-MODIFIED:20210126T233746Z
UID:10002063-1615116600-1615134600@www.deercreekcc.com
SUMMARY:DWA Shamrock Scramble
DESCRIPTION:Join us as the Deercreek Women’s Alliance hosts its annual golf tournament\, and have fun whilst raising funds for the charities that we support. \nThe format will be 4-person teams – men\, women & mixed teams are all welcome – and as always\, there will be a fabulous Irish-themed meal\, and raffle\, to follow. Please complete and return the attached registration form to reserve your team. This form will also be available on the HOA website\, under the DWA page\, and in the Pro Shop at the club. \nWe are also looking for hole sponsors\, our beer sponsor\, donations and prizes for the raffle – see the attached 2021 Sponsor letter for more information.\n			\n			\n				\n				\n				\n				\n			\n				\n				\n				\n				\n				\n				\n				Registration Form\n			\n			\n				\n				\n				\n				\n				\n				Sponsor Letter
URL:https://www.deercreekcc.com/events/dwa-shamrock-scramble/
LOCATION:Deercreek Golf Club
CATEGORIES:DWA
ATTACH;FMTTYPE=image/jpeg:https://www.deercreekcc.com/wp-content/uploads/Shamrock-scramble.jpg
END:VEVENT
BEGIN:VEVENT
DTSTART;TZID=America/New_York:20210309T103000
DTEND;TZID=America/New_York:20210309T103000
DTSTAMP:20260422T102956
CREATED:20201231T152714Z
LAST-MODIFIED:20210105T163150Z
UID:10002059-1615285800-1615285800@www.deercreekcc.com
SUMMARY:Alpha-Omega Thrift Store Truck
DESCRIPTION:The Alpha-Omega Thrift Store truck comes into the community on the second Tuesday of each month\, starting at 10:30 AM.\nResidents can email Elizabeth Curtin at pickups99@yahoo.com with a request for the truck to pick-up or arrange a drop-off of small donations to her home the weekend before the truck arrives.
URL:https://www.deercreekcc.com/events/alpha-omega-thrift-store-truck/2021-03-09/
LOCATION:FL
CATEGORIES:DWA
ATTACH;FMTTYPE=image/jpeg:https://www.deercreekcc.com/wp-content/uploads/AlfaOmegaThriftStore5.jpg
ORGANIZER;CN="Elizabeth Curtin":MAILTO:pickups99@yahoo.com
END:VEVENT
BEGIN:VEVENT
DTSTART;TZID=America/New_York:20210311T180000
DTEND;TZID=America/New_York:20210311T180000
DTSTAMP:20260422T102956
CREATED:20201228T230909Z
LAST-MODIFIED:20210226T190633Z
UID:10002024-1615485600-1615485600@www.deercreekcc.com
SUMMARY:Common Property
DESCRIPTION:Check www.deercreekcc.com/common-property\nfor location and/or teleconferencing information.
URL:https://www.deercreekcc.com/events/common-property-2021-02-11-2021-03-11/
LOCATION:FL
CATEGORIES:Common Property
END:VEVENT
BEGIN:VEVENT
DTSTART;TZID=America/New_York:20210313T103000
DTEND;TZID=America/New_York:20210313T103000
DTSTAMP:20260422T102956
CREATED:20200823T140624Z
LAST-MODIFIED:20200823T141426Z
UID:10001967-1615631400-1615631400@www.deercreekcc.com
SUMMARY:Alpha Omega Truck Pick Up
DESCRIPTION:
URL:https://www.deercreekcc.com/events/alpha-omega-truck-pick-up-2/2021-03-13/
LOCATION:FL\, United States
END:VEVENT
BEGIN:VEVENT
DTSTART;TZID=America/New_York:20210315T100000
DTEND;TZID=America/New_York:20210315T120000
DTSTAMP:20260422T102956
CREATED:20210220T175524Z
LAST-MODIFIED:20210220T180300Z
UID:10002078-1615802400-1615809600@www.deercreekcc.com
SUMMARY:Book Club
DESCRIPTION:Will select new books to read from July 2021 to June 2022. \nPlease come with the title and author of one or two books that you would like to recommend\, as well as a brief summary and any other information with the potential to generate interest. Fiction\, memoir\, and non-fiction genres are all welcome. \nBook Club members will vote for their favorites and a list of the books chosen will be emailed a few days after the meeting. To learn more about the selection process\, contact Patricia Sterling\, patriciasterling@gmail.com
URL:https://www.deercreekcc.com/events/book-club/
LOCATION:Meetings are held in the Ladies Card Room of the Clubhouse\, FL\, United States
CATEGORIES:Book Club
ATTACH;FMTTYPE=image/jpeg:https://www.deercreekcc.com/wp-content/uploads/book-club.jpg
END:VEVENT
BEGIN:VEVENT
DTSTART;TZID=America/New_York:20210317T180000
DTEND;TZID=America/New_York:20210317T180000
DTSTAMP:20260422T102956
CREATED:20201228T231335Z
LAST-MODIFIED:20210226T190815Z
UID:10002052-1616004000-1616004000@www.deercreekcc.com
SUMMARY:Communications
DESCRIPTION:Check www.deercreekcc.com/communications\nfor location and/or teleconferencing information.
URL:https://www.deercreekcc.com/events/communications-2-2021-02-17-2021-03-17/
LOCATION:FL
CATEGORIES:Communications
END:VEVENT
BEGIN:VEVENT
DTSTART;TZID=America/New_York:20210318T180000
DTEND;TZID=America/New_York:20210318T180000
DTSTAMP:20260422T102956
CREATED:20201228T231044Z
LAST-MODIFIED:20210315T005800Z
UID:10002030-1616090400-1616090400@www.deercreekcc.com
SUMMARY:Finance
DESCRIPTION:Check the website at www.deercreekcc.com/finance for location and/or teleconferencing information.
URL:https://www.deercreekcc.com/events/finance-2021-02-18/2021-03-18/
LOCATION:FL
CATEGORIES:Finance
END:VEVENT
BEGIN:VEVENT
DTSTART;TZID=America/New_York:20210322T180000
DTEND;TZID=America/New_York:20210322T180000
DTSTAMP:20260422T102956
CREATED:20201228T231220Z
LAST-MODIFIED:20210308T163435Z
UID:10002041-1616436000-1616436000@www.deercreekcc.com
SUMMARY:Covenant Enforcement
DESCRIPTION:Teleconference Meeting\nJoin Zoom Meeting link:\nhttps://us02web.zoom.us/j/89789007855 \nMeeting ID: 897 8900 7855 \nOne tap mobile\n+13017158592\,\,89789007855# US (Washington D.C) 13126266799\,\,89789007855#\n+US (Chicago) \nThe Dial-in number:\n+1 301 715 8592 US\nMeeting ID: 897 8900 7855
URL:https://www.deercreekcc.com/events/covenant-enforcement-2021-03-25/
LOCATION:FL
CATEGORIES:Fine Appeals
END:VEVENT
BEGIN:VEVENT
DTSTART;TZID=America/New_York:20210323T093000
DTEND;TZID=America/New_York:20210323T133000
DTSTAMP:20260422T102956
CREATED:20210220T183934Z
LAST-MODIFIED:20210220T185402Z
UID:10002080-1616491800-1616506200@www.deercreekcc.com
SUMMARY:Beaches Museum and History Park
DESCRIPTION:Beaches Museum and History Park Provides a Window into Beaches History \nOn March 23\, experience a bit of Jacksonville area history at the Beaches Museum. Located on Beach Boulevard\, the Beaches Museum provides an interesting and informative window into the history of the Jacksonville beaches\, then known as Pablo Beach. In addition to historical exhibits in the main building\, there is a history park with a 1903 post office and 1911 train locomotive. \nMeet at the Deercreek Pool parking lot at 9:30am to carpool to the museum. We will take a guided tour of the museum grounds in small groups led by the museum’s docents. After the tour\, we’ll head to Mavi Waterfront Bar and Grill for a delicious waterside lunch at the Beach Marina. \nWhile the museum is ‘free’\, it accepts donations from visitors. We’ve arranged for a $10.00/person donation for the museum\, plus a $20.00/person inclusive for lunch selections. Please write a check for $30.00 payable to the Home and Garden Club for this excursion. Be sure to wear comfortable shoes and your mask while there. All Home & Garden Club members and first-time guests are invited to the tour and lunch. Please RSVP to deercreekhgc@gmail.com to confirm your attendance.
URL:https://www.deercreekcc.com/events/beaches-museum-and-history-park/
LOCATION:FL
CATEGORIES:Home and Garden Club
ATTACH;FMTTYPE=image/jpeg:https://www.deercreekcc.com/wp-content/uploads/march2021-4.jpg
END:VEVENT
BEGIN:VEVENT
DTSTART;TZID=America/New_York:20210325T180000
DTEND;TZID=America/New_York:20210325T180000
DTSTAMP:20260422T102956
CREATED:20201228T224722Z
LAST-MODIFIED:20210226T190929Z
UID:10001874-1616695200-1616695200@www.deercreekcc.com
SUMMARY:DCCOA Board
DESCRIPTION:Check www.deercreekcc.com/board-of-directors\nfor location and/or teleconferencing information.
URL:https://www.deercreekcc.com/events/dccoa-board-meeting-2021-03-25/
LOCATION:FL
CATEGORIES:DCCOA Board
ATTACH;FMTTYPE=image/jpeg:https://www.deercreekcc.com/wp-content/uploads/2020/02/Deercreek-350-w.jpg
END:VEVENT
END:VCALENDAR