BEGIN:VCALENDAR
VERSION:2.0
PRODID:-//Deercreek Country Club Owners Association - ECPv6.15.20//NONSGML v1.0//EN
CALSCALE:GREGORIAN
METHOD:PUBLISH
X-ORIGINAL-URL:https://www.deercreekcc.com
X-WR-CALDESC:Events for Deercreek Country Club Owners Association
REFRESH-INTERVAL;VALUE=DURATION:PT1H
X-Robots-Tag:noindex
X-PUBLISHED-TTL:PT1H
BEGIN:VTIMEZONE
TZID:America/New_York
BEGIN:DAYLIGHT
TZOFFSETFROM:-0500
TZOFFSETTO:-0400
TZNAME:EDT
DTSTART:20190310T070000
END:DAYLIGHT
BEGIN:STANDARD
TZOFFSETFROM:-0400
TZOFFSETTO:-0500
TZNAME:EST
DTSTART:20191103T060000
END:STANDARD
BEGIN:DAYLIGHT
TZOFFSETFROM:-0500
TZOFFSETTO:-0400
TZNAME:EDT
DTSTART:20200308T070000
END:DAYLIGHT
BEGIN:STANDARD
TZOFFSETFROM:-0400
TZOFFSETTO:-0500
TZNAME:EST
DTSTART:20201101T060000
END:STANDARD
BEGIN:DAYLIGHT
TZOFFSETFROM:-0500
TZOFFSETTO:-0400
TZNAME:EDT
DTSTART:20210314T070000
END:DAYLIGHT
BEGIN:STANDARD
TZOFFSETFROM:-0400
TZOFFSETTO:-0500
TZNAME:EST
DTSTART:20211107T060000
END:STANDARD
END:VTIMEZONE
BEGIN:VEVENT
DTSTART;TZID=America/New_York:20201202T190000
DTEND;TZID=America/New_York:20201202T190000
DTSTAMP:20260422T154231
CREATED:20200224T211951Z
LAST-MODIFIED:20201130T202247Z
UID:10001823-1606935600-1606935600@www.deercreekcc.com
SUMMARY:ARB - Teleconference Meeting
DESCRIPTION:Content is protected.
URL:https://www.deercreekcc.com/events/arb-march-2020-12-02/
LOCATION:FL
CATEGORIES:ARB
END:VEVENT
BEGIN:VEVENT
DTSTART;TZID=America/New_York:20201208T103000
DTEND;TZID=America/New_York:20201208T103000
DTSTAMP:20260422T154231
CREATED:20200823T140925Z
LAST-MODIFIED:20200823T141309Z
UID:10002006-1607423400-1607423400@www.deercreekcc.com
SUMMARY:Alpha Omega Truck Pick UP
DESCRIPTION:
URL:https://www.deercreekcc.com/events/alpha-omega-truck-pick-up-4/
LOCATION:FL\, United States
END:VEVENT
BEGIN:VEVENT
DTSTART;TZID=America/New_York:20201208T180000
DTEND;TZID=America/New_York:20201208T200000
DTSTAMP:20260422T154231
CREATED:20201119T165840Z
LAST-MODIFIED:20201119T203950Z
UID:10002012-1607450400-1607457600@www.deercreekcc.com
SUMMARY:Night of Luminaries for All Deercreek Families
DESCRIPTION:The Deercreek Home and Garden Club is pleased to host a “Night of Luminaries” celebrating our December holidays. All Deercreek families are invited to the Deercreek Country Club circle/front lawn on Tuesday\, December 8th from 6:00-8:00 pm for an evening of holiday lights\, music\, cheer and fun! Dessert food trucks and a cash bar will be on hand for your family to enjoy the luminaries\, holiday music and kids activities. \nWe look forward to seeing you there! As a reminder\, masks are required in public spaces unless eating.
URL:https://www.deercreekcc.com/events/night-of-luminaries/
LOCATION:Deercreek Country Club Circle/Front Lawn
CATEGORIES:Home and Garden Club
ATTACH;FMTTYPE=image/jpeg:https://www.deercreekcc.com/wp-content/uploads/entry-132-dec_2020_night_of_luminaries_flyer.jpg
END:VEVENT
BEGIN:VEVENT
DTSTART;TZID=America/New_York:20201210T180000
DTEND;TZID=America/New_York:20201210T180000
DTSTAMP:20260422T154231
CREATED:20200224T193849Z
LAST-MODIFIED:20201130T202843Z
UID:10001887-1607623200-1607623200@www.deercreekcc.com
SUMMARY:Common Property - Teleconference Meeting
DESCRIPTION:Content is protected.
URL:https://www.deercreekcc.com/events/common-property-3-2020-06-11-2020-08-13-2020-12-10/
LOCATION:FL\, United States
CATEGORIES:Common Property
END:VEVENT
BEGIN:VEVENT
DTSTART;TZID=America/New_York:20201213T103000
DTEND;TZID=America/New_York:20201213T103000
DTSTAMP:20260422T154231
CREATED:20200823T140624Z
LAST-MODIFIED:20200823T141426Z
UID:10001964-1607855400-1607855400@www.deercreekcc.com
SUMMARY:Alpha Omega Truck Pick Up
DESCRIPTION:
URL:https://www.deercreekcc.com/events/alpha-omega-truck-pick-up-2/2020-12-13/
LOCATION:FL\, United States
END:VEVENT
BEGIN:VEVENT
DTSTART;TZID=America/New_York:20201215T100000
DTEND;TZID=America/New_York:20201215T120000
DTSTAMP:20260422T154231
CREATED:20201119T221921Z
LAST-MODIFIED:20201119T222329Z
UID:10002013-1608026400-1608033600@www.deercreekcc.com
SUMMARY:December 2020 Book Club
DESCRIPTION:At the December 15th Book Club meeting members have the choice of reading aloud a favorite poem\, a passage from a longer piece\, or sharing a fond holiday memory. We look forward to enjoying this new twist on our holiday-season meeting. \n  \nThe Deercreek Book Club was started in 1996. We welcome new members. To learn more or join\, please contact Patricia Sterling at patriciasterling@gmail.com. 
URL:https://www.deercreekcc.com/events/december-2020-book-club/
LOCATION:Meetings are held in the Ladies Card Room of the Clubhouse\, FL\, United States
CATEGORIES:Book Club
ATTACH;FMTTYPE=image/jpeg:https://www.deercreekcc.com/wp-content/uploads/book-club-1.jpg
END:VEVENT
BEGIN:VEVENT
DTSTART;TZID=America/New_York:20201216T180000
DTEND;TZID=America/New_York:20201216T180000
DTSTAMP:20260422T154231
CREATED:20200529T174055Z
LAST-MODIFIED:20201130T202709Z
UID:10001926-1608141600-1608141600@www.deercreekcc.com
SUMMARY:Communications - Teleconference Meeting
DESCRIPTION:Communications Committee Meeting
URL:https://www.deercreekcc.com/events/communications-2020-09-16-2020-12-16/
LOCATION:Deercreek Country Club
CATEGORIES:Communications
END:VEVENT
BEGIN:VEVENT
DTSTART;TZID=America/New_York:20201217T160000
DTEND;TZID=America/New_York:20201217T160000
DTSTAMP:20260422T154231
CREATED:20200224T194857Z
LAST-MODIFIED:20201130T202439Z
UID:10001901-1608220800-1608220800@www.deercreekcc.com
SUMMARY:Finance - Does Not Meet
DESCRIPTION:Content is protected.
URL:https://www.deercreekcc.com/events/finance-2-2020-05-21-2020-06-18-2020-12-17/
LOCATION:FL\, United States
CATEGORIES:Finance
END:VEVENT
BEGIN:VEVENT
DTSTART;TZID=America/New_York:20201217T180000
DTEND;TZID=America/New_York:20201217T180000
DTSTAMP:20260422T154231
CREATED:20200216T184329Z
LAST-MODIFIED:20201130T202756Z
UID:10001859-1608228000-1608228000@www.deercreekcc.com
SUMMARY:Covenant Enforcement - Teleconference Meeting
DESCRIPTION:Content is protected.
URL:https://www.deercreekcc.com/events/ce-3-2020-12-17/
LOCATION:FL\, United States
CATEGORIES:Fine Appeals
END:VEVENT
END:VCALENDAR