BEGIN:VCALENDAR
VERSION:2.0
PRODID:-//Deercreek Country Club Owners Association - ECPv6.15.20//NONSGML v1.0//EN
CALSCALE:GREGORIAN
METHOD:PUBLISH
X-WR-CALNAME:Deercreek Country Club Owners Association
X-ORIGINAL-URL:https://www.deercreekcc.com
X-WR-CALDESC:Events for Deercreek Country Club Owners Association
REFRESH-INTERVAL;VALUE=DURATION:PT1H
X-Robots-Tag:noindex
X-PUBLISHED-TTL:PT1H
BEGIN:VTIMEZONE
TZID:America/New_York
BEGIN:DAYLIGHT
TZOFFSETFROM:-0500
TZOFFSETTO:-0400
TZNAME:EDT
DTSTART:20190310T070000
END:DAYLIGHT
BEGIN:STANDARD
TZOFFSETFROM:-0400
TZOFFSETTO:-0500
TZNAME:EST
DTSTART:20191103T060000
END:STANDARD
BEGIN:DAYLIGHT
TZOFFSETFROM:-0500
TZOFFSETTO:-0400
TZNAME:EDT
DTSTART:20200308T070000
END:DAYLIGHT
BEGIN:STANDARD
TZOFFSETFROM:-0400
TZOFFSETTO:-0500
TZNAME:EST
DTSTART:20201101T060000
END:STANDARD
BEGIN:DAYLIGHT
TZOFFSETFROM:-0500
TZOFFSETTO:-0400
TZNAME:EDT
DTSTART:20210314T070000
END:DAYLIGHT
BEGIN:STANDARD
TZOFFSETFROM:-0400
TZOFFSETTO:-0500
TZNAME:EST
DTSTART:20211107T060000
END:STANDARD
END:VTIMEZONE
BEGIN:VEVENT
DTSTART;TZID=America/New_York:20201104T190000
DTEND;TZID=America/New_York:20201104T190000
DTSTAMP:20260422T173339
CREATED:20200224T211951Z
LAST-MODIFIED:20201028T154309Z
UID:10001822-1604516400-1604516400@www.deercreekcc.com
SUMMARY:ARB - Teleconference Meeting
DESCRIPTION:Content is protected.
URL:https://www.deercreekcc.com/events/arb-march-2020-11-04/
LOCATION:FL\, United States
CATEGORIES:ARB
END:VEVENT
BEGIN:VEVENT
DTSTART;TZID=America/New_York:20201110T090000
DTEND;TZID=America/New_York:20201110T133000
DTSTAMP:20260422T173339
CREATED:20201021T162014Z
LAST-MODIFIED:20201028T154949Z
UID:10002011-1604998800-1605015000@www.deercreekcc.com
SUMMARY:Home & Garden Club -Jax Art and Architecture Walking Tour/Lunch
DESCRIPTION:Downtown Jax Art and Architecture Walking Tour/Lunch\nMany of you may know that Jacksonville had a major fire in1901\, which resulted in a rebuilding boom of the major downtown landmark buildings we see today.  But you probably don’t know that a secret tunnel exists underneath many of these buildings!  In the early 1900s\, like today\, Jacksonville was a major banking center\, and the newly built bank buildings were connected by a network of bank vaults and tunnels to move cash and other financial documents back and forth among the financial institutions. \nFor our next Home and Garden Club meeting\, on Tuesday\, November 10\, we will take a walking tour to explore the secret tunnels and admire the great architectural details of the bank buildings. The tour is led by Gary Sass\, a local icon of Jacksonville history\, and includes many fascinating details about the visionary business leaders and architects that created the beginnings of modern Jacksonville. After the tour\, we’ll dine at Bellwether\, a modern farm-to-table restaurant. The cost of the tour plus lunch is $40.00 /person\, payable by check to the Home and Garden Club on the day of the tour. \nFor the tour\, we will meet at the Deercreek Pool parking lot at 9:00 am to carpool downtown.\nThe tour starts at 10:00 am and takes about 1.5 hours; be sure to wear comfortable shoes! \nAll Home & Garden Club members and first-time guests are invited to the tour and lunch. Please mark your calendar for November 10 and RSVP to deercreekhgc@gmail.com to confirm your attendance. \nAs a reminder\, masks are required in public spaces unless eating.
URL:https://www.deercreekcc.com/events/jax-art-and-architecture-walking-tour-lunch/
LOCATION:FL\, United States
CATEGORIES:Home and Garden Club
ATTACH;FMTTYPE=image/jpeg:https://www.deercreekcc.com/wp-content/uploads/hgnov2020.jpg
END:VEVENT
BEGIN:VEVENT
DTSTART;TZID=America/New_York:20201110T103000
DTEND;TZID=America/New_York:20201110T103000
DTSTAMP:20260422T173339
CREATED:20200823T140812Z
LAST-MODIFIED:20200823T141506Z
UID:10002005-1605004200-1605004200@www.deercreekcc.com
SUMMARY:Alpha Omega Truck Pick Up
DESCRIPTION:
URL:https://www.deercreekcc.com/events/alpha-omega-truck-pick-up-3/
LOCATION:FL\, United States
END:VEVENT
BEGIN:VEVENT
DTSTART;TZID=America/New_York:20201112T160000
DTEND;TZID=America/New_York:20201112T160000
DTSTAMP:20260422T173339
CREATED:20200224T194857Z
LAST-MODIFIED:20201102T214644Z
UID:10001900-1605196800-1605196800@www.deercreekcc.com
SUMMARY:Finance Teleconference
DESCRIPTION:Content is protected.
URL:https://www.deercreekcc.com/events/finance-2-2020-05-21-2020-06-18-2020-11-19/
LOCATION:FL\, United States
CATEGORIES:Finance
END:VEVENT
BEGIN:VEVENT
DTSTART;TZID=America/New_York:20201112T180000
DTEND;TZID=America/New_York:20201112T180000
DTSTAMP:20260422T173339
CREATED:20200224T193849Z
LAST-MODIFIED:20200730T221514Z
UID:10001883-1605204000-1605204000@www.deercreekcc.com
SUMMARY:Common Property - Teleconference
DESCRIPTION:Content is protected.
URL:https://www.deercreekcc.com/events/common-property-3-2020-06-11-2020-08-13/2020-11-12/
LOCATION:FL\, United States
CATEGORIES:Common Property
END:VEVENT
BEGIN:VEVENT
DTSTART;TZID=America/New_York:20201113T103000
DTEND;TZID=America/New_York:20201113T103000
DTSTAMP:20260422T173339
CREATED:20200823T140624Z
LAST-MODIFIED:20200823T141426Z
UID:10001963-1605263400-1605263400@www.deercreekcc.com
SUMMARY:Alpha Omega Truck Pick Up
DESCRIPTION:
URL:https://www.deercreekcc.com/events/alpha-omega-truck-pick-up-2/2020-11-13/
LOCATION:FL\, United States
END:VEVENT
BEGIN:VEVENT
DTSTART;TZID=America/New_York:20201117T100000
DTEND;TZID=America/New_York:20201117T120000
DTSTAMP:20260422T173339
CREATED:20201021T160214Z
LAST-MODIFIED:20201021T160214Z
UID:10002010-1605607200-1605614400@www.deercreekcc.com
SUMMARY:Book Club Nov 2020
DESCRIPTION:The Dutch House by Ann Patchett\nThis novel about a brother and sister over the course of five decades explores their bond\, the house of their childhood\, and a past that will not let them go. Patricia Sterling will lead the discussion.
URL:https://www.deercreekcc.com/events/book-club-nov-2020/
LOCATION:Meetings are held in the Ladies Card Room of the Clubhouse\, FL\, United States
CATEGORIES:Book Club
ATTACH;FMTTYPE=image/jpeg:https://www.deercreekcc.com/wp-content/uploads/bookclubnov2020.jpg
END:VEVENT
BEGIN:VEVENT
DTSTART;TZID=America/New_York:20201118T180000
DTEND;TZID=America/New_York:20201118T180000
DTSTAMP:20260422T173339
CREATED:20200529T174055Z
LAST-MODIFIED:20201102T172208Z
UID:10001924-1605722400-1605722400@www.deercreekcc.com
SUMMARY:Communications - Teleconference
DESCRIPTION:Communications Committee Meeting
URL:https://www.deercreekcc.com/events/communications-2020-09-16-2020-11-18/
LOCATION:Deercreek Country Club
CATEGORIES:Communications
END:VEVENT
BEGIN:VEVENT
DTSTART;TZID=America/New_York:20201119T180000
DTEND;TZID=America/New_York:20201119T180000
DTSTAMP:20260422T173339
CREATED:20200213T001611Z
LAST-MODIFIED:20201102T172812Z
UID:10001842-1605808800-1605808800@www.deercreekcc.com
SUMMARY:Board Meeting Teleconference
DESCRIPTION:Content is protected.
URL:https://www.deercreekcc.com/events/board-meeting-2020-04-23-2020-11-03/
LOCATION:Deercreek Country Club
CATEGORIES:DCCOA Board
END:VEVENT
BEGIN:VEVENT
DTSTART;TZID=America/New_York:20201119T180000
DTEND;TZID=America/New_York:20201119T180000
DTSTAMP:20260422T173339
CREATED:20200216T184329Z
LAST-MODIFIED:20201102T172400Z
UID:10001858-1605808800-1605808800@www.deercreekcc.com
SUMMARY:Covenant Enforcement Teleconference
DESCRIPTION:Content is protected.
URL:https://www.deercreekcc.com/events/ce-3-2020-11-19/
LOCATION:FL\, United States
CATEGORIES:Fine Appeals
END:VEVENT
END:VCALENDAR