BEGIN:VCALENDAR
VERSION:2.0
PRODID:-//Deercreek Country Club Owners Association - ECPv6.15.20//NONSGML v1.0//EN
CALSCALE:GREGORIAN
METHOD:PUBLISH
X-ORIGINAL-URL:https://www.deercreekcc.com
X-WR-CALDESC:Events for Deercreek Country Club Owners Association
REFRESH-INTERVAL;VALUE=DURATION:PT1H
X-Robots-Tag:noindex
X-PUBLISHED-TTL:PT1H
BEGIN:VTIMEZONE
TZID:America/New_York
BEGIN:DAYLIGHT
TZOFFSETFROM:-0500
TZOFFSETTO:-0400
TZNAME:EDT
DTSTART:20190310T070000
END:DAYLIGHT
BEGIN:STANDARD
TZOFFSETFROM:-0400
TZOFFSETTO:-0500
TZNAME:EST
DTSTART:20191103T060000
END:STANDARD
BEGIN:DAYLIGHT
TZOFFSETFROM:-0500
TZOFFSETTO:-0400
TZNAME:EDT
DTSTART:20200308T070000
END:DAYLIGHT
BEGIN:STANDARD
TZOFFSETFROM:-0400
TZOFFSETTO:-0500
TZNAME:EST
DTSTART:20201101T060000
END:STANDARD
BEGIN:DAYLIGHT
TZOFFSETFROM:-0500
TZOFFSETTO:-0400
TZNAME:EDT
DTSTART:20210314T070000
END:DAYLIGHT
BEGIN:STANDARD
TZOFFSETFROM:-0400
TZOFFSETTO:-0500
TZNAME:EST
DTSTART:20211107T060000
END:STANDARD
END:VTIMEZONE
BEGIN:VEVENT
DTSTART;TZID=America/New_York:20200805T190000
DTEND;TZID=America/New_York:20200805T190000
DTSTAMP:20260422T221121
CREATED:20200224T211951Z
LAST-MODIFIED:20200730T221324Z
UID:10001819-1596654000-1596654000@www.deercreekcc.com
SUMMARY:ARB - Teleconference
DESCRIPTION:Content is protected.
URL:https://www.deercreekcc.com/events/arb-march-2020-08-05/
LOCATION:FL\, United States
CATEGORIES:ARB
END:VEVENT
BEGIN:VEVENT
DTSTART;TZID=America/New_York:20200813T180000
DTEND;TZID=America/New_York:20200813T180000
DTSTAMP:20260422T221121
CREATED:20200224T193849Z
LAST-MODIFIED:20200730T221514Z
UID:10001881-1597341600-1597341600@www.deercreekcc.com
SUMMARY:Common Property - Teleconference
DESCRIPTION:Content is protected.
URL:https://www.deercreekcc.com/events/common-property-3-2020-06-11-2020-08-13/2020-08-13/
LOCATION:FL\, United States
CATEGORIES:Common Property
END:VEVENT
BEGIN:VEVENT
DTSTART;TZID=America/New_York:20200818T100000
DTEND;TZID=America/New_York:20200818T113000
DTSTAMP:20260422T221121
CREATED:20200728T182933Z
LAST-MODIFIED:20200728T185816Z
UID:10001941-1597744800-1597750200@www.deercreekcc.com
SUMMARY:Literary Circle
DESCRIPTION:Lost City of the Monkey God: A True Story by Douglas Preston \nOn Tuesday\, August 18th\, the Deercreek Book Club will meet to discuss Douglas Preston’s book\, The Lost City of the Monkey God: A True Story. This book is the absolutely true\, eyewitness account of one of the great discoveries of the twenty-first century. \nSummary: The #1 New York Times and Wall Street Journal bestseller\, named one of the best books of the year by The Boston Globe and National Geographic: acclaimed journalist Douglas Preston takes readers on a true adventure deep in the Honduran rainforest in this riveting narrative about the discovery of a lost civilization – culminating in a stunning medical mystery.\nSince the days of conquistador Hernan Cortes\, rumors have circulated about a lost city of immense wealth hidden somewhere in the Honduran interior\, and they warn that anyone who enters this sacred city will fall ill and die. In 1940\, swashbuckling journalist\, Theodore Morde returned from the rainforest with hundreds of artifacts and an electrifying story of having found the Lost City of the Monkey God – but then committed suicide without revealing its location. \nThree-quarters of a century later\, bestselling author Douglas Preston joined a team of scientists on a groundbreaking new quest. In 2012 he climbed aboard a rickety\, single-engine plane carrying the machine that would change everything: lidar\, a highly advanced\, classified technology that could map the terrain under the densest rainforest canopy. In an unexplored valley ringed by steep mountains\, that flight revealed the unmistakable image of a sprawling metropolis\, tantalizing evidence of not just an undiscovered city but an enigmatic\, lost civilization.\nVenturing into this raw\, treacherous\, but breathtakingly beautiful wilderness to confirm the discovery\, Preston and the team battled torrential rains\, quickmud\, disease-carrying insects\, jaguars\, and deadly snakes. But it wasn’t until they returned that tragedy struck: Preston and others found they had contracted in the ruins a horrifying\, sometimes lethal-and-incurable-disease.\nThe Deercreek book club meets every 3rd Tuesday of the month\, at the Club. Before the discussion\, beverages and light snacks are served. For more information\, please contact Chris Middlebrook\, middlebrookchristine@gmail.com or cell 407-461-o756
URL:https://www.deercreekcc.com/events/literary-circle/
LOCATION:Meetings are held in the Ladies Card Room of the Clubhouse\, FL\, United States
CATEGORIES:Book Club
ATTACH;FMTTYPE=image/jpeg:https://www.deercreekcc.com/wp-content/uploads/lost-city-monkey-god.jpg
ORGANIZER;CN="Chris Middlebrook":MAILTO:middlebrookchristine@gmail.com
END:VEVENT
BEGIN:VEVENT
DTSTART;TZID=America/New_York:20200819T181500
DTEND;TZID=America/New_York:20200819T181500
DTSTAMP:20260422T221121
CREATED:20200529T174055Z
LAST-MODIFIED:20200730T221604Z
UID:10001921-1597860900-1597860900@www.deercreekcc.com
SUMMARY:Communications - Teleconference
DESCRIPTION:Communications Committee Meeting
URL:https://www.deercreekcc.com/events/communications-2020-08-19/
LOCATION:Deercreek Country Club
CATEGORIES:Communications
END:VEVENT
BEGIN:VEVENT
DTSTART;TZID=America/New_York:20200820T160000
DTEND;TZID=America/New_York:20200820T160000
DTSTAMP:20260422T221121
CREATED:20200224T194857Z
LAST-MODIFIED:20200730T221839Z
UID:10001898-1597939200-1597939200@www.deercreekcc.com
SUMMARY:Finance - Teleconference
DESCRIPTION:Content is protected.
URL:https://www.deercreekcc.com/events/finance-2-2020-05-21-2020-06-18-2020-08-20/
LOCATION:FL\, United States
CATEGORIES:Finance
END:VEVENT
BEGIN:VEVENT
DTSTART;TZID=America/New_York:20200820T180000
DTEND;TZID=America/New_York:20200820T180000
DTSTAMP:20260422T221121
CREATED:20200216T184329Z
LAST-MODIFIED:20200730T222008Z
UID:10001855-1597946400-1597946400@www.deercreekcc.com
SUMMARY:Covenant Enforcement - Teleconference
DESCRIPTION:Content is protected.
URL:https://www.deercreekcc.com/events/test-page-3-2020-08-20/
LOCATION:FL\, United States
CATEGORIES:Fine Appeals
END:VEVENT
BEGIN:VEVENT
DTSTART;TZID=America/New_York:20200825T113000
DTEND;TZID=America/New_York:20200825T130000
DTSTAMP:20260422T221121
CREATED:20200728T201445Z
LAST-MODIFIED:20200728T202032Z
UID:10001948-1598355000-1598360400@www.deercreekcc.com
SUMMARY:Golden Acorn Lunchen
DESCRIPTION:Jan Malick named as 2020 Golden Acorn Winner \nIn recognition of her leadership in Deercreek women’s charitable initiatives\, Jan will receive the 2020 Golden Acorn Award given annually to a person active in projects that benefit the Deercreek community as well as the greater Jacksonville community. The award is scheduled to be presented Aug. 25 during a luncheon at the Deercreek Clubhouse.
URL:https://www.deercreekcc.com/events/golden-acorn-lunchen/
LOCATION:Deercreek Country Club
CATEGORIES:Home and Garden Club
ATTACH;FMTTYPE=image/jpeg:https://www.deercreekcc.com/wp-content/uploads/2020/02/HGC-logo.jpg
END:VEVENT
BEGIN:VEVENT
DTSTART;TZID=America/New_York:20200827T180000
DTEND;TZID=America/New_York:20200827T180000
DTSTAMP:20260422T221121
CREATED:20200213T001611Z
LAST-MODIFIED:20200730T222058Z
UID:10001838-1598551200-1598551200@www.deercreekcc.com
SUMMARY:Board Meeting - Teleconference
DESCRIPTION:Content is protected.
URL:https://www.deercreekcc.com/events/board-meeting-2020-04-23-2020-05-28-2020-06-25-2020-07-30-2020-08-27/
LOCATION:Deercreek Country Club
CATEGORIES:DCCOA Board
END:VEVENT
END:VCALENDAR