BEGIN:VCALENDAR
VERSION:2.0
PRODID:-//Deercreek Country Club Owners Association - ECPv6.15.20//NONSGML v1.0//EN
CALSCALE:GREGORIAN
METHOD:PUBLISH
X-WR-CALNAME:Deercreek Country Club Owners Association
X-ORIGINAL-URL:https://www.deercreekcc.com
X-WR-CALDESC:Events for Deercreek Country Club Owners Association
REFRESH-INTERVAL;VALUE=DURATION:PT1H
X-Robots-Tag:noindex
X-PUBLISHED-TTL:PT1H
BEGIN:VTIMEZONE
TZID:America/New_York
BEGIN:DAYLIGHT
TZOFFSETFROM:-0500
TZOFFSETTO:-0400
TZNAME:EDT
DTSTART:20190310T070000
END:DAYLIGHT
BEGIN:STANDARD
TZOFFSETFROM:-0400
TZOFFSETTO:-0500
TZNAME:EST
DTSTART:20191103T060000
END:STANDARD
BEGIN:DAYLIGHT
TZOFFSETFROM:-0500
TZOFFSETTO:-0400
TZNAME:EDT
DTSTART:20200308T070000
END:DAYLIGHT
BEGIN:STANDARD
TZOFFSETFROM:-0400
TZOFFSETTO:-0500
TZNAME:EST
DTSTART:20201101T060000
END:STANDARD
BEGIN:DAYLIGHT
TZOFFSETFROM:-0500
TZOFFSETTO:-0400
TZNAME:EDT
DTSTART:20210314T070000
END:DAYLIGHT
BEGIN:STANDARD
TZOFFSETFROM:-0400
TZOFFSETTO:-0500
TZNAME:EST
DTSTART:20211107T060000
END:STANDARD
END:VTIMEZONE
BEGIN:VEVENT
DTSTART;TZID=America/New_York:20200701T190000
DTEND;TZID=America/New_York:20200701T190000
DTSTAMP:20260422T235051
CREATED:20200224T211951Z
LAST-MODIFIED:20200629T131051Z
UID:10001818-1593630000-1593630000@www.deercreekcc.com
SUMMARY:ARB - Teleconference
DESCRIPTION:Content is protected.
URL:https://www.deercreekcc.com/events/arb-march-2020-07-01/
LOCATION:FL\, United States
CATEGORIES:ARB
END:VEVENT
BEGIN:VEVENT
DTSTART;TZID=America/New_York:20200709T180000
DTEND;TZID=America/New_York:20200709T180000
DTSTAMP:20260422T235051
CREATED:20200224T193849Z
LAST-MODIFIED:20200629T131244Z
UID:10001879-1594317600-1594317600@www.deercreekcc.com
SUMMARY:Common Property - Telenconference
DESCRIPTION:Content is protected.
URL:https://www.deercreekcc.com/events/common-property-3-2020-06-11-2020-07-09/
LOCATION:FL\, United States
CATEGORIES:Common Property
END:VEVENT
BEGIN:VEVENT
DTSTART;TZID=America/New_York:20200714T113000
DTEND;TZID=America/New_York:20200714T170000
DTSTAMP:20260422T235051
CREATED:20200709T131655Z
LAST-MODIFIED:20200709T131655Z
UID:10001939-1594726200-1594746000@www.deercreekcc.com
SUMMARY:Alpha-Omega Thrift Store Collection
DESCRIPTION:The Alpha-Omega Thrift Store truck will be coming to Deercreek on Tuesday\, July 14th\, starting at 10:30 AM. The Alpha Omega Store has a truck that comes into the community on the second Tuesday of each month. Residents can email Elizabeth Curtin at pickups99@yahoo.com with a request for the truck to pick-up or arrange a drop-off of small donations to her home the weekend before the truck arrives.
URL:https://www.deercreekcc.com/events/alpha-omega-thrift-store-collection/
LOCATION:FL\, United States
CATEGORIES:DWA
END:VEVENT
BEGIN:VEVENT
DTSTART;TZID=America/New_York:20200715T181500
DTEND;TZID=America/New_York:20200715T181500
DTSTAMP:20260422T235051
CREATED:20200529T174055Z
LAST-MODIFIED:20200629T131326Z
UID:10001920-1594836900-1594836900@www.deercreekcc.com
SUMMARY:Communications - Telenconference
DESCRIPTION:Communications Committee Meeting
URL:https://www.deercreekcc.com/events/communications/
LOCATION:Deercreek Country Club
CATEGORIES:Communications
END:VEVENT
BEGIN:VEVENT
DTSTART;TZID=America/New_York:20200716T180000
DTEND;TZID=America/New_York:20200716T180000
DTSTAMP:20260422T235051
CREATED:20200216T184329Z
LAST-MODIFIED:20200629T131408Z
UID:10001860-1594922400-1594922400@www.deercreekcc.com
SUMMARY:Covenant Enforcement - Teleconference
DESCRIPTION:Content is protected.
URL:https://www.deercreekcc.com/events/test-page-3/
LOCATION:FL\, United States
CATEGORIES:Fine Appeals
END:VEVENT
BEGIN:VEVENT
DTSTART;TZID=America/New_York:20200721T100000
DTEND;TZID=America/New_York:20200721T113000
DTSTAMP:20260422T235051
CREATED:20200616T174338Z
LAST-MODIFIED:20200617T201626Z
UID:10001933-1595325600-1595331000@www.deercreekcc.com
SUMMARY:Book Club July
DESCRIPTION:Content is protected.
URL:https://www.deercreekcc.com/events/book-club-july/
CATEGORIES:Book Club
END:VEVENT
BEGIN:VEVENT
DTSTART;TZID=America/New_York:20200723T160000
DTEND;TZID=America/New_York:20200723T160000
DTSTAMP:20260422T235051
CREATED:20200224T194857Z
LAST-MODIFIED:20200629T131510Z
UID:10001895-1595520000-1595520000@www.deercreekcc.com
SUMMARY:Finance - Teleconference
DESCRIPTION:Content is protected.
URL:https://www.deercreekcc.com/events/finance-2-2020-07-16/
LOCATION:FL\, United States
CATEGORIES:Finance
END:VEVENT
BEGIN:VEVENT
DTSTART;TZID=America/New_York:20200730T180000
DTEND;TZID=America/New_York:20200730T180000
DTSTAMP:20260422T235051
CREATED:20200213T001611Z
LAST-MODIFIED:20200629T131616Z
UID:10001840-1596132000-1596132000@www.deercreekcc.com
SUMMARY:Board Meeting - Teleconference
DESCRIPTION:Content is protected.
URL:https://www.deercreekcc.com/events/board-meeting-2020-04-23-2020-05-28-2020-06-25-2020-07-30/
LOCATION:Deercreek Country Club
CATEGORIES:DCCOA Board
END:VEVENT
END:VCALENDAR