BEGIN:VCALENDAR
VERSION:2.0
PRODID:-//Deercreek Country Club Owners Association - ECPv6.15.20//NONSGML v1.0//EN
CALSCALE:GREGORIAN
METHOD:PUBLISH
X-ORIGINAL-URL:https://www.deercreekcc.com
X-WR-CALDESC:Events for Deercreek Country Club Owners Association
REFRESH-INTERVAL;VALUE=DURATION:PT1H
X-Robots-Tag:noindex
X-PUBLISHED-TTL:PT1H
BEGIN:VTIMEZONE
TZID:America/New_York
BEGIN:DAYLIGHT
TZOFFSETFROM:-0500
TZOFFSETTO:-0400
TZNAME:EDT
DTSTART:20190310T070000
END:DAYLIGHT
BEGIN:STANDARD
TZOFFSETFROM:-0400
TZOFFSETTO:-0500
TZNAME:EST
DTSTART:20191103T060000
END:STANDARD
BEGIN:DAYLIGHT
TZOFFSETFROM:-0500
TZOFFSETTO:-0400
TZNAME:EDT
DTSTART:20200308T070000
END:DAYLIGHT
BEGIN:STANDARD
TZOFFSETFROM:-0400
TZOFFSETTO:-0500
TZNAME:EST
DTSTART:20201101T060000
END:STANDARD
BEGIN:DAYLIGHT
TZOFFSETFROM:-0500
TZOFFSETTO:-0400
TZNAME:EDT
DTSTART:20210314T070000
END:DAYLIGHT
BEGIN:STANDARD
TZOFFSETFROM:-0400
TZOFFSETTO:-0500
TZNAME:EST
DTSTART:20211107T060000
END:STANDARD
END:VTIMEZONE
BEGIN:VEVENT
DTSTART;TZID=America/New_York:20200603T190000
DTEND;TZID=America/New_York:20200603T190000
DTSTAMP:20260423T013312
CREATED:20200224T211951Z
LAST-MODIFIED:20200528T154234Z
UID:10001904-1591210800-1591210800@www.deercreekcc.com
SUMMARY:ARB - Teleconference
DESCRIPTION:Content is protected.
URL:https://www.deercreekcc.com/events/arb-march-2020-06-03/
CATEGORIES:ARB
END:VEVENT
BEGIN:VEVENT
DTSTART;TZID=America/New_York:20200609T103000
DTEND;TZID=America/New_York:20200609T103000
DTSTAMP:20260423T013312
CREATED:20200526T161300Z
LAST-MODIFIED:20200526T164127Z
UID:10001919-1591698600-1591698600@www.deercreekcc.com
SUMMARY:Alpha-Omega Thrift Store Truck
DESCRIPTION:I am sure that you have all been busy spring-cleaning and decluttering while you’ve been at home! Now is your time to donate all of your unwanted\, but gently used\, items to help raise funds for those in need. \nWe have finally been able to arrange the first collection by the truck from The Alpha-Omega Thrift Store on Southside. \nPlease email Elizabeth Curtin on pickups99@yahoo.com to arrange a collection from your home\, or if you prefer\, you can arrange to drop small items only at Elizabeth’s home the weekend before the truck is due (please use the same email address to arrange any drop-offs)
URL:https://www.deercreekcc.com/events/alpha-omega-thrift-store-truck-at-the-clubhouse/
CATEGORIES:DWA
ATTACH;FMTTYPE=image/jpeg:https://www.deercreekcc.com/wp-content/uploads/Alpha-omega-thrift-store.jpg
END:VEVENT
BEGIN:VEVENT
DTSTART;TZID=America/New_York:20200611T180000
DTEND;TZID=America/New_York:20200611T180000
DTSTAMP:20260423T013312
CREATED:20200224T193849Z
LAST-MODIFIED:20200528T154403Z
UID:10001877-1591898400-1591898400@www.deercreekcc.com
SUMMARY:Common Property - Teleconference
DESCRIPTION:Content is protected.
URL:https://www.deercreekcc.com/events/common-property-3-2020-06-11/
CATEGORIES:Common Property
END:VEVENT
BEGIN:VEVENT
DTSTART;TZID=America/New_York:20200617T181500
DTEND;TZID=America/New_York:20200617T181500
DTSTAMP:20260423T013312
CREATED:20200226T171137Z
LAST-MODIFIED:20200616T132304Z
UID:10001827-1592417700-1592417700@www.deercreekcc.com
SUMMARY:Communications - Canceled
DESCRIPTION:Content is protected.
URL:https://www.deercreekcc.com/events/communications-2020-04-15-2020-05-20-2020-06-17/
CATEGORIES:Communications
END:VEVENT
BEGIN:VEVENT
DTSTART;TZID=America/New_York:20200618T160000
DTEND;TZID=America/New_York:20200618T160000
DTSTAMP:20260423T013312
CREATED:20200224T194857Z
LAST-MODIFIED:20200608T232330Z
UID:10001897-1592496000-1592496000@www.deercreekcc.com
SUMMARY:Finance - Teleconference
DESCRIPTION:Content is protected.
URL:https://www.deercreekcc.com/events/finance-2-2020-05-21-2020-06-18/
CATEGORIES:Finance
END:VEVENT
BEGIN:VEVENT
DTSTART;TZID=America/New_York:20200618T180000
DTEND;TZID=America/New_York:20200618T180000
DTSTAMP:20260423T013312
CREATED:20200216T184329Z
LAST-MODIFIED:20200617T203520Z
UID:10001854-1592503200-1592503200@www.deercreekcc.com
SUMMARY:Covenant Enforcement - Teleconference
DESCRIPTION:Content is protected.
URL:https://www.deercreekcc.com/events/ce-june2020/
LOCATION:FL\, United States
CATEGORIES:Fine Appeals
END:VEVENT
BEGIN:VEVENT
DTSTART;TZID=America/New_York:20200618T180000
DTEND;TZID=America/New_York:20200618T180000
DTSTAMP:20260423T013312
CREATED:20200224T191529Z
LAST-MODIFIED:20200511T151314Z
UID:10001868-1592503200-1592503200@www.deercreekcc.com
SUMMARY:Covenant Enforcement - Teleconference
DESCRIPTION:Content is protected.
URL:https://www.deercreekcc.com/events/covenant-enforcement-2020-04-16/2020-06-18/
CATEGORIES:Fine Appeals
END:VEVENT
BEGIN:VEVENT
DTSTART;TZID=America/New_York:20200625T180000
DTEND;TZID=America/New_York:20200625T180000
DTSTAMP:20260423T013312
CREATED:20200213T001611Z
LAST-MODIFIED:20200528T153721Z
UID:10001837-1593108000-1593108000@www.deercreekcc.com
SUMMARY:Board Meeting - Teleconference
DESCRIPTION:Content is protected.
URL:https://www.deercreekcc.com/events/board-meeting-2020-04-23-2020-05-28-2020-06-25/
LOCATION:Deercreek Country Club
CATEGORIES:DCCOA Board
END:VEVENT
END:VCALENDAR