BEGIN:VCALENDAR
VERSION:2.0
PRODID:-//Deercreek Country Club Owners Association - ECPv6.15.20//NONSGML v1.0//EN
CALSCALE:GREGORIAN
METHOD:PUBLISH
X-WR-CALNAME:Deercreek Country Club Owners Association
X-ORIGINAL-URL:https://www.deercreekcc.com
X-WR-CALDESC:Events for Deercreek Country Club Owners Association
REFRESH-INTERVAL;VALUE=DURATION:PT1H
X-Robots-Tag:noindex
X-PUBLISHED-TTL:PT1H
BEGIN:VTIMEZONE
TZID:America/New_York
BEGIN:DAYLIGHT
TZOFFSETFROM:-0500
TZOFFSETTO:-0400
TZNAME:EDT
DTSTART:20190310T070000
END:DAYLIGHT
BEGIN:STANDARD
TZOFFSETFROM:-0400
TZOFFSETTO:-0500
TZNAME:EST
DTSTART:20191103T060000
END:STANDARD
BEGIN:DAYLIGHT
TZOFFSETFROM:-0500
TZOFFSETTO:-0400
TZNAME:EDT
DTSTART:20200308T070000
END:DAYLIGHT
BEGIN:STANDARD
TZOFFSETFROM:-0400
TZOFFSETTO:-0500
TZNAME:EST
DTSTART:20201101T060000
END:STANDARD
BEGIN:DAYLIGHT
TZOFFSETFROM:-0500
TZOFFSETTO:-0400
TZNAME:EDT
DTSTART:20210314T070000
END:DAYLIGHT
BEGIN:STANDARD
TZOFFSETFROM:-0400
TZOFFSETTO:-0500
TZNAME:EST
DTSTART:20211107T060000
END:STANDARD
END:VTIMEZONE
BEGIN:VEVENT
DTSTART;TZID=America/New_York:20200409T180000
DTEND;TZID=America/New_York:20200409T180000
DTSTAMP:20260423T051753
CREATED:20200224T193849Z
LAST-MODIFIED:20200331T002411Z
UID:10001875-1586455200-1586455200@www.deercreekcc.com
SUMMARY:Common Property – teleconference
DESCRIPTION:A few minutes before the start of the meeting\, dial into the conference number below. \n+1 (224) 501-3412\nAccess Code: 450-887-581 \nOnce you’re in and can hear us\, log into the screen share with the link below. This may take a few minutes to download small software\, etc. I will talk you through how it works\, features and functions. \nhttps://global.gotomeeting.com/join/450887581
URL:https://www.deercreekcc.com/events/common-property-3-2020-04-09/
CATEGORIES:Common Property
END:VEVENT
BEGIN:VEVENT
DTSTART;TZID=America/New_York:20200415T181500
DTEND;TZID=America/New_York:20200415T181500
DTSTAMP:20260423T051753
CREATED:20200226T171137Z
LAST-MODIFIED:20200511T153743Z
UID:10001825-1586974500-1586974500@www.deercreekcc.com
SUMMARY:Communications – teleconference
DESCRIPTION:Content is protected.
URL:https://www.deercreekcc.com/events/communications-2020-04-15/
CATEGORIES:Communications
END:VEVENT
BEGIN:VEVENT
DTSTART;TZID=America/New_York:20200416T180000
DTEND;TZID=America/New_York:20200416T180000
DTSTAMP:20260423T051753
CREATED:20200224T191529Z
LAST-MODIFIED:20200511T151314Z
UID:10001866-1587060000-1587060000@www.deercreekcc.com
SUMMARY:Covenant Enforcement - Teleconference
DESCRIPTION:Content is protected.
URL:https://www.deercreekcc.com/events/covenant-enforcement-2020-04-16/2020-04-16/
CATEGORIES:Fine Appeals
END:VEVENT
BEGIN:VEVENT
DTSTART;TZID=America/New_York:20200420T100000
DTEND;TZID=America/New_York:20200420T170000
DTSTAMP:20260423T051753
CREATED:20200316T195926Z
LAST-MODIFIED:20200511T153714Z
UID:10001905-1587376800-1587402000@www.deercreekcc.com
SUMMARY:April Book Club - CANCELED
DESCRIPTION:Content is protected.
URL:https://www.deercreekcc.com/events/april-book-club/
CATEGORIES:Book Club
END:VEVENT
BEGIN:VEVENT
DTSTART;TZID=America/New_York:20200421T100000
DTEND;TZID=America/New_York:20200421T100000
DTSTAMP:20260423T051753
CREATED:20200118T003604Z
LAST-MODIFIED:20200511T153410Z
UID:10001832-1587463200-1587463200@www.deercreekcc.com
SUMMARY:Home and Garden - Fresh Herbs for Your Fresh Pasta-CANCELED
DESCRIPTION:Content is protected.
URL:https://www.deercreekcc.com/events/home-and-garden/
LOCATION:Deercreek Golf Club
CATEGORIES:Home and Garden Club
ORGANIZER;CN="Julia Watkins":MAILTO:juleswatkins64@gmail.com
END:VEVENT
BEGIN:VEVENT
DTSTART;TZID=America/New_York:20200422T162000
DTEND;TZID=America/New_York:20200422T190000
DTSTAMP:20260423T051753
CREATED:20200316T202841Z
LAST-MODIFIED:20200511T153323Z
UID:10001906-1587572400-1587582000@www.deercreekcc.com
SUMMARY:Women's Alliance - CANCELED
DESCRIPTION:Content is protected.
URL:https://www.deercreekcc.com/events/womens-alliance/
LOCATION:Gabriel House of Care
CATEGORIES:DWA
END:VEVENT
BEGIN:VEVENT
DTSTART;TZID=America/New_York:20200423T160000
DTEND;TZID=America/New_York:20200423T170000
DTSTAMP:20260423T051753
CREATED:20200224T194857Z
LAST-MODIFIED:20200511T153217Z
UID:10001893-1587657600-1587661200@www.deercreekcc.com
SUMMARY:Finance  – teleconference
DESCRIPTION:Content is protected.
URL:https://www.deercreekcc.com/events/finance-2-2020-04-16/
CATEGORIES:Finance
END:VEVENT
BEGIN:VEVENT
DTSTART;TZID=America/New_York:20200423T180000
DTEND;TZID=America/New_York:20200423T193000
DTSTAMP:20260423T051753
CREATED:20200421T134921Z
LAST-MODIFIED:20200511T153139Z
UID:10001917-1587664800-1587670200@www.deercreekcc.com
SUMMARY:Covenant Enforcement – Teleconference
DESCRIPTION:Content is protected.
URL:https://www.deercreekcc.com/events/covenant-enforcement-teleconference/
CATEGORIES:Fine Appeals
END:VEVENT
BEGIN:VEVENT
DTSTART;TZID=America/New_York:20200430T180000
DTEND;TZID=America/New_York:20200430T180000
DTSTAMP:20260423T051753
CREATED:20200213T001611Z
LAST-MODIFIED:20200511T153058Z
UID:10001835-1588269600-1588269600@www.deercreekcc.com
SUMMARY:Board Meeting – teleconference
DESCRIPTION:Content is protected.
URL:https://www.deercreekcc.com/events/board-meeting-2020-04-23/
LOCATION:Deercreek Country Club
CATEGORIES:DCCOA Board
END:VEVENT
END:VCALENDAR