BEGIN:VCALENDAR
VERSION:2.0
PRODID:-//Deercreek Country Club Owners Association - ECPv6.15.20//NONSGML v1.0//EN
CALSCALE:GREGORIAN
METHOD:PUBLISH
X-WR-CALNAME:Deercreek Country Club Owners Association
X-ORIGINAL-URL:https://www.deercreekcc.com
X-WR-CALDESC:Events for Deercreek Country Club Owners Association
REFRESH-INTERVAL;VALUE=DURATION:PT1H
X-Robots-Tag:noindex
X-PUBLISHED-TTL:PT1H
BEGIN:VTIMEZONE
TZID:America/New_York
BEGIN:DAYLIGHT
TZOFFSETFROM:-0500
TZOFFSETTO:-0400
TZNAME:EDT
DTSTART:20240310T070000
END:DAYLIGHT
BEGIN:STANDARD
TZOFFSETFROM:-0400
TZOFFSETTO:-0500
TZNAME:EST
DTSTART:20241103T060000
END:STANDARD
BEGIN:DAYLIGHT
TZOFFSETFROM:-0500
TZOFFSETTO:-0400
TZNAME:EDT
DTSTART:20250309T070000
END:DAYLIGHT
BEGIN:STANDARD
TZOFFSETFROM:-0400
TZOFFSETTO:-0500
TZNAME:EST
DTSTART:20251102T060000
END:STANDARD
BEGIN:DAYLIGHT
TZOFFSETFROM:-0500
TZOFFSETTO:-0400
TZNAME:EDT
DTSTART:20260308T070000
END:DAYLIGHT
BEGIN:STANDARD
TZOFFSETFROM:-0400
TZOFFSETTO:-0500
TZNAME:EST
DTSTART:20261101T060000
END:STANDARD
END:VTIMEZONE
BEGIN:VEVENT
DTSTART;TZID=America/New_York:20250220T190000
DTEND;TZID=America/New_York:20250220T203000
DTSTAMP:20260419T094636
CREATED:20250120T154342Z
LAST-MODIFIED:20250127T161012Z
UID:10002769-1740078000-1740083400@www.deercreekcc.com
SUMMARY:Ruth Pangrace presents Julia Child!
DESCRIPTION:For all Home & Garden Club members and Deercreek residents. Please RSVP by February 17 to Deercreekhgc@gmail.com for the program and put it on your calendar now. \nBack by popular demand\, our February speaker is no stranger to Deercreek. Ruth Pangrace has informed and entertained us over the last six years with her portrayals of famous American women. This year she is presenting Julia Child\, famous chef and television personality\, telling Julia’s life story. \nAt the event\, the Home and Garden Club will be selling raffle tickets for a ’50-50 raffle’\, meaning the attendee with the willing raffle ticket will receive 50% of the raffle’s total amount!\nAlso\, since this special program is at night\, the club is offering several French-inspired menu items in her honor. If interested\, be sure to make your dinner reservation directly with the club.
URL:https://www.deercreekcc.com/events/ruth-pangrace-presents-julia-child/
LOCATION:Deercreek Clubhouse\, FL
CATEGORIES:Home and Garden Club
ATTACH;FMTTYPE=image/jpeg:https://www.deercreekcc.com/wp-content/uploads/feb_2025ruth_pangrace_presents_julia_child_v5.jpg
ORGANIZER;CN="Cynthia Bollini":MAILTO:cynthiabollini@gmail.com
END:VEVENT
END:VCALENDAR