BEGIN:VCALENDAR
VERSION:2.0
PRODID:-//Deercreek Country Club Owners Association - ECPv6.15.20//NONSGML v1.0//EN
CALSCALE:GREGORIAN
METHOD:PUBLISH
X-WR-CALNAME:Deercreek Country Club Owners Association
X-ORIGINAL-URL:https://www.deercreekcc.com
X-WR-CALDESC:Events for Deercreek Country Club Owners Association
REFRESH-INTERVAL;VALUE=DURATION:PT1H
X-Robots-Tag:noindex
X-PUBLISHED-TTL:PT1H
BEGIN:VTIMEZONE
TZID:America/New_York
BEGIN:DAYLIGHT
TZOFFSETFROM:-0500
TZOFFSETTO:-0400
TZNAME:EDT
DTSTART:20230312T070000
END:DAYLIGHT
BEGIN:STANDARD
TZOFFSETFROM:-0400
TZOFFSETTO:-0500
TZNAME:EST
DTSTART:20231105T060000
END:STANDARD
BEGIN:DAYLIGHT
TZOFFSETFROM:-0500
TZOFFSETTO:-0400
TZNAME:EDT
DTSTART:20240310T070000
END:DAYLIGHT
BEGIN:STANDARD
TZOFFSETFROM:-0400
TZOFFSETTO:-0500
TZNAME:EST
DTSTART:20241103T060000
END:STANDARD
BEGIN:DAYLIGHT
TZOFFSETFROM:-0500
TZOFFSETTO:-0400
TZNAME:EDT
DTSTART:20250309T070000
END:DAYLIGHT
BEGIN:STANDARD
TZOFFSETFROM:-0400
TZOFFSETTO:-0500
TZNAME:EST
DTSTART:20251102T060000
END:STANDARD
END:VTIMEZONE
BEGIN:VEVENT
DTSTART;TZID=America/New_York:20240911T170000
DTEND;TZID=America/New_York:20240911T193000
DTSTAMP:20260421T095352
CREATED:20240815T134311Z
LAST-MODIFIED:20240815T134311Z
UID:10002586-1726074000-1726083000@www.deercreekcc.com
SUMMARY:Home and Garden Club Invites You to Sip and Shop!
DESCRIPTION:Wednesday\, September 11\n5 pm – 7:30 pm\nDeercreek Clubhouse  \nDeercreek residents are invited to this special event! \nLeila’s Boutique\, with shops in San Marco and Jacksonville Beach\, is back with another batch of elegant and unique ladies’ wear and accessories. Enjoy a fun evening sipping and visiting with your friends and neighbors while browsing fashions and accessories from Leila’s. Try on your favorites and refresh your fall wardrobe! \nRSVP to deercreekhgc@gmail.com by Monday\, September 9.
URL:https://www.deercreekcc.com/events/home-and-garden-club-invites-you-to-sip-and-shop/
LOCATION:Deercreek Clubhouse\, FL
CATEGORIES:Home and Garden Club
ATTACH;FMTTYPE=image/jpeg:https://www.deercreekcc.com/wp-content/uploads/entry-668-sept_2024_sip_and_shop_flyer.jpg
ORGANIZER;CN="Cynthia Bollini":MAILTO:cynthiabollini@gmail.com
END:VEVENT
END:VCALENDAR