BEGIN:VCALENDAR
VERSION:2.0
PRODID:-//Deercreek Country Club Owners Association - ECPv6.15.20//NONSGML v1.0//EN
CALSCALE:GREGORIAN
METHOD:PUBLISH
X-ORIGINAL-URL:https://www.deercreekcc.com
X-WR-CALDESC:Events for Deercreek Country Club Owners Association
REFRESH-INTERVAL;VALUE=DURATION:PT1H
X-Robots-Tag:noindex
X-PUBLISHED-TTL:PT1H
BEGIN:VTIMEZONE
TZID:America/New_York
BEGIN:DAYLIGHT
TZOFFSETFROM:-0500
TZOFFSETTO:-0400
TZNAME:EDT
DTSTART:20220313T070000
END:DAYLIGHT
BEGIN:STANDARD
TZOFFSETFROM:-0400
TZOFFSETTO:-0500
TZNAME:EST
DTSTART:20221106T060000
END:STANDARD
BEGIN:DAYLIGHT
TZOFFSETFROM:-0500
TZOFFSETTO:-0400
TZNAME:EDT
DTSTART:20230312T070000
END:DAYLIGHT
BEGIN:STANDARD
TZOFFSETFROM:-0400
TZOFFSETTO:-0500
TZNAME:EST
DTSTART:20231105T060000
END:STANDARD
BEGIN:DAYLIGHT
TZOFFSETFROM:-0500
TZOFFSETTO:-0400
TZNAME:EDT
DTSTART:20240310T070000
END:DAYLIGHT
BEGIN:STANDARD
TZOFFSETFROM:-0400
TZOFFSETTO:-0500
TZNAME:EST
DTSTART:20241103T060000
END:STANDARD
END:VTIMEZONE
BEGIN:VEVENT
DTSTART;TZID=America/New_York:20230914T170000
DTEND;TZID=America/New_York:20230914T193000
DTSTAMP:20260422T053037
CREATED:20230821T180735Z
LAST-MODIFIED:20240826T155844Z
UID:10002137-1694710800-1694719800@www.deercreekcc.com
SUMMARY:Home & Garden Club Invites You to Sip & Shop
DESCRIPTION:Wednesday\, September 115 pm – 7:30 pmDeercreek ClubhouseRSVP to deercreekhgc@gmail.com by Monday\, September 9 \nAll Deercreek residents are invited to this special event!Leila’s Boutique\, with shops in San Marco and Jacksonville Beach\, is back with another batch of elegant and unique ladies’ wear and accessories. Enjoy a fun evening sipping and visiting with your friends and neighbors while browsing fashions and accessories from Leila’s. Try on your favorites and refresh your fall wardrobe!
URL:https://www.deercreekcc.com/events/home-garden-club-invites-you-to-sip-shop/
LOCATION:Deercreek Country Club
CATEGORIES:Home and Garden Club
ATTACH;FMTTYPE=image/jpeg:https://www.deercreekcc.com/wp-content/uploads/entry-672-sept_24_sip__shopflyer.jpg
ORGANIZER;CN="Cynthia Bollini":MAILTO:cynthiabollini@gmail.com
END:VEVENT
BEGIN:VEVENT
DTSTART;TZID=America/New_York:20230919T100000
DTEND;TZID=America/New_York:20230919T100000
DTSTAMP:20260422T053038
CREATED:20230911T165340Z
LAST-MODIFIED:20230911T165340Z
UID:10002149-1695117600-1695117600@www.deercreekcc.com
SUMMARY:HGC Members Only Event
DESCRIPTION:Home & Garden Club Members Only Event \nThriller\, Filler\, Spiller Combination Planters with Nancy Traver\, Master Gardener \n 
URL:https://www.deercreekcc.com/events/hgc-members-only-event/
CATEGORIES:Home and Garden Club
END:VEVENT
END:VCALENDAR