BEGIN:VCALENDAR
VERSION:2.0
PRODID:-//Deercreek Country Club Owners Association - ECPv6.15.20//NONSGML v1.0//EN
CALSCALE:GREGORIAN
METHOD:PUBLISH
X-WR-CALNAME:Deercreek Country Club Owners Association
X-ORIGINAL-URL:https://www.deercreekcc.com
X-WR-CALDESC:Events for Deercreek Country Club Owners Association
REFRESH-INTERVAL;VALUE=DURATION:PT1H
X-Robots-Tag:noindex
X-PUBLISHED-TTL:PT1H
BEGIN:VTIMEZONE
TZID:America/New_York
BEGIN:DAYLIGHT
TZOFFSETFROM:-0500
TZOFFSETTO:-0400
TZNAME:EDT
DTSTART:20220313T070000
END:DAYLIGHT
BEGIN:STANDARD
TZOFFSETFROM:-0400
TZOFFSETTO:-0500
TZNAME:EST
DTSTART:20221106T060000
END:STANDARD
BEGIN:DAYLIGHT
TZOFFSETFROM:-0500
TZOFFSETTO:-0400
TZNAME:EDT
DTSTART:20230312T070000
END:DAYLIGHT
BEGIN:STANDARD
TZOFFSETFROM:-0400
TZOFFSETTO:-0500
TZNAME:EST
DTSTART:20231105T060000
END:STANDARD
BEGIN:DAYLIGHT
TZOFFSETFROM:-0500
TZOFFSETTO:-0400
TZNAME:EDT
DTSTART:20240310T070000
END:DAYLIGHT
BEGIN:STANDARD
TZOFFSETFROM:-0400
TZOFFSETTO:-0500
TZNAME:EST
DTSTART:20241103T060000
END:STANDARD
END:VTIMEZONE
BEGIN:VEVENT
DTSTART;TZID=America/New_York:20230301T170000
DTEND;TZID=America/New_York:20230301T170000
DTSTAMP:20260422T153358
CREATED:20220119T000029Z
LAST-MODIFIED:20230124T170938Z
UID:10002033-1677690000-1677690000@www.deercreekcc.com
SUMMARY:Women in History
DESCRIPTION:We’ve RESCHEDULED our popular Ruth Pangrace Women in History performance! \nNEW DATE: Wednesday\, March 1(rescheduled from Jan 18th)Location: Deercreek Clubhouse \nDinner at Mallard’s at 5:00 pmPlease RSVP using the Deercreek CC App or call 904-363-1604 \nShow starts at 7:00 pmPlease RSVP to show by Tuesday\, Feb 28 to: deercreekhgc@gmail.com or text or call Jill Cole at (904) 252-2893 \nThank you for the many RSVPs for the Wednesday\, January 18 Women in History show. As you know\, we had to cancel it due to her illness. Now that we’ve rescheduled it\, please re-RSVP your attendance to avoid confusion regarding changes. \nWho WAS Cassie Chadwick? \nCassie Chadwick was known as the Queen of the Con\, the Duchess of Diamonds\, and the High Priestess of Fraudulent Finance. Born in 1857\, Elizabeth Bigsley\, a Canadian farm girl\, ended up bilking hundreds of people out of millions of dollars as Cassie Chadwick. Dubbed “The Most Dangerous Woman in America.” her Cleveland trial in 1905 was the “trial of the century.” Was she a shrewd businesswoman or a criminal guilty of conspiracy to defraud the government? Decide for yourself. \n  \n  \n 
URL:https://www.deercreekcc.com/events/women-in-history-2022/
LOCATION:Deercreek Clubhouse\, FL
CATEGORIES:Home and Garden Club
ATTACH;FMTTYPE=image/jpeg:https://www.deercreekcc.com/wp-content/uploads/cassie-cadwick-2.jpg
ORGANIZER;CN="Cynthia Bollini":MAILTO:cynthiabollini@gmail.com
END:VEVENT
BEGIN:VEVENT
DTSTART;TZID=America/New_York:20230321T110000
DTEND;TZID=America/New_York:20230321T110000
DTSTAMP:20260422T153358
CREATED:20230227T172042Z
LAST-MODIFIED:20230227T202929Z
UID:10002365-1679396400-1679396400@www.deercreekcc.com
SUMMARY:Spring Fashion Show
DESCRIPTION:
URL:https://www.deercreekcc.com/events/spring-fashion-show-2023/
LOCATION:Deercreek Country Club
CATEGORIES:Home and Garden Club
ATTACH;FMTTYPE=image/jpeg:https://www.deercreekcc.com/wp-content/uploads/oINV2iX4.jpeg
ORGANIZER;CN="Cynthia Bollini":MAILTO:cynthiabollini@gmail.com
END:VEVENT
END:VCALENDAR