BEGIN:VCALENDAR
VERSION:2.0
PRODID:-//Deercreek Country Club Owners Association - ECPv6.15.20//NONSGML v1.0//EN
CALSCALE:GREGORIAN
METHOD:PUBLISH
X-ORIGINAL-URL:https://www.deercreekcc.com
X-WR-CALDESC:Events for Deercreek Country Club Owners Association
REFRESH-INTERVAL;VALUE=DURATION:PT1H
X-Robots-Tag:noindex
X-PUBLISHED-TTL:PT1H
BEGIN:VTIMEZONE
TZID:America/New_York
BEGIN:DAYLIGHT
TZOFFSETFROM:-0500
TZOFFSETTO:-0400
TZNAME:EDT
DTSTART:20210314T070000
END:DAYLIGHT
BEGIN:STANDARD
TZOFFSETFROM:-0400
TZOFFSETTO:-0500
TZNAME:EST
DTSTART:20211107T060000
END:STANDARD
BEGIN:DAYLIGHT
TZOFFSETFROM:-0500
TZOFFSETTO:-0400
TZNAME:EDT
DTSTART:20220313T070000
END:DAYLIGHT
BEGIN:STANDARD
TZOFFSETFROM:-0400
TZOFFSETTO:-0500
TZNAME:EST
DTSTART:20221106T060000
END:STANDARD
BEGIN:DAYLIGHT
TZOFFSETFROM:-0500
TZOFFSETTO:-0400
TZNAME:EDT
DTSTART:20230312T070000
END:DAYLIGHT
BEGIN:STANDARD
TZOFFSETFROM:-0400
TZOFFSETTO:-0500
TZNAME:EST
DTSTART:20231105T060000
END:STANDARD
END:VTIMEZONE
BEGIN:VEVENT
DTSTART;TZID=America/New_York:20221018T100000
DTEND;TZID=America/New_York:20221018T113000
DTSTAMP:20260423T000003
CREATED:20220920T182657Z
LAST-MODIFIED:20220928T174706Z
UID:10002287-1666087200-1666092600@www.deercreekcc.com
SUMMARY:Feng Shui Gardening
DESCRIPTION:With all of the craziness going on in the world today\, do you need some ZEN in your life? \nPlease join the Deercreek Home & Garden Club for a presentation on Feng Shui Gardening. Evie Pankok\, from the UF Duval County Extension Office\, will show us how to incorporate Feng Shui principles to create a calming flow in our gardens. \nCoffee and muffins will be provided. \nQuilt Sale at the meeting!\nComfort n’ Quilters will hold their annual quilt sale at our meeting. The quilting group\, including three Home and Garden Club members (Mary Lou Roberts\, Maryann Grauwiler and Jan Walter) sews quilts to give to young cancer patients at Wolfson Children’s Hospital\, Nemours Children’s Health and Seamark Ranch. Buying a quilt helps Comfort n’ Quilters to purchase their quilting supplies. This is a great opportunity to buy some Christmas gifts and support their charity at the same time!
URL:https://www.deercreekcc.com/events/feng-shui-gardening/
LOCATION:Deercreek Country Club
CATEGORIES:Home and Garden Club
ATTACH;FMTTYPE=image/jpeg:https://www.deercreekcc.com/wp-content/uploads/woman-taking-care-of-her-plant-baby-2022-09-16-08-47-27-utc.jpg
ORGANIZER;CN="Cynthia Bollini":MAILTO:cynthiabollini@gmail.com
END:VEVENT
END:VCALENDAR