BEGIN:VCALENDAR
VERSION:2.0
PRODID:-//Deercreek Country Club Owners Association - ECPv6.15.20//NONSGML v1.0//EN
CALSCALE:GREGORIAN
METHOD:PUBLISH
X-WR-CALNAME:Deercreek Country Club Owners Association
X-ORIGINAL-URL:https://www.deercreekcc.com
X-WR-CALDESC:Events for Deercreek Country Club Owners Association
REFRESH-INTERVAL;VALUE=DURATION:PT1H
X-Robots-Tag:noindex
X-PUBLISHED-TTL:PT1H
BEGIN:VTIMEZONE
TZID:America/New_York
BEGIN:DAYLIGHT
TZOFFSETFROM:-0500
TZOFFSETTO:-0400
TZNAME:EDT
DTSTART:20210314T070000
END:DAYLIGHT
BEGIN:STANDARD
TZOFFSETFROM:-0400
TZOFFSETTO:-0500
TZNAME:EST
DTSTART:20211107T060000
END:STANDARD
BEGIN:DAYLIGHT
TZOFFSETFROM:-0500
TZOFFSETTO:-0400
TZNAME:EDT
DTSTART:20220313T070000
END:DAYLIGHT
BEGIN:STANDARD
TZOFFSETFROM:-0400
TZOFFSETTO:-0500
TZNAME:EST
DTSTART:20221106T060000
END:STANDARD
BEGIN:DAYLIGHT
TZOFFSETFROM:-0500
TZOFFSETTO:-0400
TZNAME:EDT
DTSTART:20230312T070000
END:DAYLIGHT
BEGIN:STANDARD
TZOFFSETFROM:-0400
TZOFFSETTO:-0500
TZNAME:EST
DTSTART:20231105T060000
END:STANDARD
END:VTIMEZONE
BEGIN:VEVENT
DTSTART;TZID=America/New_York:20220322T110000
DTEND;TZID=America/New_York:20220322T133000
DTSTAMP:20260423T123647
CREATED:20220220T222745Z
LAST-MODIFIED:20220221T205944Z
UID:10002042-1647946800-1647955800@www.deercreekcc.com
SUMMARY:Celebrate Fashion\, Flowers and Friends at a Garden Party
DESCRIPTION:You are invited to attend the Home and Garden Club’s annual spring luncheon and fashion show\, a Garden Party! Celebrate spring by mingling with friends\, enjoying lunch while viewing a fashion show\, and participating in raffle drawings of fabulous gift baskets and other items. \nThis fun event will be held on the Deercreek Clubhouse veranda (weather permitting). Be sure to wear your prettiest and most colorful spring outfit\, and use this opportunity to wear a lovely spring hat too! \nThe cost is $40/person and is open to the public. RSVP to deercreekhgc@gmail.com or contact Julia Watkins at 904-312-4017 to reserve your seat. \nAll proceeds from this event will benefit HGC projects and programs to enhance our Deercreek neighborhood.
URL:https://www.deercreekcc.com/events/polling-location/
LOCATION:FL
CATEGORIES:Home and Garden Club
ATTACH;FMTTYPE=image/jpeg:https://www.deercreekcc.com/wp-content/uploads/garden-party.jpg
ORGANIZER;CN="Julia Watkins":MAILTO:juleswatkins64@gmail.com
END:VEVENT
END:VCALENDAR