BEGIN:VCALENDAR
VERSION:2.0
PRODID:-//Deercreek Country Club Owners Association - ECPv6.15.20//NONSGML v1.0//EN
CALSCALE:GREGORIAN
METHOD:PUBLISH
X-WR-CALNAME:Deercreek Country Club Owners Association
X-ORIGINAL-URL:https://www.deercreekcc.com
X-WR-CALDESC:Events for Deercreek Country Club Owners Association
REFRESH-INTERVAL;VALUE=DURATION:PT1H
X-Robots-Tag:noindex
X-PUBLISHED-TTL:PT1H
BEGIN:VTIMEZONE
TZID:America/New_York
BEGIN:DAYLIGHT
TZOFFSETFROM:-0500
TZOFFSETTO:-0400
TZNAME:EDT
DTSTART:20200308T070000
END:DAYLIGHT
BEGIN:STANDARD
TZOFFSETFROM:-0400
TZOFFSETTO:-0500
TZNAME:EST
DTSTART:20201101T060000
END:STANDARD
BEGIN:DAYLIGHT
TZOFFSETFROM:-0500
TZOFFSETTO:-0400
TZNAME:EDT
DTSTART:20210314T070000
END:DAYLIGHT
BEGIN:STANDARD
TZOFFSETFROM:-0400
TZOFFSETTO:-0500
TZNAME:EST
DTSTART:20211107T060000
END:STANDARD
BEGIN:DAYLIGHT
TZOFFSETFROM:-0500
TZOFFSETTO:-0400
TZNAME:EDT
DTSTART:20220313T070000
END:DAYLIGHT
BEGIN:STANDARD
TZOFFSETFROM:-0400
TZOFFSETTO:-0500
TZNAME:EST
DTSTART:20221106T060000
END:STANDARD
END:VTIMEZONE
BEGIN:VEVENT
DTSTART;TZID=America/New_York:20210518T110000
DTEND;TZID=America/New_York:20210518T110000
DTSTAMP:20260424T043719
CREATED:20201229T184531Z
LAST-MODIFIED:20210425T162926Z
UID:10002056-1621335600-1621335600@www.deercreekcc.com
SUMMARY:End of the Year Luncheon
DESCRIPTION:May brings an end to our year of programs\, but this is one of our most important meetings of the year when we install the officers for next year. This meeting will be a meeting and luncheon which we hope will be able to be on the new patio – weather permitting.\n\nThe slate of officers standing for 2021-2022:\nPresident: Shelly Bingham\nVice President: Kathy Kleppinger\nSecretary: Jill Cole\nTreasurer: Julia Watkins\n\nPlease rsvp to deercreekhgc@gmail.com so that we can accommodate all who wish to attend.\n\nIn addition to the officers\, the club can only operate due to a large number of other volunteers on the various committees. As our 2020-2021 year comes to a close\, we are looking for volunteers for our Programs committee\, either as the Chair or as a committee member\, to plan and arrange our monthly meetings. This involves scoping out topics\, speakers\, and activities for our meetings\, and managing the monthly programs schedule.\n\nIf you think you’d like to help set up our programs for next year\, please contact Kathy Kleppinger via email at kwk033@comcast.net\, or text/phone at 610-780-9479 .
URL:https://www.deercreekcc.com/events/end-of-the-year-luncheon/
LOCATION:Deercreek Country Club
CATEGORIES:Home and Garden Club
ATTACH;FMTTYPE=image/jpeg:https://www.deercreekcc.com/wp-content/uploads/End-of-year-luncheon.jpg
END:VEVENT
END:VCALENDAR