BEGIN:VCALENDAR
VERSION:2.0
PRODID:-//Deercreek Country Club Owners Association - ECPv6.15.20//NONSGML v1.0//EN
CALSCALE:GREGORIAN
METHOD:PUBLISH
X-ORIGINAL-URL:https://www.deercreekcc.com
X-WR-CALDESC:Events for Deercreek Country Club Owners Association
REFRESH-INTERVAL;VALUE=DURATION:PT1H
X-Robots-Tag:noindex
X-PUBLISHED-TTL:PT1H
BEGIN:VTIMEZONE
TZID:America/New_York
BEGIN:DAYLIGHT
TZOFFSETFROM:-0500
TZOFFSETTO:-0400
TZNAME:EDT
DTSTART:20200308T070000
END:DAYLIGHT
BEGIN:STANDARD
TZOFFSETFROM:-0400
TZOFFSETTO:-0500
TZNAME:EST
DTSTART:20201101T060000
END:STANDARD
BEGIN:DAYLIGHT
TZOFFSETFROM:-0500
TZOFFSETTO:-0400
TZNAME:EDT
DTSTART:20210314T070000
END:DAYLIGHT
BEGIN:STANDARD
TZOFFSETFROM:-0400
TZOFFSETTO:-0500
TZNAME:EST
DTSTART:20211107T060000
END:STANDARD
BEGIN:DAYLIGHT
TZOFFSETFROM:-0500
TZOFFSETTO:-0400
TZNAME:EDT
DTSTART:20220313T070000
END:DAYLIGHT
BEGIN:STANDARD
TZOFFSETFROM:-0400
TZOFFSETTO:-0500
TZNAME:EST
DTSTART:20221106T060000
END:STANDARD
END:VTIMEZONE
BEGIN:VEVENT
DTSTART;TZID=America/New_York:20210420T110000
DTEND;TZID=America/New_York:20210420T133000
DTSTAMP:20260424T062500
CREATED:20210323T181622Z
LAST-MODIFIED:20210323T181622Z
UID:10002082-1618916400-1618925400@www.deercreekcc.com
SUMMARY:Fashion Show\, Soiree by the Sea
DESCRIPTION:Culminating an interesting and fun year\, the Home and Garden Club presents its annual spring fashion show\, Soiree by the Sea. Featuring fashions from Leila’s Boutique in Jax Beach and San Marco\, Leila’s offers trendy and chic casual fashions to tease our fancies for new spring clothes! \nHome and Garden Club members will be modeling outfits while everyone enjoys a delicious luncheon from Deercreek’s new chef. In addition\, a number of items (jewelry\, designer handbags and wonderful gift baskets containing wine and other gourmet goodies)\, will be raffled off. Raffle tickets are 1 for $5\, 3 for $10\, 7 for $20 and 20 for $50\, available at the luncheon. All raffle proceeds will go to the Home and Garden Club’s projects for beautifying our Deercreek neighborhood. \nSoiree by the Sea tickets are $40/person\, with a limit of 100 people for the event. Contact Julia Watkins (juleswatkins64@gmail.com or 904-312-4017) regarding ticket availability. Here’s looking forward to seeing everyone at this wonderful event!
URL:https://www.deercreekcc.com/events/fashion-show-soiree-by-the-sea/
LOCATION:Deercreek Country Club
CATEGORIES:Home and Garden Club
ATTACH;FMTTYPE=image/png:https://www.deercreekcc.com/wp-content/uploads/entry-175-fashionshowinvitation01.png
ORGANIZER;CN="Julia Watkins":MAILTO:juleswatkins64@gmail.com
END:VEVENT
END:VCALENDAR