BEGIN:VCALENDAR
VERSION:2.0
PRODID:-//Deercreek Country Club Owners Association - ECPv6.15.20//NONSGML v1.0//EN
CALSCALE:GREGORIAN
METHOD:PUBLISH
X-ORIGINAL-URL:https://www.deercreekcc.com
X-WR-CALDESC:Events for Deercreek Country Club Owners Association
REFRESH-INTERVAL;VALUE=DURATION:PT1H
X-Robots-Tag:noindex
X-PUBLISHED-TTL:PT1H
BEGIN:VTIMEZONE
TZID:America/New_York
BEGIN:DAYLIGHT
TZOFFSETFROM:-0500
TZOFFSETTO:-0400
TZNAME:EDT
DTSTART:20200308T070000
END:DAYLIGHT
BEGIN:STANDARD
TZOFFSETFROM:-0400
TZOFFSETTO:-0500
TZNAME:EST
DTSTART:20201101T060000
END:STANDARD
BEGIN:DAYLIGHT
TZOFFSETFROM:-0500
TZOFFSETTO:-0400
TZNAME:EDT
DTSTART:20210314T070000
END:DAYLIGHT
BEGIN:STANDARD
TZOFFSETFROM:-0400
TZOFFSETTO:-0500
TZNAME:EST
DTSTART:20211107T060000
END:STANDARD
BEGIN:DAYLIGHT
TZOFFSETFROM:-0500
TZOFFSETTO:-0400
TZNAME:EDT
DTSTART:20220313T070000
END:DAYLIGHT
BEGIN:STANDARD
TZOFFSETFROM:-0400
TZOFFSETTO:-0500
TZNAME:EST
DTSTART:20221106T060000
END:STANDARD
END:VTIMEZONE
BEGIN:VEVENT
DTSTART;TZID=America/New_York:20210119T100000
DTEND;TZID=America/New_York:20210119T113000
DTSTAMP:20260424T112834
CREATED:20201218T211337Z
LAST-MODIFIED:20210101T232504Z
UID:10002014-1611050400-1611055800@www.deercreekcc.com
SUMMARY:Home & Garden Club - Cooking Demonstration
DESCRIPTION:Tired of cooking\, cooking\, cooking … the same old thing?  Is one of your New Year’s resolutions to try some new recipes and/or new techniques? To jumpstart your 2021 cooking skills\, the January Home and Garden Club meeting features a cooking demonstration by the JAX Cooking Studio. Offering hands-on cooking classes at their cooking studio on Beach Boulevard\, the JAX Cooking Studio focuses on healthy\, plant-forward menus and makes cooking easy\, organized and fun! \nHome & Garden Club members and first-time guests are invited to attend this cooking demonstration on Tuesday\, January 19 at 10:00-11:30 am in the Deercreek Clubhouse Ballroom. There is no charge for the program; however if you’d like to order and eat lunch from the Country Club after the meeting\, the lunch cost is $14.00\, charged to your club member account or personal credit card. \nRSVP Now to deercreekhgc@gmail.com to confirm your attendance!  In your email reply\, please type either 1) Attend meeting only\, or 2) Attend meeting + lunch. \nWe look forward to seeing you there! As a reminder\, masks are required in public spaces unless eating.
URL:https://www.deercreekcc.com/events/cooking-demonstration-by-the-jax-cooking-studio/
LOCATION:Deercreek Country Club
CATEGORIES:Home and Garden Club
ATTACH;FMTTYPE=image/jpeg:https://www.deercreekcc.com/wp-content/uploads/jax-cooking-logo.jpg
END:VEVENT
END:VCALENDAR