BEGIN:VCALENDAR
VERSION:2.0
PRODID:-//Deercreek Country Club Owners Association - ECPv6.15.20//NONSGML v1.0//EN
CALSCALE:GREGORIAN
METHOD:PUBLISH
X-ORIGINAL-URL:https://www.deercreekcc.com
X-WR-CALDESC:Events for Deercreek Country Club Owners Association
REFRESH-INTERVAL;VALUE=DURATION:PT1H
X-Robots-Tag:noindex
X-PUBLISHED-TTL:PT1H
BEGIN:VTIMEZONE
TZID:America/New_York
BEGIN:DAYLIGHT
TZOFFSETFROM:-0500
TZOFFSETTO:-0400
TZNAME:EDT
DTSTART:20190310T070000
END:DAYLIGHT
BEGIN:STANDARD
TZOFFSETFROM:-0400
TZOFFSETTO:-0500
TZNAME:EST
DTSTART:20191103T060000
END:STANDARD
BEGIN:DAYLIGHT
TZOFFSETFROM:-0500
TZOFFSETTO:-0400
TZNAME:EDT
DTSTART:20200308T070000
END:DAYLIGHT
BEGIN:STANDARD
TZOFFSETFROM:-0400
TZOFFSETTO:-0500
TZNAME:EST
DTSTART:20201101T060000
END:STANDARD
BEGIN:DAYLIGHT
TZOFFSETFROM:-0500
TZOFFSETTO:-0400
TZNAME:EDT
DTSTART:20210314T070000
END:DAYLIGHT
BEGIN:STANDARD
TZOFFSETFROM:-0400
TZOFFSETTO:-0500
TZNAME:EST
DTSTART:20211107T060000
END:STANDARD
END:VTIMEZONE
BEGIN:VEVENT
DTSTART;TZID=America/New_York:20201027T100000
DTEND;TZID=America/New_York:20201027T100000
DTSTAMP:20260424T155858
CREATED:20200923T182502Z
LAST-MODIFIED:20200930T142911Z
UID:10002009-1603792800-1603792800@www.deercreekcc.com
SUMMARY:Home & Garden Club - FBI Community Outreach Program
DESCRIPTION:Did you know that the FBI has a field office in Jacksonville? The FBI Jacksonville field office provides many programs and services for North Florida counties and communities. An important part of the Jacksonville office is community outreach in the region\, and we are pleased to have Amanda Videll\, who leads the region’s Public Affairs and Community Outreach programs\, as the guest speaker for this meeting. Amanda will give us an overview of the FBI’s activities in North Florida and also talk about current media issues regarding child safety\, fraud and scams\, law enforcement/community relationships and election security. \nThis interesting program is on Tuesday\, October 27 at 10:00 am in the Deercreek Clubhouse Ballroom\, with optional catered lunch afterward in the meeting room. Home & Garden Club members and first-time guests are invited to attend this program. \nThere is no charge for the program; however the catered lunch is $14.00/person\, charged to members’ club accounts or personal credit card. \nRSVP Now to deercreekhgc@gmail.com to confirm your attendance! In your email reply\, please type either 1) Attend meeting only or 2) Attend meeting + catered lunch\nWe’re pleased to continue our monthly meetings\, under safe COVID-19 guidelines\, with the following changes: \n  \n\nMaximum 50 attendees; meetings in the Deercreek Clubhouse Ballroom\, tables of 5 seats each\nOptional after-meeting catered lunch in the ballroom for $14.00/person\, charged to members’ club accounts or personal credit card\nMasks required in the clubhouse facility except when eating or drinking\nNew procedure for attendance:\nAll attendees (H&G Club members and guests) MUST RSVP prior to the meeting to confirm their attendance and the optional lunch. To confirm\, send an email to deercreekhgc@gmail.com and type in your reply (1) Attend meeting only or (2) Attend meeting + catered lunch.
URL:https://www.deercreekcc.com/events/fbi-community-outreach-program/
LOCATION:Deercreek Clubhouse Ballroom\, FL\, United States
CATEGORIES:Home and Garden Club
ATTACH;FMTTYPE=image/jpeg:https://www.deercreekcc.com/wp-content/uploads/2020/02/HGC-logo.jpg
END:VEVENT
END:VCALENDAR