BEGIN:VCALENDAR
VERSION:2.0
PRODID:-//Deercreek Country Club Owners Association - ECPv6.15.20//NONSGML v1.0//EN
CALSCALE:GREGORIAN
METHOD:PUBLISH
X-ORIGINAL-URL:https://www.deercreekcc.com
X-WR-CALDESC:Events for Deercreek Country Club Owners Association
REFRESH-INTERVAL;VALUE=DURATION:PT1H
X-Robots-Tag:noindex
X-PUBLISHED-TTL:PT1H
BEGIN:VTIMEZONE
TZID:America/New_York
BEGIN:DAYLIGHT
TZOFFSETFROM:-0500
TZOFFSETTO:-0400
TZNAME:EDT
DTSTART:20230312T070000
END:DAYLIGHT
BEGIN:STANDARD
TZOFFSETFROM:-0400
TZOFFSETTO:-0500
TZNAME:EST
DTSTART:20231105T060000
END:STANDARD
BEGIN:DAYLIGHT
TZOFFSETFROM:-0500
TZOFFSETTO:-0400
TZNAME:EDT
DTSTART:20240310T070000
END:DAYLIGHT
BEGIN:STANDARD
TZOFFSETFROM:-0400
TZOFFSETTO:-0500
TZNAME:EST
DTSTART:20241103T060000
END:STANDARD
BEGIN:DAYLIGHT
TZOFFSETFROM:-0500
TZOFFSETTO:-0400
TZNAME:EDT
DTSTART:20250309T070000
END:DAYLIGHT
BEGIN:STANDARD
TZOFFSETFROM:-0400
TZOFFSETTO:-0500
TZNAME:EST
DTSTART:20251102T060000
END:STANDARD
END:VTIMEZONE
BEGIN:VEVENT
DTSTART;TZID=America/New_York:20240117T080000
DTEND;TZID=America/New_York:20240117T170000
DTSTAMP:20260420T104603
CREATED:20231214T192455Z
LAST-MODIFIED:20240314T191447Z
UID:10002436-1705478400-1705510800@www.deercreekcc.com
SUMMARY:Fine Appeals
DESCRIPTION:Fine Appeals Committee\n(Formerly Covenant Enforcement Committee) \nMeets the third Wednesday of each month @ 6:00 pm
URL:https://www.deercreekcc.com/events/fine-appeals-committee/2024-01-17/1/
LOCATION:Deercreek Clubhouse\, FL
CATEGORIES:Fine Appeals
END:VEVENT
BEGIN:VEVENT
DTSTART;TZID=America/New_York:20240117T180000
DTEND;TZID=America/New_York:20240117T180000
DTSTAMP:20260420T104603
CREATED:20231214T192455Z
LAST-MODIFIED:20240314T191447Z
UID:10002384-1705514400-1705514400@www.deercreekcc.com
SUMMARY:Fine Appeals
DESCRIPTION:Fine Appeals Committee\n(Formerly Covenant Enforcement Committee) \nMeets the third Wednesday of each month @ 6:00 pm
URL:https://www.deercreekcc.com/events/fine-appeals-committee/2024-01-17/2/
LOCATION:Deercreek Clubhouse\, FL
CATEGORIES:Fine Appeals
END:VEVENT
END:VCALENDAR