BEGIN:VCALENDAR
VERSION:2.0
PRODID:-//Deercreek Country Club Owners Association - ECPv6.15.20//NONSGML v1.0//EN
CALSCALE:GREGORIAN
METHOD:PUBLISH
X-ORIGINAL-URL:https://www.deercreekcc.com
X-WR-CALDESC:Events for Deercreek Country Club Owners Association
REFRESH-INTERVAL;VALUE=DURATION:PT1H
X-Robots-Tag:noindex
X-PUBLISHED-TTL:PT1H
BEGIN:VTIMEZONE
TZID:America/New_York
BEGIN:DAYLIGHT
TZOFFSETFROM:-0500
TZOFFSETTO:-0400
TZNAME:EDT
DTSTART:20230312T070000
END:DAYLIGHT
BEGIN:STANDARD
TZOFFSETFROM:-0400
TZOFFSETTO:-0500
TZNAME:EST
DTSTART:20231105T060000
END:STANDARD
BEGIN:DAYLIGHT
TZOFFSETFROM:-0500
TZOFFSETTO:-0400
TZNAME:EDT
DTSTART:20240310T070000
END:DAYLIGHT
BEGIN:STANDARD
TZOFFSETFROM:-0400
TZOFFSETTO:-0500
TZNAME:EST
DTSTART:20241103T060000
END:STANDARD
BEGIN:DAYLIGHT
TZOFFSETFROM:-0500
TZOFFSETTO:-0400
TZNAME:EDT
DTSTART:20250309T070000
END:DAYLIGHT
BEGIN:STANDARD
TZOFFSETFROM:-0400
TZOFFSETTO:-0500
TZNAME:EST
DTSTART:20251102T060000
END:STANDARD
END:VTIMEZONE
BEGIN:VEVENT
DTSTART;TZID=America/New_York:20241107T173000
DTEND;TZID=America/New_York:20241107T173000
DTSTAMP:20260419T135010
CREATED:20240910T153821Z
LAST-MODIFIED:20241029T163619Z
UID:10002588-1731000600-1731000600@www.deercreekcc.com
SUMMARY:DWA Annual Fashion Show
DESCRIPTION:Save the date! \nPut November 7th\, 2024 in your diaries ladies! Once again the Deercreek Women’s Alliance will be hosting their annual fundraising Fashion Show featuring the latest styles from Dillards\, and of course\, the amazing raffle. \nMore info to come later in September and October\, but make sure you keep the evening free!!
URL:https://www.deercreekcc.com/events/dwa-annual-fashion-show/
LOCATION:Deercreek Clubhouse\, FL
CATEGORIES:DWA
ATTACH;FMTTYPE=image/jpeg:https://www.deercreekcc.com/wp-content/uploads/fashionshow2024.jpg
END:VEVENT
END:VCALENDAR