BEGIN:VCALENDAR
VERSION:2.0
PRODID:-//Deercreek Country Club Owners Association - ECPv6.15.20//NONSGML v1.0//EN
CALSCALE:GREGORIAN
METHOD:PUBLISH
X-WR-CALNAME:Deercreek Country Club Owners Association
X-ORIGINAL-URL:https://www.deercreekcc.com
X-WR-CALDESC:Events for Deercreek Country Club Owners Association
REFRESH-INTERVAL;VALUE=DURATION:PT1H
X-Robots-Tag:noindex
X-PUBLISHED-TTL:PT1H
BEGIN:VTIMEZONE
TZID:America/New_York
BEGIN:DAYLIGHT
TZOFFSETFROM:-0500
TZOFFSETTO:-0400
TZNAME:EDT
DTSTART:20230312T070000
END:DAYLIGHT
BEGIN:STANDARD
TZOFFSETFROM:-0400
TZOFFSETTO:-0500
TZNAME:EST
DTSTART:20231105T060000
END:STANDARD
BEGIN:DAYLIGHT
TZOFFSETFROM:-0500
TZOFFSETTO:-0400
TZNAME:EDT
DTSTART:20240310T070000
END:DAYLIGHT
BEGIN:STANDARD
TZOFFSETFROM:-0400
TZOFFSETTO:-0500
TZNAME:EST
DTSTART:20241103T060000
END:STANDARD
BEGIN:DAYLIGHT
TZOFFSETFROM:-0500
TZOFFSETTO:-0400
TZNAME:EDT
DTSTART:20250309T070000
END:DAYLIGHT
BEGIN:STANDARD
TZOFFSETFROM:-0400
TZOFFSETTO:-0500
TZNAME:EST
DTSTART:20251102T060000
END:STANDARD
END:VTIMEZONE
BEGIN:VEVENT
DTSTART;TZID=America/New_York:20240310T113000
DTEND;TZID=America/New_York:20240310T113000
DTSTAMP:20260420T025740
CREATED:20240122T151638Z
LAST-MODIFIED:20240202T184910Z
UID:10002405-1710070200-1710070200@www.deercreekcc.com
SUMMARY:Shamrock Scramble 2024
DESCRIPTION:Please join us as the Deercreek Women’s Alliance hosts its annual golf tournament\, and have fun whilst raising funds for the charities that we support. \nThe format will be 4-person teams – men\, women & mixed teams are all welcome\, and as always\, there will be a fabulous Irish-themed meal\, and a raffle to follow. \nThe registration form is available below and in the Pro Shop at the Club. \nWe will also be looking for hole sponsors (the letter will also be on the website and at the Pro Shop)\, donations and prizes for the raffle and if you have any questions\, then please contact one of the Board members. \n			\n			\n				\n				\n				\n				\n			\n				\n				\n				\n				\n				\n				\n				Registration\n			\n			\n				\n				\n				\n				\n				\n				Sponsorship
URL:https://www.deercreekcc.com/events/shamrock-scramble-2024/
LOCATION:FL
CATEGORIES:DWA
ATTACH;FMTTYPE=image/jpeg:https://www.deercreekcc.com/wp-content/uploads/Shamrock-scramble.jpg
END:VEVENT
END:VCALENDAR