BEGIN:VCALENDAR
VERSION:2.0
PRODID:-//Deercreek Country Club Owners Association - ECPv6.15.20//NONSGML v1.0//EN
CALSCALE:GREGORIAN
METHOD:PUBLISH
X-ORIGINAL-URL:https://www.deercreekcc.com
X-WR-CALDESC:Events for Deercreek Country Club Owners Association
REFRESH-INTERVAL;VALUE=DURATION:PT1H
X-Robots-Tag:noindex
X-PUBLISHED-TTL:PT1H
BEGIN:VTIMEZONE
TZID:America/New_York
BEGIN:DAYLIGHT
TZOFFSETFROM:-0500
TZOFFSETTO:-0400
TZNAME:EDT
DTSTART:20210314T070000
END:DAYLIGHT
BEGIN:STANDARD
TZOFFSETFROM:-0400
TZOFFSETTO:-0500
TZNAME:EST
DTSTART:20211107T060000
END:STANDARD
BEGIN:DAYLIGHT
TZOFFSETFROM:-0500
TZOFFSETTO:-0400
TZNAME:EDT
DTSTART:20220313T070000
END:DAYLIGHT
BEGIN:STANDARD
TZOFFSETFROM:-0400
TZOFFSETTO:-0500
TZNAME:EST
DTSTART:20221106T060000
END:STANDARD
BEGIN:DAYLIGHT
TZOFFSETFROM:-0500
TZOFFSETTO:-0400
TZNAME:EDT
DTSTART:20230312T070000
END:DAYLIGHT
BEGIN:STANDARD
TZOFFSETFROM:-0400
TZOFFSETTO:-0500
TZNAME:EST
DTSTART:20231105T060000
END:STANDARD
END:VTIMEZONE
BEGIN:VEVENT
DTSTART;TZID=America/New_York:20221110T173000
DTEND;TZID=America/New_York:20221110T213000
DTSTAMP:20260421T045102
CREATED:20220927T190923Z
LAST-MODIFIED:20221026T141717Z
UID:10002288-1668101400-1668115800@www.deercreekcc.com
SUMMARY:Fashion Show
DESCRIPTION:Gather your friends and get a table together for this fabulous event. This is one of our biggest fundraisers and we need your help to make it a success. \nDuring the social hour\, you can review the wonderful raffle prizes\, and purchase your raffle tickets. \nDinner starts at 6:30pm\, with the fashion show at 7pm. \nTickets are $45 and can be purchased from any of our Board members or contact Donna Bernard (dmbernard@yahoo.com or 904-504-4844). \nThe evening will also kick off our HOLIDAY GIFT DRIVE – see the separate article for information on this – and a box will be available at the fashion show for you to drop off the cards\, if you wish. \nLet’s make this our most successful fundraiser yet!
URL:https://www.deercreekcc.com/events/fashion-show/
LOCATION:Deercreek Country Club
CATEGORIES:DWA
ATTACH;FMTTYPE=image/jpeg:https://www.deercreekcc.com/wp-content/uploads/putting-on-the-ritz.jpg
ORGANIZER;CN="Julia Watkins":MAILTO:juleswatkins64@gmail.com
END:VEVENT
END:VCALENDAR