BEGIN:VCALENDAR
VERSION:2.0
PRODID:-//Deercreek Country Club Owners Association - ECPv6.15.20//NONSGML v1.0//EN
CALSCALE:GREGORIAN
METHOD:PUBLISH
X-WR-CALNAME:Deercreek Country Club Owners Association
X-ORIGINAL-URL:https://www.deercreekcc.com
X-WR-CALDESC:Events for Deercreek Country Club Owners Association
REFRESH-INTERVAL;VALUE=DURATION:PT1H
X-Robots-Tag:noindex
X-PUBLISHED-TTL:PT1H
BEGIN:VTIMEZONE
TZID:America/New_York
BEGIN:DAYLIGHT
TZOFFSETFROM:-0500
TZOFFSETTO:-0400
TZNAME:EDT
DTSTART:20210314T070000
END:DAYLIGHT
BEGIN:STANDARD
TZOFFSETFROM:-0400
TZOFFSETTO:-0500
TZNAME:EST
DTSTART:20211107T060000
END:STANDARD
BEGIN:DAYLIGHT
TZOFFSETFROM:-0500
TZOFFSETTO:-0400
TZNAME:EDT
DTSTART:20220313T070000
END:DAYLIGHT
BEGIN:STANDARD
TZOFFSETFROM:-0400
TZOFFSETTO:-0500
TZNAME:EST
DTSTART:20221106T060000
END:STANDARD
BEGIN:DAYLIGHT
TZOFFSETFROM:-0500
TZOFFSETTO:-0400
TZNAME:EDT
DTSTART:20230312T070000
END:DAYLIGHT
BEGIN:STANDARD
TZOFFSETFROM:-0400
TZOFFSETTO:-0500
TZNAME:EST
DTSTART:20231105T060000
END:STANDARD
END:VTIMEZONE
BEGIN:VEVENT
DTSTART;TZID=America/New_York:20220306T110000
DTEND;TZID=America/New_York:20220306T170000
DTSTAMP:20260421T173842
CREATED:20220121T152848Z
LAST-MODIFIED:20220124T221516Z
UID:10002036-1646564400-1646586000@www.deercreekcc.com
SUMMARY:DWA Shamrock Scramble 2022
DESCRIPTION:Please join us as the Deercreek Women’s Alliance hosts its annual golf tournament\, and have fun whilst raising funds for the charities that we support. \nThe format will be 4-person teams – men\, women & mixed teams are all welcome – and as always\, there will be a fabulous Irish-themed meal\, and a raffle to follow. Please complete and return the attached reservation form to reserve your team. This form will also be available on the HOA website\, under the DWA page\, and in the Pro Shop at the club. \nWe are also looking for hole sponsors\, donations\, and prizes for the raffle. \nIf you have any questions\, then please contact one of the DWA Board members\n			\n			\n				\n				\n				\n				\n			\n				\n				\n				\n				\n				\n				\n				Sponsor Letter\n			\n			\n				\n				\n				\n				\n				\n				Registration
URL:https://www.deercreekcc.com/events/dwa-shamrock-scramble-2022/
LOCATION:Deercreek Golf Club
CATEGORIES:DWA
ATTACH;FMTTYPE=image/jpeg:https://www.deercreekcc.com/wp-content/uploads/Shamrock-scramble.jpg
ORGANIZER;CN="Julia Watkins":MAILTO:juleswatkins64@gmail.com
END:VEVENT
BEGIN:VEVENT
DTSTART;TZID=America/New_York:20220324T173000
DTEND;TZID=America/New_York:20220324T200000
DTSTAMP:20260421T173842
CREATED:20220125T222732Z
LAST-MODIFIED:20220324T171135Z
UID:10002038-1648143000-1648152000@www.deercreekcc.com
SUMMARY:DWA Porch Night
DESCRIPTION:This is a great time to come up to socialize\, meet the DWA board\, learn about the charities we support\, including two new ones for 2022\, and take the opportunity to renew your membership. If you’re not already a member\, come and join the heart of Deercreek! \nWe don’t ask much – just do as much as you can\, when you can\, if you can\, and meet a fabulous group of women who just want to help improve the lives of others in the Jacksonville area!
URL:https://www.deercreekcc.com/events/dwa-porch-night/
LOCATION:Deercreek Country Club
CATEGORIES:DWA
ATTACH;FMTTYPE=image/jpeg:https://www.deercreekcc.com/wp-content/uploads/wine-night.jpg
ORGANIZER;CN="Julia Watkins":MAILTO:juleswatkins64@gmail.com
END:VEVENT
END:VCALENDAR