BEGIN:VCALENDAR
VERSION:2.0
PRODID:-//Deercreek Country Club Owners Association - ECPv6.15.20//NONSGML v1.0//EN
CALSCALE:GREGORIAN
METHOD:PUBLISH
X-WR-CALNAME:Deercreek Country Club Owners Association
X-ORIGINAL-URL:https://www.deercreekcc.com
X-WR-CALDESC:Events for Deercreek Country Club Owners Association
REFRESH-INTERVAL;VALUE=DURATION:PT1H
X-Robots-Tag:noindex
X-PUBLISHED-TTL:PT1H
BEGIN:VTIMEZONE
TZID:America/New_York
BEGIN:DAYLIGHT
TZOFFSETFROM:-0500
TZOFFSETTO:-0400
TZNAME:EDT
DTSTART:20200308T070000
END:DAYLIGHT
BEGIN:STANDARD
TZOFFSETFROM:-0400
TZOFFSETTO:-0500
TZNAME:EST
DTSTART:20201101T060000
END:STANDARD
BEGIN:DAYLIGHT
TZOFFSETFROM:-0500
TZOFFSETTO:-0400
TZNAME:EDT
DTSTART:20210314T070000
END:DAYLIGHT
BEGIN:STANDARD
TZOFFSETFROM:-0400
TZOFFSETTO:-0500
TZNAME:EST
DTSTART:20211107T060000
END:STANDARD
BEGIN:DAYLIGHT
TZOFFSETFROM:-0500
TZOFFSETTO:-0400
TZNAME:EDT
DTSTART:20220313T070000
END:DAYLIGHT
BEGIN:STANDARD
TZOFFSETFROM:-0400
TZOFFSETTO:-0500
TZNAME:EST
DTSTART:20221106T060000
END:STANDARD
END:VTIMEZONE
BEGIN:VEVENT
DTSTART;TZID=America/New_York:20211102T180000
DTEND;TZID=America/New_York:20211102T190000
DTSTAMP:20260421T215954
CREATED:20210628T192739Z
LAST-MODIFIED:20210730T021444Z
UID:10001952-1635876000-1635879600@www.deercreekcc.com
SUMMARY:Communications
DESCRIPTION:Check the newsletter for location and/or teleconferencing information.
URL:https://www.deercreekcc.com/events/communications-3/2021-11-02/
LOCATION:FL
CATEGORIES:Communications
END:VEVENT
END:VCALENDAR