BEGIN:VCALENDAR
VERSION:2.0
PRODID:-//Deercreek Country Club Owners Association - ECPv6.15.20//NONSGML v1.0//EN
CALSCALE:GREGORIAN
METHOD:PUBLISH
X-ORIGINAL-URL:https://www.deercreekcc.com
X-WR-CALDESC:Events for Deercreek Country Club Owners Association
REFRESH-INTERVAL;VALUE=DURATION:PT1H
X-Robots-Tag:noindex
X-PUBLISHED-TTL:PT1H
BEGIN:VTIMEZONE
TZID:America/New_York
BEGIN:DAYLIGHT
TZOFFSETFROM:-0500
TZOFFSETTO:-0400
TZNAME:EDT
DTSTART:20220313T070000
END:DAYLIGHT
BEGIN:STANDARD
TZOFFSETFROM:-0400
TZOFFSETTO:-0500
TZNAME:EST
DTSTART:20221106T060000
END:STANDARD
BEGIN:DAYLIGHT
TZOFFSETFROM:-0500
TZOFFSETTO:-0400
TZNAME:EDT
DTSTART:20230312T070000
END:DAYLIGHT
BEGIN:STANDARD
TZOFFSETFROM:-0400
TZOFFSETTO:-0500
TZNAME:EST
DTSTART:20231105T060000
END:STANDARD
BEGIN:DAYLIGHT
TZOFFSETFROM:-0500
TZOFFSETTO:-0400
TZNAME:EDT
DTSTART:20240310T070000
END:DAYLIGHT
BEGIN:STANDARD
TZOFFSETFROM:-0400
TZOFFSETTO:-0500
TZNAME:EST
DTSTART:20241103T060000
END:STANDARD
END:VTIMEZONE
BEGIN:VEVENT
DTSTART;TZID=America/New_York:20230110T180000
DTEND;TZID=America/New_York:20230110T180000
DTSTAMP:20260423T094244
CREATED:20211229T191707Z
LAST-MODIFIED:20221222T164245Z
UID:10002242-1673373600-1673373600@www.deercreekcc.com
SUMMARY:Annual Meeting
DESCRIPTION:All owners will receive the meeting information\, proxy form and ballot form\, together with the bios of all of the candidates\, by either mail or email. Please ensure that you return the proxy and ballot forms as requested. Anyone wishing to join the meeting may do so. \nhttps://www.deercreekcc.com//board-of-directors
URL:https://www.deercreekcc.com/events/annual-meeting/
LOCATION:Deercreek Country Club
CATEGORIES:DCCOA Board
END:VEVENT
BEGIN:VEVENT
DTSTART;TZID=America/New_York:20230124T180000
DTEND;TZID=America/New_York:20230124T180000
DTSTAMP:20260423T094244
CREATED:20211229T191228Z
LAST-MODIFIED:20221130T160850Z
UID:10002232-1674583200-1674583200@www.deercreekcc.com
SUMMARY:DCCOA Board
DESCRIPTION:Check the newsletter for location and/or teleconferencing information.
URL:https://www.deercreekcc.com/events/dccoa-board-2-2022-11-29/2023-01-24/
LOCATION:Deercreek Clubhouse\, FL
CATEGORIES:DCCOA Board
END:VEVENT
END:VCALENDAR